BEGIN:VCALENDAR
VERSION:2.0
PRODID:-//https://hcc.nl///NONSGML kigkonsult.se iCalcreator 2.10.15//
METHOD:PUBLISH
BEGIN:VEVENT
UID:20260423T230248UTC-0216OiuLEV@https://hcc.nl/
DTSTAMP:20260423T230248Z
DESCRIPTION:Onze inloop is bedoeld voor iedereen die praktische hulp en ond
 ersteuning nodig heeft bij het gebruik van uw tablet en smartphone. https:
 //hcc.nl/rss-events/evenement/684-inloop-digitale-hulp
DTSTART:20231010T110000Z
DTEND:20231010T130000Z
LOCATION:Bibliotheek Leerdam (Meent 40\, 4141 AC Leerdam)
SUMMARY:Inloop digitale hulp
URL:https://hcc.nl/rss-events/evenement/684-inloop-digitale-hulp
END:VEVENT
BEGIN:VEVENT
UID:20260423T230248UTC-0217fa486l@https://hcc.nl/
DTSTAMP:20260423T230248Z
DESCRIPTION:Onze inloop is bedoeld voor iedereen die praktische hulp en ond
 ersteuning nodig heeft bij het gebruik van uw digitale apparatuur\, zoals 
 desktop\, laptop\, tablet en smartphone.Te denken valt aan:• opschonen van
  uw computer• updates downloaden• apps installeren• accounts aanmaken op u
 w apparaten(breng dan wel uw gegevens mee)• e-mail problemen.• instellinge
 n aanpassenOnze deskundigen zitten klaar om u met raad en daad terzijde te
  staan. https://hcc.nl/rss-events/evenement/686-inloop-digitale-hulp
DTSTART:20231010T113000Z
DTEND:20231010T140000Z
LOCATION:Activiteitencentrum Orka  (Broekakkerseweg 1\, 5641 PC Eindhoven)
SUMMARY:Inloop digitale hulp
URL:https://hcc.nl/rss-events/evenement/686-inloop-digitale-hulp
END:VEVENT
BEGIN:VEVENT
UID:20260423T230248UTC-0218PEHLKV@https://hcc.nl/
DTSTAMP:20260423T230248Z
DESCRIPTION:Onze inloop is bedoeld voor iedereen die praktische hulp en ond
 ersteuning nodig heeft bij het gebruik van uw digitale apparatuur\, zoals 
 desktop\, laptop\, tablet en smartphone.Te denken valt aan:• opschonen van
  uw computer• updates downloaden• apps installeren• accounts aanmaken op u
 w apparaten(breng dan wel uw gegevens mee)• e-mail problemen.• instellinge
 n aanpassenOnze deskundigen zitten klaar om u met raad en daad terzijde te
  staan. https://hcc.nl/rss-events/evenement/1247-inloop-digitale-hulp
DTSTART:20231010T080000Z
DTEND:20231010T100000Z
LOCATION:Bibliotheek Hardinxveld-Giessendam (Pietersweer 34\, 3371 PN Hardi
 nxveld-Giessendam)
SUMMARY:Inloop digitale hulp
URL:https://hcc.nl/rss-events/evenement/1247-inloop-digitale-hulp
END:VEVENT
BEGIN:VEVENT
UID:20260423T230248UTC-0219VVb3us@https://hcc.nl/
DTSTAMP:20260423T230248Z
DESCRIPTION:Maandelijkse presentatie van de Seniorenacademie. Voor meer inf
 o zie de website en de nieuwsbrief. https://hcc.nl/rss-events/evenement/16
 39-maandelijkse-presentatie-van-de-seniorenacademie
DTSTART:20231010T080000Z
DTEND:20231010T100000Z
LOCATION:Activiteitencentrum Orka  (Broekakkerseweg 1\, 5641 PC Eindhoven)
SUMMARY:Maandelijkse presentatie van de Seniorenacademie
URL:https://hcc.nl/rss-events/evenement/1639-maandelijkse-presentatie-van-d
 e-seniorenacademie
END:VEVENT
BEGIN:VEVENT
UID:20260423T230248UTC-0219XeBvum@https://hcc.nl/
DTSTAMP:20260423T230248Z
DESCRIPTION:Onze inloop is bedoeld voor iedereen die praktische hulp en ond
 ersteuning nodig heeft bij het gebruik van uw tablet en smartphone. https:
 //hcc.nl/rss-events/evenement/1684-inloop-digitale-hulp
DTSTART:20231010T110000Z
DTEND:20231010T130000Z
LOCATION:Bibliotheek Leerdam (Meent 40\, 4141 AC Leerdam)
SUMMARY:Inloop digitale hulp
URL:https://hcc.nl/rss-events/evenement/1684-inloop-digitale-hulp
END:VEVENT
BEGIN:VEVENT
UID:20260423T230248UTC-0220dK9rRP@https://hcc.nl/
DTSTAMP:20260423T230248Z
DESCRIPTION:Onze inloop is bedoeld voor iedereen die praktische hulp en ond
 ersteuning nodig heeft bij het gebruik van uw tablet en smartphone.Te denk
 en valt aan:- apps installeren- accounts aanmaken op uw apparaten (breng d
 an uw inloggegevens mee)- e-mail problemen.- instellingen aanpassenZowel v
 oor Apple\, Android als Windows!Onze deskundigen zitten klaar om u met raa
 d en daad terzijde te staan. https://hcc.nl/rss-events/evenement/2009-inlo
 op-digitale-hulp
DTSTART:20231010T110000Z
DTEND:20231010T130000Z
LOCATION:Bibliotheek Leerdam (Meent 40\, 4141 AC Leerdam)
SUMMARY:Inloop digitale hulp
URL:https://hcc.nl/rss-events/evenement/2009-inloop-digitale-hulp
END:VEVENT
BEGIN:VEVENT
UID:20260423T230248UTC-0221MoEMJH@https://hcc.nl/
DTSTAMP:20260423T230248Z
DESCRIPTION:Je bent elke dinsdag- en donderdagavond welkom in onze locatie 
 NewTechPark\nDe dinsdag is voor de makers\, 3D-ontwerpen\, scannen e print
 en\, vaak zijn dat ook liefhebbers van robotica\, drones en programmeren.A
 ls je dinsdagavond tussen 19.00 en 20.00 uur inlogt met Jitsi\, kun je ken
 nismaken met hcc!3D. Soms kun je desgevraagd ook online meedoen met een ac
 tiviteit.\nDat kan dan op:   https://wij.hcc.nl/3D (Alleen toegang als je 
 zichtbaar bent met voor- en achternaam. ) https://hcc.nl/rss-events/evenem
 ent/2095-bijeenkomst-hcc-3d
DTSTART:20231010T170000Z
DTEND:20231010T200000Z
LOCATION:NewTechPark (Vlijtseweg 148\, 7317 AK Apeldoorn)
SUMMARY:Bijeenkomst HCC!3d
URL:https://hcc.nl/rss-events/evenement/2095-bijeenkomst-hcc-3d
END:VEVENT
BEGIN:VEVENT
UID:20260423T230248UTC-0222SpzFH5@https://hcc.nl/
DTSTAMP:20260423T230248Z
DESCRIPTION:.. https://hcc.nl/rss-events/evenement/2818-bijeenkomst-hcc-3d
DTSTART:20231010T170000Z
DTEND:20231010T200000Z
LOCATION:NewTechPark (Vlijtseweg 148\, 7317 AK Apeldoorn)
SUMMARY:Bijeenkomst HCC!3d
URL:https://hcc.nl/rss-events/evenement/2818-bijeenkomst-hcc-3d
END:VEVENT
BEGIN:VEVENT
UID:20260423T230248UTC-0222MOovFV@https://hcc.nl/
DTSTAMP:20260423T230248Z
DESCRIPTION:Rondom het overlijden duiken een groot aantal mogelijke problem
 en op. Omdat in die moeilijke dagen toch al zoveel op de achterblijver(s) 
 afkomt\, probeert deze lezing wat hulp te geven\, vooral t.a.v. alle zaken
  die nu al geregeld kunnen worden.\n  https://hcc.nl/rss-events/evenement/
 3007-digitale-erfenis
DTSTART:20231010T080000Z
DTEND:20231010T100000Z
LOCATION:Activiteitencentrum Orka  (Broekakkerseweg 1\, 5641 PC Eindhoven)
SUMMARY:Digitale Erfenis
URL:https://hcc.nl/rss-events/evenement/3007-digitale-erfenis
END:VEVENT
BEGIN:VEVENT
UID:20260423T230248UTC-0223MvJhUU@https://hcc.nl/
DTSTAMP:20260423T230248Z
DESCRIPTION:Na de vakantie eerst gezellig wat bijpraten en eens kijken welk
 e activiteiten we gaan houden in de komende maanden. https://hcc.nl/rss-ev
 ents/evenement/3012-fysieke-bijeenkomst-wijkcentrum-angelslo
DTSTART:20231010T123000Z
DTEND:20231010T150000Z
LOCATION: ()
SUMMARY:Fysieke bijeenkomst Wijkcentrum Angelslo
URL:https://hcc.nl/rss-events/evenement/3012-fysieke-bijeenkomst-wijkcentru
 m-angelslo
END:VEVENT
BEGIN:VEVENT
UID:20260423T230248UTC-0224nRmurM@https://hcc.nl/
DTSTAMP:20260423T230248Z
DESCRIPTION:Rondom het overlijden duiken een groot aantal mogelijke problem
 en op. Omdat in die moeilijke dagen toch al zoveel op de achterblijver(s) 
 afkomt\, probeert deze lezing wat hulp te geven\, vooral t.a.v. alle zaken
  die nu al geregeld kunnen worden. https://hcc.nl/rss-events/evenement/305
 9-digitale-erfenis
DTSTART:20231010T113000Z
DTEND:20231010T133000Z
LOCATION:Dorpshuis Badhoevedorp (Snelliuslaan 35\, 1171 CZ Badhoevedorp)
SUMMARY:Digitale Erfenis
URL:https://hcc.nl/rss-events/evenement/3059-digitale-erfenis
END:VEVENT
BEGIN:VEVENT
UID:20260423T230248UTC-0225emPUwP@https://hcc.nl/
DTSTAMP:20260423T230248Z
DESCRIPTION:Rondom het overlijden duiken een groot aantal mogelijke problem
 en op. Omdat in die moeilijke dagen toch al zoveel op de achterblijver(s) 
 afkomt\, probeert deze lezing wat hulp te geven\, vooral t.a.v. alle zaken
  die nu al geregeld kunnen worden. https://hcc.nl/rss-events/evenement/306
 9-digitale-erfenis
DTSTART:20231010T113000Z
DTEND:20231010T140000Z
LOCATION:Wijkgebouw Bijdorp (Bijdorplaan 471\, 2713 SZ Zoetermeer)
SUMMARY:Digitale Erfenis
URL:https://hcc.nl/rss-events/evenement/3069-digitale-erfenis
END:VEVENT
BEGIN:VEVENT
UID:20260423T230248UTC-0226VuD4Tx@https://hcc.nl/
DTSTAMP:20260423T230248Z
DESCRIPTION:Onze inloop is bedoeld voor iedereen die praktische hulp en ond
 ersteuning nodig heeft bij het gebruik van uw digitale apparatuur\, zoals 
 desktop\, laptop\, tablet en smartphone.\nTe denken valt aan:\n opschonen 
 van uw computer. updates downloaden. apps installeren. accounts aanmaken o
 p uw apparaten (breng dan wel uw gegevens mee). e-mail problemen. instelli
 ngen aanpassen.\nOnze  deskundigen zitten klaar om u met raad en daad terz
 ijde te staan. https://hcc.nl/rss-events/evenement/3101-inloop-digitale-hu
 lp
DTSTART:20231010T113000Z
DTEND:20231010T140000Z
LOCATION:Wijkgebouw Bijdorp (Bijdorplaan 471\, 2713 SZ Zoetermeer)
SUMMARY:Inloop Digitale Hulp
URL:https://hcc.nl/rss-events/evenement/3101-inloop-digitale-hulp
END:VEVENT
BEGIN:VEVENT
UID:20260423T230248UTC-02274IiaSP@https://hcc.nl/
DTSTAMP:20260423T230248Z
DESCRIPTION:Dinsdag 10 oktober a.s. houdt HCC! Midden-Brabant weer clubavon
 d. Op deze avond zijn al onze werkgroep aanwezig voor uw vragen\, probleme
 n of zo maar een gezellig praatje.\nInmiddels is onze 3D-print werkgroep\,
  onder aansturing van Peter van Bijsterveldt\, ook op volle stoom gekomen.
  Daar wodt nu een begin gemaakt met verkenning van het teken- en ontwerppr
 ogramma 'OnShape'. Geïnteresseerden kunnen gewoon bij deze werkgroep aansc
 huiven.\nUieteraard staat op deze avond ook weer de koffie klaar.\nU bent 
 van harte welkom. https://hcc.nl/rss-events/evenement/3117-clubbijeenkomst
 -hcc-midden-brabant-inloop
DTSTART:20231010T180000Z
DTEND:20231010T201500Z
LOCATION:De Goede Herder (Isidorusstraat 6\, 5042 JJ Tilburg)
SUMMARY:Clubbijeenkomst HCC! Midden-Brabant\; inloop
URL:https://hcc.nl/rss-events/evenement/3117-clubbijeenkomst-hcc-midden-bra
 bant-inloop
END:VEVENT
BEGIN:VEVENT
UID:20260423T230248UTC-0228wXLvJC@https://hcc.nl/
DTSTAMP:20260423T230248Z
DESCRIPTION:De verwachting is dat de uitrol in oktober zal starten.\nDe pre
 sentatie van september over computeronderhoud was daar een voorbode van.\n
 Hoog tijd een en ander voor te bereiden. In de presentatie laten we zien: 
 wat en hoe.\nMaar misschien nog interessanter: welke nieuwigheden staan ge
 pland?\nKom naar de presentatie en ervaar het.\nPresentator is Ger Stok\nZ
 aal open 13.00 uur\nStart presentatie 13.30 uur\n  https://hcc.nl/rss-even
 ts/evenement/3177-windows-11-23h2-is-in-aantocht
DTSTART:20231010T110000Z
DTEND:20231010T140000Z
LOCATION:Speeltuin Pascal (Pascalweg 12\, 3076 JP Rotterdam)
SUMMARY:Windows 11 23H2 is in aantocht
URL:https://hcc.nl/rss-events/evenement/3177-windows-11-23h2-is-in-aantocht
END:VEVENT
END:VCALENDAR
