BEGIN:VCALENDAR
VERSION:2.0
PRODID:-//https://hcc.nl///NONSGML kigkonsult.se iCalcreator 2.10.15//
METHOD:PUBLISH
BEGIN:VEVENT
UID:20260423T175824UTC-8686uTkxbZ@https://hcc.nl/
DTSTAMP:20260423T175824Z
DESCRIPTION:Onze inloop is bedoeld voor iedereen die praktische hulp en ond
 ersteuning nodig heeft bij het gebruik van uw tablet en smartphone.\nTe de
 nken valt aan:\n- apps installeren- accounts aanmaken op uw apparaten(bren
 g dan uw inloggegevens mee)- E-mail problemen.- Instellingen aanpassenZowe
 l voor Apple\, Android als Windows!\nOnze deskundigen zitten klaar om u me
 t raad en daad terzijde te staan. https://hcc.nl/rss-events/evenement/1411
 -inloop-digitale-hulp
DTSTART:20231009T173000Z
DTEND:20231009T200000Z
LOCATION:Huis van de Wijk Oostgaarde (De Linie 5\, 2905 AX Capelle aan den 
 IJssel)
SUMMARY:Inloop digitale hulp
URL:https://hcc.nl/rss-events/evenement/1411-inloop-digitale-hulp
END:VEVENT
BEGIN:VEVENT
UID:20260423T175824UTC-8687dLz1K3@https://hcc.nl/
DTSTAMP:20260423T175824Z
DESCRIPTION:Heeft u een vraag over of een probleem met uw Android apparaat?
  Onze deskundigen zitten klaar om u te helpen.\n\ninstellingen aanpassen\n
 downloaden van apps\nupdaten van apps\ninstellen van e-mail\n\nEn nog veel
  meer! https://hcc.nl/rss-events/evenement/2121-inloop-android-hulp
DTSTART:20231009T180000Z
DTEND:20231009T200000Z
LOCATION:Huis van de Wijk Oostgaarde (De Linie 5\, 2905 AX Capelle aan den 
 IJssel)
SUMMARY:Inloop Android hulp
URL:https://hcc.nl/rss-events/evenement/2121-inloop-android-hulp
END:VEVENT
BEGIN:VEVENT
UID:20260423T175824UTC-8687x4N6Lf@https://hcc.nl/
DTSTAMP:20260423T175824Z
DESCRIPTION:Rondom het overlijden duiken een groot aantal mogelijke problem
 en op. Omdat in die moeilijke dagen toch al zoveel op de achterblijver(s) 
 afkomt\, probeert deze lezing wat hulp te geven\, vooral t.a.v. alle zaken
  die nu al geregeld kunnen worden. https://hcc.nl/rss-events/evenement/289
 2-digitale-erfenis
DTSTART:20231009T121500Z
DTEND:20231009T140000Z
LOCATION:Wijkcentrum Rozenobel (Dukatenplein 2\, 4205 GE Gorinchem)
SUMMARY:Digitale Erfenis
URL:https://hcc.nl/rss-events/evenement/2892-digitale-erfenis
END:VEVENT
BEGIN:VEVENT
UID:20260423T175824UTC-8688HPOdUx@https://hcc.nl/
DTSTAMP:20260423T175824Z
DESCRIPTION:Rondom het overlijden duiken een groot aantal mogelijke problem
 en op. Omdat in die moeilijke dagen toch al zoveel op de achterblijver(s) 
 afkomt\, probeert deze lezing wat hulp te geven\, vooral t.a.v. alle zaken
  die nu al geregeld kunnen worden. https://hcc.nl/rss-events/evenement/307
 1-digitale-erfenis
DTSTART:20231009T120000Z
DTEND:20231009T140000Z
LOCATION:Oranjehof (Hamsestraat 2\, 6629 KT Appeltern)
SUMMARY:Digitale Erfenis
URL:https://hcc.nl/rss-events/evenement/3071-digitale-erfenis
END:VEVENT
BEGIN:VEVENT
UID:20260423T175824UTC-8688TrDxtJ@https://hcc.nl/
DTSTAMP:20260423T175824Z
DESCRIPTION: https://hcc.nl/rss-events/evenement/3111-bijeenkomst-3d-werkgr
 oep-vlissingen
DTSTART:20231009T180000Z
DTEND:20231009T200000Z
LOCATION:De Burgerij Campus de Ruyter  (Van Hogendorpweg 58\, 4384 HA Vliss
 ingen)
SUMMARY:Bijeenkomst 3D werkgroep - Vlissingen
URL:https://hcc.nl/rss-events/evenement/3111-bijeenkomst-3d-werkgroep-vliss
 ingen
END:VEVENT
BEGIN:VEVENT
UID:20260423T175824UTC-8689fnhslK@https://hcc.nl/
DTSTAMP:20260423T175824Z
DESCRIPTION:De verwachting is dat de uitrol in oktober zal starten.\nDe pre
 sentatie van september over computeronderhoud was daar een voorbode van.\n
 Hoog tijd een en ander voor te bereiden. In de presentatie laten we zien: 
 wat en hoe.\nMaar misschien nog interessanter: welke nieuwigheden staan ge
 pland?\nKom naar de presentatie en ervaar het.\nPresentator is Ger Stok\nZ
 aal open 19.30 uur\nStart presentatie 20.00 uur\n  https://hcc.nl/rss-even
 ts/evenement/3175-windows-11-23h2-is-in-aantocht
DTSTART:20231009T173000Z
DTEND:20231009T200000Z
LOCATION:Huis van de Wijk Oostgaarde (De Linie 5\, 2905 AX Capelle aan den 
 IJssel)
SUMMARY:Windows 11 23H2 is in aantocht
URL:https://hcc.nl/rss-events/evenement/3175-windows-11-23h2-is-in-aantocht
END:VEVENT
END:VCALENDAR
