BEGIN:VCALENDAR
VERSION:2.0
PRODID:-//https://hcc.nl///NONSGML kigkonsult.se iCalcreator 2.10.15//
METHOD:PUBLISH
BEGIN:VEVENT
UID:20260423T221049UTC-3676LEDdV5@https://hcc.nl/
DTSTAMP:20260423T221049Z
DESCRIPTION:Leren vliegen met de Flightsimulator. https://hcc.nl/rss-events
 /evenement/1194-fs-vliegdag
DTSTART:20231007T080000Z
DTEND:20231007T140000Z
LOCATION:Wijkcentrum 't Slot (Kastelenplein 167\, 5653 LX Eindhoven)
SUMMARY:FS vliegdag
URL:https://hcc.nl/rss-events/evenement/1194-fs-vliegdag
END:VEVENT
BEGIN:VEVENT
UID:20260423T221049UTC-3677X1xFJr@https://hcc.nl/
DTSTAMP:20260423T221049Z
DESCRIPTION:Zoals gebruikelijk komen we op de 1e zaterdag van de maand weer
  bijeen in Hooglanderveen (vlakbij Amersfoort) om ideeën\, ervaringen\, ti
 ps\, en andere informatie uit te wisselen op het gebied van AI (= kunstmat
 ige intelligentie).\nEen belangrijk onderdeel is de 'plenaire sessie'\, ee
 n groepsgesprek waarin allerlei aspecten van AI aan de orde kunnen komen. 
 Deze staat gepland om 13:00 en zal\, als de techniek meewerkt\, ook online
  te volgen zijn via wij.hcc.nl.\nDe plenaire sessie begint met een 'invent
 arisatierondje' waarin iedereen één of meer onderwerpen kan aandragen\, wa
 arna de voorzitter bepaalt in welke volgorde deze aan de beurt komen. Voor
  (en soms ook na) de plenaire sessie is er gelegenheid voor een bezoekje a
 an de kantine\, een kijkje bij de Robotica interessegroep\, informele gesp
 rekken in kleinere groepjes\, en/of zelfwerkzaamheid.\nWilt u geregeld van
  tevoren een herinnering aan onze bijeenkomsten ontvangen\, dan kunt U zic
 h (via het menu-item 'HCC' bovenaan) aanmelden voor de HCC-AI nieuwsbrief 
 (per email). https://hcc.nl/rss-events/evenement/1488-bijeenkomst-interess
 egroep-ai
DTSTART:20231007T090000Z
DTEND:20231007T140000Z
LOCATION:De Dissel  (Disselplein 8\, 3829 MD Hooglanderveen)
SUMMARY:Bijeenkomst Interessegroep AI
URL:https://hcc.nl/rss-events/evenement/1488-bijeenkomst-interessegroep-ai
END:VEVENT
BEGIN:VEVENT
UID:20260423T221049UTC-3678UugunO@https://hcc.nl/
DTSTAMP:20260423T221049Z
DESCRIPTION:Zoals gebruikelijk komen we op de 1e zaterdag van de maand weer
  bijeen in Hooglanderveen (vlakbij Amersfoort) om ideeën\, ervaringen\, ti
 ps\, en andere informatie uit te wisselen op het gebied van AI (= kunstmat
 ige intelligentie).\nEen belangrijk onderdeel is de 'plenaire sessie'\, ee
 n groepsgesprek waarin allerlei aspecten van AI aan de orde kunnen komen. 
 Deze staat gepland om 13:00 en zal\, als de techniek meewerkt\, ook online
  te volgen zijn via wij.hcc.nl.\nDe plenaire sessie begint met een 'invent
 arisatierondje' waarin iedereen één of meer onderwerpen kan aandragen\, wa
 arna de voorzitter bepaalt in welke volgorde deze aan de beurt komen. Voor
  (en soms ook na) de plenaire sessie is er gelegenheid voor een bezoekje a
 an de kantine\, een kijkje bij de Robotica interessegroep\, informele gesp
 rekken in kleinere groepjes\, en/of zelfwerkzaamheid.\nWilt u geregeld van
  tevoren een herinnering aan onze bijeenkomsten ontvangen\, dan kunt U zic
 h (via het menu-item 'HCC' bovenaan) aanmelden voor de HCC-AI nieuwsbrief 
 (per email). https://hcc.nl/rss-events/evenement/1520-bijeenkomst-interess
 egroep-ai
DTSTART:20231007T090000Z
DTEND:20231007T140000Z
LOCATION:De Dissel  (Disselplein 8\, 3829 MD Hooglanderveen)
SUMMARY:Bijeenkomst Interessegroep AI
URL:https://hcc.nl/rss-events/evenement/1520-bijeenkomst-interessegroep-ai
END:VEVENT
BEGIN:VEVENT
UID:20260423T221049UTC-3680FkCVFi@https://hcc.nl/
DTSTAMP:20260423T221049Z
DESCRIPTION:Leren omgaan met de 3D printer en oplossen eventuele problemen.
  https://hcc.nl/rss-events/evenement/1653-3d-printen
DTSTART:20231007T080000Z
DTEND:20231007T100000Z
LOCATION:Wijkhuis de Westwijzer  (Cortenbachstraat 70\, 5707 TJ Helmond)
SUMMARY:3D printen
URL:https://hcc.nl/rss-events/evenement/1653-3d-printen
END:VEVENT
BEGIN:VEVENT
UID:20260423T221049UTC-3680plEUov@https://hcc.nl/
DTSTAMP:20260423T221049Z
DESCRIPTION:Leren vliegen met de Flightsimulator. Eerst aanmelden!! https:/
 /hcc.nl/rss-events/evenement/2509-flightsim-vliegdag
DTSTART:20231007T080000Z
DTEND:20231007T143000Z
LOCATION:Wijkcentrum 't Slot (Kastelenplein 167\, 5653 LX Eindhoven)
SUMMARY:Flightsim vliegdag
URL:https://hcc.nl/rss-events/evenement/2509-flightsim-vliegdag
END:VEVENT
BEGIN:VEVENT
UID:20260423T221049UTC-3681dNKBgp@https://hcc.nl/
DTSTAMP:20260423T221049Z
DESCRIPTION:Maandelijkse bijeenkomst in verenigingsgebouw De Dissel in Hoog
 landerveen nabij Hoevelaken.\n11:00 demonstratie Rubik's kubus 'oplosser'
 \nDe juiste plaatst om met elkaar te overleggen over de robotica hobby.\nE
 en enthousiaste groep leden is er iedere maand met diverse robots en ander
 e hardware aan de slag.\nEr wordt geoefend\, overlegd en geknutseld.\nWil 
 je meer weten van Robots\, wil je zelf aan de slag kom dat langs.\nJe word
 t met open armen ontvangen. https://hcc.nl/rss-events/evenement/2533-demon
 stratie-rubiks-kubus-oplosser
DTSTART:20231007T080000Z
DTEND:20231007T140000Z
LOCATION:De Dissel  (Disselplein 8\, 3829 MD Hooglanderveen)
SUMMARY:Demonstratie Rubik's kubus 'oplosser'
URL:https://hcc.nl/rss-events/evenement/2533-demonstratie-rubiks-kubus-oplo
 sser
END:VEVENT
BEGIN:VEVENT
UID:20260423T221049UTC-3682jNtHw2@https://hcc.nl/
DTSTAMP:20260423T221049Z
DESCRIPTION:Maandelijkse bijeenkomst in verenigingsgebouw De Dissel in Hoog
 landerveen nabij Hoevelaken.\nDe juiste plaatst om met elkaar te overlegge
 n over de robotica hobby.\nEen enthousiaste groep leden is er iedere maand
  met diverse robots en andere hardware aan de slag.\nEr wordt geoefend\, o
 verlegd en geknutseld.\nWil je meer weten van Robots\, wil je zelf aan de 
 slag kom dat langs.\nJe wordt met open armen ontvangen. https://hcc.nl/rss
 -events/evenement/2579-robotica-maandelijkse-bijeenkomst
DTSTART:20231007T080000Z
DTEND:20231007T140000Z
LOCATION:De Dissel  (Disselplein 8\, 3829 MD Hooglanderveen)
SUMMARY:Robotica maandelijkse bijeenkomst
URL:https://hcc.nl/rss-events/evenement/2579-robotica-maandelijkse-bijeenko
 mst
END:VEVENT
BEGIN:VEVENT
UID:20260423T221049UTC-3683lMDn7I@https://hcc.nl/
DTSTAMP:20260423T221049Z
DESCRIPTION:HCC!Kennisdag op de modelspoorbeurs ( in hal 1A ) gelijk met de
  modelspoorbeurs\nvandaag:\nop de eerste verdieping in de Iepenzaal\,\n10:
 30 u Lezing met Lex van der Loo\n12:30 u. Workshop met John Jansen: Inbouw
 en\, decoders en verlichting https://hcc.nl/rss-events/evenement/2999-hcc-
 kennisdag-bij-modelspoorbeurs-in-houten
DTSTART:20231007T080000Z
DTEND:20231007T130000Z
LOCATION:Expo Houten (Meidoornkade 24\, 3992 AE Houten)
SUMMARY:HCC!Kennisdag bij Modelspoorbeurs in Houten
URL:https://hcc.nl/rss-events/evenement/2999-hcc-kennisdag-bij-modelspoorbe
 urs-in-houten
END:VEVENT
BEGIN:VEVENT
UID:20260423T221049UTC-3684Gkhs76@https://hcc.nl/
DTSTAMP:20260423T221049Z
DESCRIPTION: https://hcc.nl/rss-events/evenement/3008-homeassistant-present
 atie-op-kennisdag
DTSTART:20231007T083000Z
DTEND:20231007T150000Z
LOCATION:Expo Houten (Meidoornkade 24\, 3992 AE Houten)
SUMMARY:Homeassistant presentatie op Kennisdag
URL:https://hcc.nl/rss-events/evenement/3008-homeassistant-presentatie-op-k
 ennisdag
END:VEVENT
BEGIN:VEVENT
UID:20260423T221049UTC-3684RttAOt@https://hcc.nl/
DTSTAMP:20260423T221049Z
DESCRIPTION:Rondom het overlijden duiken een groot aantal mogelijke problem
 en op. Omdat in die moeilijke dagen toch al zoveel op de achterblijver(s) 
 afkomt\, probeert deze lezing wat hulp te geven\, vooral t.a.v. alle zaken
  die nu al geregeld kunnen worden. https://hcc.nl/rss-events/evenement/302
 9-vervallen-digitale-erfenis
DTSTART:20231007T080000Z
DTEND:20231007T100000Z
LOCATION:Wijkcentrum 't Holleblok (Holleblok 2\, 1273 EG Huizen)
SUMMARY:(vervallen) Digitale Erfenis
URL:https://hcc.nl/rss-events/evenement/3029-vervallen-digitale-erfenis
END:VEVENT
BEGIN:VEVENT
UID:20260423T221049UTC-3685nB2iRI@https://hcc.nl/
DTSTAMP:20260423T221049Z
DESCRIPTION: https://hcc.nl/rss-events/evenement/3099-inloopbijeenkomst
DTSTART:20231007T110000Z
DTEND:20231007T150000Z
LOCATION:Olympiagebouw (Olympiaweg 17\, 1816 MJ Alkmaar)
SUMMARY:Inloopbijeenkomst
URL:https://hcc.nl/rss-events/evenement/3099-inloopbijeenkomst
END:VEVENT
BEGIN:VEVENT
UID:20260423T221049UTC-3686aSTpva@https://hcc.nl/
DTSTAMP:20260423T221049Z
DESCRIPTION:Chris Mommenhof van HCC!genealogie is iedere 1e zaterdag van de
  maand aanwezig op deze dag georganiseerd door de HCC!Almere regio Huizen.
  \nHij helpt u graag met al uw genealogische vragen.\nVoor meer info klik 
 hier https://hcc.nl/rss-events/evenement/3103-vervallen-bijeenkomst-hcc-al
 mere-lokatie-huizen
DTSTART:20231007T080000Z
DTEND:20231007T140000Z
LOCATION:Wijkcentrum 't Holleblok (Holleblok 2\, 1273 EG Huizen)
SUMMARY:(vervallen) Bijeenkomst HCC!almere lokatie Huizen
URL:https://hcc.nl/rss-events/evenement/3103-vervallen-bijeenkomst-hcc-alme
 re-lokatie-huizen
END:VEVENT
BEGIN:VEVENT
UID:20260423T221049UTC-36875Ajs5X@https://hcc.nl/
DTSTAMP:20260423T221049Z
DESCRIPTION:Op zaterdag 7 oktober a.s. heeft HCC! Midden-Brabant weer de ge
 bruikelijke inloopmiddag samen met Computer Vrienden Oisterwijk (C.V.O. / 
 PTCC).  Vanaf 13.30 uur tot ongeveer 16.00 uur kunt u hiervoor terecht in 
 wijkcentrum 'de Pannenschuur' aan de Lavendel 9 te 5061WB Oisterwijk. (par
 keren kan voor de deur).\nU bent van harte welkom.\nOok op de locatie 'de 
 Pannenschuur' staat de koffie weer klaar ! https://hcc.nl/rss-events/evene
 ment/3119-gezamenlijke-clubbijeenkomst-in-oisterwijk
DTSTART:20231007T113000Z
DTEND:20231007T143000Z
LOCATION:Wijkcentrum de Pannenschuur (Lavendel 9\, 5061 WB Oisterwijk)
SUMMARY:Gezamenlijke clubbijeenkomst in Oisterwijk
URL:https://hcc.nl/rss-events/evenement/3119-gezamenlijke-clubbijeenkomst-i
 n-oisterwijk
END:VEVENT
BEGIN:VEVENT
UID:20260423T221049UTC-3688StNKsv@https://hcc.nl/
DTSTAMP:20260423T221049Z
DESCRIPTION:In het begin wordt kort behandeld waarom je Linux zou gebruiken
 . Daarna wordt er uitgelegd hoe je zelf Linux Mint kunt installeren op je 
 eigen laptop. Hierbij is het handig om je eigen notebook mee te nemen naar
  de HCC!kennisdag. Ook kun je hulp krijgen bij het updaten naar Linux Mint
  21.2\nOm je aan te kunnen melden\, dien je ingelogd te zijn. https://hcc.
 nl/rss-events/evenement/3153-workshop-linux-mint-laptop-zelf-meenemen
DTSTART:20231007T081500Z
DTEND:20231007T100000Z
LOCATION:Expo Houten (Meidoornkade 24\, 3992 AE Houten)
SUMMARY:Workshop Linux Mint (laptop zelf meenemen)
URL:https://hcc.nl/rss-events/evenement/3153-workshop-linux-mint-laptop-zel
 f-meenemen
END:VEVENT
BEGIN:VEVENT
UID:20260423T221049UTC-3688jn91KM@https://hcc.nl/
DTSTAMP:20260423T221049Z
DESCRIPTION:Proxmox Virtual Environment (Proxmox VE) is een open-source vir
 tualisatieplatform dat wordt gebruikt voor het beheren van virtuele machin
 es (VM's) en containers. Het biedt een complete virtualisatieoplossing waa
 rmee je meerdere virtuele machines en containers kunt maken en beheren op 
 één fysieke server. Proxmox VE integreert KVM (Kernel-based Virtual Machin
 e) voor hardwarevirtualisatie en LXC (Linux Containers) voor containervirt
 ualisatie.\nTijdens deze workshop ga je zelf proxmox installeren in virtue
 le omgeving.\nHet mee nemen van je laptop is vereiste als je wil deelnemen
  aan workshop. \nOp je laptop dien je het programma thinlinc te installere
 n\nwelke hier te downloaden is \nJe kan workshop ook bijwonen als toehoord
 er dan is registratie niet noodzakelijk. https://hcc.nl/rss-events/eveneme
 nt/3159-vervallen-workshop-proxmox
DTSTART:20231007T110000Z
DTEND:20231007T130000Z
LOCATION:Expo Houten (Meidoornkade 24\, 3992 AE Houten)
SUMMARY:(vervallen) Workshop Proxmox
URL:https://hcc.nl/rss-events/evenement/3159-vervallen-workshop-proxmox
END:VEVENT
BEGIN:VEVENT
UID:20260423T221049UTC-369002hvKE@https://hcc.nl/
DTSTAMP:20260423T221049Z
DESCRIPTION:Het hcc-steunpunt in Vaassen heeft een nieuwe locatie. Jasmijns
 traat 36\, 8171 APDe vrijwilligers helpen tijdens de clubdag onder andere 
 met het upgraden van de computer. Ook het inbouwen van (meegebrachte) hard
 ware is op de clubdag gratis.Tevens zijn er regelmatig demonstraties en pr
 esentaties.\nVoor het verhelpen van een computerprobleem dient men de kast
  en de software mee te nemen naar de clubdag.U hoeft natuurlijk niet een c
 omputerprobleem te hebben om gezellig langs te komen!Kom gezellig een bakj
 e koffie drinken en misschien kunt u zelf ook anderen helpen die met een c
 omputerprobleem zitten. https://hcc.nl/rss-events/evenement/3163-inloop-st
 eunpunt-vaassen
DTSTART:20231007T080000Z
DTEND:20231007T120000Z
LOCATION: ()
SUMMARY:Inloop steunpunt Vaassen
URL:https://hcc.nl/rss-events/evenement/3163-inloop-steunpunt-vaassen
END:VEVENT
BEGIN:VEVENT
UID:20260423T221049UTC-3692BdJkjf@https://hcc.nl/
DTSTAMP:20260423T221049Z
DESCRIPTION:Na onze diverse workshops over de installatie van Linux Mint Ci
 nnamon op je computer en je hiermee enige tijd ervaring hebt opgedaan\, ka
 n de vraag opkomen of het niet mogelijk is om je Cloud opslag te gebruiken
  in je Linux omgeving. Dit kan\, en hoe je dit doet is het onderwerp van d
 eze presentatie/workshop. Met een stap voor stap aanpak wordt duidelijk ho
 e je de koppeling met diverse Drives kunt realiseren. Microsoft OneDrive\,
  Google Drive en het Zwitserse pCloud gaan we koppelen (mounten)\, waardoo
 r deze benaderbaar worden in het Linux-bestandsbeheerprogramma NEMO.Omdat 
 HCC dit keer geen notebooks meeneemt\, is het zeker handig om je eigen lap
 top mee te nemen. Dan kun je tegelijk met deze uitgebreide workshop/presen
 tatie de door jou gewenste cloud koppelen (mounten). Aansluitend kun je oo
 k nog even meenemen hoe je Cinnamon in enkele minuten kunt upgraden\, want
  21.2 is inmiddels de actuele versie. Uiteraard zullen er vragen zijn over
  andere aspecten van je installatie. Wij helpen je ook hiermee graag verde
 r.Presentatoren: Peter de Bruin en Cees Heij https://hcc.nl/rss-events/eve
 nement/3169-workshop-linux-mint-cinnamon---cloud-koppeling
DTSTART:20231007T113000Z
DTEND:20231007T124500Z
LOCATION:Expo Houten (Meidoornkade 24\, 3992 AE Houten)
SUMMARY:Workshop Linux Mint Cinnamon – cloud-koppeling
URL:https://hcc.nl/rss-events/evenement/3169-workshop-linux-mint-cinnamon--
 -cloud-koppeling
END:VEVENT
END:VCALENDAR
