BEGIN:VCALENDAR
VERSION:2.0
PRODID:-//https://hcc.nl///NONSGML kigkonsult.se iCalcreator 2.10.15//
METHOD:PUBLISH
BEGIN:VEVENT
UID:20260424T143812UTC-5052H78iJm@https://hcc.nl/
DTSTAMP:20260424T143812Z
DESCRIPTION:Alle werkgroepen zijn aanwezig. De meesten verzorgen maandelijk
 s de presentatie. De Borduurgroep of misschien liever de werkgroep Creatie
 ve Werkvormen bezet elke week zelfs een aparte zaal. https://hcc.nl/rss-ev
 ents/evenement/2286-inloop-voor-alle-werkgroepen
DTSTART:20231005T170000Z
DTEND:20231005T203000Z
LOCATION:NewTechPark (Vlijtseweg 148\, 7317 AK Apeldoorn)
SUMMARY:Inloop voor alle werkgroepen
URL:https://hcc.nl/rss-events/evenement/2286-inloop-voor-alle-werkgroepen
END:VEVENT
BEGIN:VEVENT
UID:20260424T143812UTC-5053waHB8r@https://hcc.nl/
DTSTAMP:20260424T143812Z
DESCRIPTION:Onze inloop is bedoeld voor iedereen die praktische hulp en ond
 ersteuning nodig heeft bij het gebruik van uw tablet en smartphone.\nTe de
 nken valt aan:- apps installeren- accounts aanmaken op uw apparaten (breng
  dan uw inloggegevens mee)- E-mail problemen.- Instellingen aanpassenZowel
  voor Apple\, Android als Windows!\nOnze deskundigen zitten klaar om u met
  raad en daad terzijde te staan. https://hcc.nl/rss-events/evenement/2623-
 inloop-digitale-hulp
DTSTART:20231005T073000Z
DTEND:20231005T090000Z
LOCATION:Wijkcentrum Rozenobel (Dukatenplein 2\, 4205 GE Gorinchem)
SUMMARY:Inloop Digitale Hulp
URL:https://hcc.nl/rss-events/evenement/2623-inloop-digitale-hulp
END:VEVENT
BEGIN:VEVENT
UID:20260424T143812UTC-5054L4loKe@https://hcc.nl/
DTSTAMP:20260424T143812Z
DESCRIPTION:Frans Goedemondt\, adviseur van HCC!genealogie\, helpt u met he
 t onderzoek naar uw voorouders.\nContact Frans Goedemondt via evenementen-
 apd@ngv.nl\nGenealogie Apeldoorn is een samenwerkingsverband van HCC!genea
 logie en NGV-apeldoorn.\nVoor meer info klik hier. https://hcc.nl/rss-even
 ts/evenement/2724-bijeenkomst-hcc-apeldoorn
DTSTART:20231005T173000Z
DTEND:20231005T193000Z
LOCATION:NewTechPark (Vlijtseweg 148\, 7317 AK Apeldoorn)
SUMMARY:Bijeenkomst HCC!apeldoorn
URL:https://hcc.nl/rss-events/evenement/2724-bijeenkomst-hcc-apeldoorn
END:VEVENT
BEGIN:VEVENT
UID:20260424T143812UTC-505529IbdS@https://hcc.nl/
DTSTAMP:20260424T143812Z
DESCRIPTION: https://hcc.nl/rss-events/evenement/2766-bijeenkomst-werkgroep
 -genealogie
DTSTART:20231005T173000Z
DTEND:20231005T200000Z
LOCATION:NewTechPark (Vlijtseweg 148\, 7317 AK Apeldoorn)
SUMMARY:Bijeenkomst werkgroep Genealogie
URL:https://hcc.nl/rss-events/evenement/2766-bijeenkomst-werkgroep-genealog
 ie
END:VEVENT
BEGIN:VEVENT
UID:20260424T143812UTC-5056NL4T7C@https://hcc.nl/
DTSTAMP:20260424T143812Z
DESCRIPTION:Onze inloop is bedoeld voor iedereen die praktische hulp en ond
 ersteuning nodig heeft bij het gebruik van uw tablet en smartphone.Te denk
 en valt aan:- apps installeren- accounts aanmaken op uw apparaten (breng d
 an uw inloggegevens mee)- E-mail problemen.- Instellingen aanpassenZowel v
 oor Apple\, Android als Windows!Onze deskundigen zitten klaar om u met raa
 d en daad terzijde te staan. https://hcc.nl/rss-events/evenement/3031-inlo
 op-digitale-hulp
DTSTART:20231005T113000Z
DTEND:20231005T133000Z
LOCATION:De Schans (Troelstradreef 160\, 5237 DE 's-Hertogenbosch)
SUMMARY:Inloop Digitale Hulp
URL:https://hcc.nl/rss-events/evenement/3031-inloop-digitale-hulp
END:VEVENT
BEGIN:VEVENT
UID:20260424T143812UTC-5056t799N7@https://hcc.nl/
DTSTAMP:20260424T143812Z
DESCRIPTION:Rondom het overlijden duiken een groot aantal mogelijke problem
 en op. Omdat in die moeilijke dagen toch al zoveel op de achterblijver(s) 
 afkomt\, probeert deze lezing wat hulp te geven\, vooral t.a.v. alle zaken
  die nu al geregeld kunnen worden. https://hcc.nl/rss-events/evenement/303
 5-digitale-erfenis
DTSTART:20231005T080000Z
DTEND:20231005T100000Z
LOCATION:Kruiskerk (Mesdagplein 4\, 3443 CD Woerden)
SUMMARY:Digitale erfenis
URL:https://hcc.nl/rss-events/evenement/3035-digitale-erfenis
END:VEVENT
BEGIN:VEVENT
UID:20260424T143812UTC-5057l2fjf8@https://hcc.nl/
DTSTAMP:20260424T143812Z
DESCRIPTION: https://hcc.nl/rss-events/evenement/3139-inloop-bijeenkomst-hc
 c-ijssellanden
DTSTART:20231005T173000Z
DTEND:20231005T200000Z
LOCATION:Wijkcentrum Holtenbroek (Bachlaan 20\, 8031 HL Zwolle)
SUMMARY:Inloop bijeenkomst HCC!ijssellanden
URL:https://hcc.nl/rss-events/evenement/3139-inloop-bijeenkomst-hcc-ijssell
 anden
END:VEVENT
BEGIN:VEVENT
UID:20260424T143812UTC-5058PRW0Fb@https://hcc.nl/
DTSTAMP:20260424T143812Z
DESCRIPTION: https://hcc.nl/rss-events/evenement/3147-flightsim-werkgroep-a
 irliners
DTSTART:20231005T173000Z
DTEND:20231005T200000Z
LOCATION:'s-Heer Arendhuis (Torenring 46\, 4458 BC 's-Heer Arendskerke)
SUMMARY:Flightsim Werkgroep Airliners
URL:https://hcc.nl/rss-events/evenement/3147-flightsim-werkgroep-airliners
END:VEVENT
END:VCALENDAR
