BEGIN:VCALENDAR
VERSION:2.0
PRODID:-//https://hcc.nl///NONSGML kigkonsult.se iCalcreator 2.10.15//
METHOD:PUBLISH
BEGIN:VEVENT
UID:20260422T223623UTC-3491uzBf9v@https://hcc.nl/
DTSTAMP:20260422T223623Z
DESCRIPTION:Onze inloop is bedoeld voor iedereen die praktische hulp en ond
 ersteuning nodig heeft bij het gebruik van uw digitale apparatuur\, zoals 
 desktop\, laptop\, tablet en smartphone.Te denken valt aan:• opschonen van
  uw computer• updates downloaden• apps installeren• accounts aanmaken op u
 w apparaten(breng dan wel uw gegevens mee)• e-mail problemen.• instellinge
 n aanpassenOnze deskundigen zitten klaar om u met raad en daad terzijde te
  staan. https://hcc.nl/rss-events/evenement/1245-inloop-digitale-hulp
DTSTART:20231003T080000Z
DTEND:20231003T100000Z
LOCATION:Bibliotheek Hardinxveld-Giessendam (Pietersweer 34\, 3371 PN Hardi
 nxveld-Giessendam)
SUMMARY:Inloop digitale hulp
URL:https://hcc.nl/rss-events/evenement/1245-inloop-digitale-hulp
END:VEVENT
BEGIN:VEVENT
UID:20260422T223623UTC-34938VAVug@https://hcc.nl/
DTSTAMP:20260422T223623Z
DESCRIPTION:Je bent elke dinsdag- en donderdagavond welkom in onze locatie 
 NewTechPark\nDe dinsdag is voor de makers\, 3D-ontwerpen\, scannen e print
 en\, vaak zijn dat ook liefhebbers van robotica\, drones en programmeren.A
 ls je dinsdagavond tussen 19.00 en 20.00 uur inlogt met Jitsi\, kun je ken
 nismaken met hcc!3D. Soms kun je desgevraagd ook online meedoen met een ac
 tiviteit.\nDat kan dan op:   https://wij.hcc.nl/3D (Alleen toegang als je 
 zichtbaar bent met voor- en achternaam. ) https://hcc.nl/rss-events/evenem
 ent/2093-bijeenkomst-hcc-3d
DTSTART:20231003T170000Z
DTEND:20231003T200000Z
LOCATION:NewTechPark (Vlijtseweg 148\, 7317 AK Apeldoorn)
SUMMARY:Bijeenkomst HCC!3d
URL:https://hcc.nl/rss-events/evenement/2093-bijeenkomst-hcc-3d
END:VEVENT
BEGIN:VEVENT
UID:20260422T223623UTC-3494xsDE6w@https://hcc.nl/
DTSTAMP:20260422T223623Z
DESCRIPTION:Nico Oosterwijk van HCC!Domotica/IoT zal een presentatie geven 
 over met name voor Home Assistant. Vanuit HCC!Domotica/IoT willen wij huis
 -automatisering beter bekend maken en onder de aandacht brengen bij de HCC
 -leden in het land. https://hcc.nl/rss-events/evenement/2775-presentatie-d
 omotica-home-assistant
DTSTART:20231003T180000Z
DTEND:20231003T203000Z
LOCATION:Zalencentrum De Witte Kerk (Agnes Huijnstraat 3\, 5914 PE Venlo)
SUMMARY:Presentatie 'Domotica - Home Assistant'
URL:https://hcc.nl/rss-events/evenement/2775-presentatie-domotica-home-assi
 stant
END:VEVENT
BEGIN:VEVENT
UID:20260422T223623UTC-3495Uh8wcL@https://hcc.nl/
DTSTAMP:20260422T223623Z
DESCRIPTION:Je bent elke dinsdag- en donderdagavond welkom in onze locatie 
 NewTechPark\nDe dinsdag is voor de makers\, 3D-ontwerpen\, scannen e print
 en\, vaak zijn dat ook liefhebbers van robotica\, drones en programmeren.A
 ls je dinsdagavond tussen 19.00 en 20.00 uur inlogt met Jitsi\, kun je ken
 nismaken met hcc!3D. Soms kun je desgevraagd ook online meedoen met een ac
 tiviteit.\nDat kan dan op: https://wij.hcc.nl/3D (Alleen toegang als je zi
 chtbaar bent met voor- en achternaam. ) https://hcc.nl/rss-events/evenemen
 t/2816-bijeenkomst-hcc-3d
DTSTART:20231003T170000Z
DTEND:20231003T200000Z
LOCATION:NewTechPark (Vlijtseweg 148\, 7317 AK Apeldoorn)
SUMMARY:Bijeenkomst HCC!3d
URL:https://hcc.nl/rss-events/evenement/2816-bijeenkomst-hcc-3d
END:VEVENT
BEGIN:VEVENT
UID:20260422T223623UTC-3496nf2Xad@https://hcc.nl/
DTSTAMP:20260422T223623Z
DESCRIPTION:Onze inloop is bedoeld voor iedereen die praktische hulp en ond
 ersteuning nodig heeft bij het gebruik van uw digitale apparatuur\, zoals 
 desktop\, laptop\, tablet en smartphone.\nTe denken valt aan:• opschonen v
 an uw computer• updates downloaden• apps installeren• accounts aanmaken op
  uw apparaten(breng dan wel uw gegevens mee)• e-mail problemen.• instellin
 gen aanpassenOnze deskundigen zitten klaar om u met raad en daad terzijde 
 te staan.\n  https://hcc.nl/rss-events/evenement/3001-inloop-digitale-hulp
DTSTART:20231003T113000Z
DTEND:20231003T140000Z
LOCATION:Activiteitencentrum Orka  (Broekakkerseweg 1\, 5641 PC Eindhoven)
SUMMARY:Inloop Digitale Hulp
URL:https://hcc.nl/rss-events/evenement/3001-inloop-digitale-hulp
END:VEVENT
BEGIN:VEVENT
UID:20260422T223623UTC-3497fJfwMV@https://hcc.nl/
DTSTAMP:20260422T223623Z
DESCRIPTION:Rondom het overlijden duiken een groot aantal mogelijke problem
 en op. Omdat in die moeilijke dagen toch al zoveel op de achterblijver(s) 
 afkomt\, probeert deze lezing wat hulp te geven\, vooral t.a.v. alle zaken
  die nu al geregeld kunnen worden. https://hcc.nl/rss-events/evenement/307
 3-digitale-erfenis
DTSTART:20231003T110000Z
DTEND:20231003T140000Z
LOCATION:Speeltuin Pascal (Pascalweg 12\, 3076 JP Rotterdam)
SUMMARY:Digitale Erfenis
URL:https://hcc.nl/rss-events/evenement/3073-digitale-erfenis
END:VEVENT
BEGIN:VEVENT
UID:20260422T223623UTC-3498LvhizP@https://hcc.nl/
DTSTAMP:20260422T223623Z
DESCRIPTION:Rondom het overlijden duiken een groot aantal mogelijke problem
 en op. Omdat in die moeilijke dagen toch al zoveel op de achterblijver(s) 
 afkomt\, probeert deze lezing wat hulp te geven\, vooral t.a.v. alle zaken
  die nu al geregeld kunnen worden. https://hcc.nl/rss-events/evenement/307
 5-digitale-erfenis
DTSTART:20231003T080000Z
DTEND:20231003T100000Z
LOCATION:Wijkcentrum Hatert (Couwenbergstraat 22\, 6535 RZ Nijmegen)
SUMMARY:Digitale Erfenis
URL:https://hcc.nl/rss-events/evenement/3075-digitale-erfenis
END:VEVENT
BEGIN:VEVENT
UID:20260422T223623UTC-3498TkNNbM@https://hcc.nl/
DTSTAMP:20260422T223623Z
DESCRIPTION: https://hcc.nl/rss-events/evenement/3141-inloopmiddag
DTSTART:20231003T113000Z
DTEND:20231003T143000Z
LOCATION:Theater de Meenthe (Stationsplein 1\, 8331 GM Steenwijk)
SUMMARY:Inloopmiddag
URL:https://hcc.nl/rss-events/evenement/3141-inloopmiddag
END:VEVENT
BEGIN:VEVENT
UID:20260422T223623UTC-3499KiiD3j@https://hcc.nl/
DTSTAMP:20260422T223623Z
DESCRIPTION:aaaa https://hcc.nl/rss-events/evenement/3157-aaa
DTSTART:20231003T100000Z
DTEND:20231003T140000Z
LOCATION:Scouting Jan Bakker Groep (Van Veenlaan 1\, 4301 NN Zierikzee)
SUMMARY:aaa
URL:https://hcc.nl/rss-events/evenement/3157-aaa
END:VEVENT
END:VCALENDAR
