BEGIN:VCALENDAR
VERSION:2.0
PRODID:-//https://hcc.nl///NONSGML kigkonsult.se iCalcreator 2.10.15//
METHOD:PUBLISH
BEGIN:VEVENT
UID:20260423T190020UTC-1350MmFvzE@https://hcc.nl/
DTSTAMP:20260423T190020Z
DESCRIPTION:Onze inloop is bedoeld voor iedereen die praktische hulp en ond
 ersteuning nodig heeft bij het gebruik van uw tablet en smartphone.\nTe de
 nken valt aan:\n- apps installeren- accounts aanmaken op uw apparaten(bren
 g dan uw inloggegevens mee)- E-mail problemen.- Instellingen aanpassenZowe
 l voor Apple\, Android als Windows!\nOnze deskundigen zitten klaar om u me
 t raad en daad terzijde te staan. https://hcc.nl/rss-events/evenement/1409
 -inloop-digitale-hulp
DTSTART:20231002T173000Z
DTEND:20231002T200000Z
LOCATION:Huis van de Wijk Oostgaarde (De Linie 5\, 2905 AX Capelle aan den 
 IJssel)
SUMMARY:Inloop digitale hulp
URL:https://hcc.nl/rss-events/evenement/1409-inloop-digitale-hulp
END:VEVENT
BEGIN:VEVENT
UID:20260423T190020UTC-1352ViOHcu@https://hcc.nl/
DTSTAMP:20260423T190020Z
DESCRIPTION:Op de eerste maandag van de maand bijeenkomst in de Mechelse ra
 nd (Tisselt).\nHet programma:\n\ninstallatie en configuratie van netwerk\,
  hard- en software\;\nUbuntu - Mint - Linux - Open Source steunpunt\;\ntab
 lets\, smartphones\, Android\, iOS\;\neen vrijblijvende babbel\;\nadvies v
 an collega computergebruikers\;\nenkele actuele tijdschriften ter inzage\;
 \ninternet\, bekabeld & draadloos netwerk\, ...\n\nElke geinteresseerde co
 mputergebruiker is welkom\, om de sfeer te proeven\, om kennis te maken me
 t onze leden en hun computerbezigheden\, om ervaringen uit te wisselen\, o
 m nieuwe dingen te ontdekken\, om een oplossing voor hard- en softwareprob
 lemen te vinden\, ... https://hcc.nl/rss-events/evenement/1799-inloop
DTSTART:20231002T180000Z
DTEND:20231002T210000Z
LOCATION:Fanfarelokaal Bingo (Blaasveldstraat  29 \, 2830 TI Tisselt)
SUMMARY:Inloop
URL:https://hcc.nl/rss-events/evenement/1799-inloop
END:VEVENT
BEGIN:VEVENT
UID:20260423T190020UTC-1353zhfjH3@https://hcc.nl/
DTSTAMP:20260423T190020Z
DESCRIPTION:Heeft u een vraag over of een probleem met uw Android apparaat?
  Onze deskundigen zitten klaar om u te helpen.\n\nInstellingen aanpassen\n
 Downloaden van Apps\nUpdaten van Apps\nInstellen van e-mail\n\nEn nog veel
  meer! https://hcc.nl/rss-events/evenement/1821-inloop-android-hulp
DTSTART:20231002T180000Z
DTEND:20231002T200000Z
LOCATION:Huis van de Wijk Oostgaarde (De Linie 5\, 2905 AX Capelle aan den 
 IJssel)
SUMMARY:Inloop Android hulp
URL:https://hcc.nl/rss-events/evenement/1821-inloop-android-hulp
END:VEVENT
BEGIN:VEVENT
UID:20260423T190020UTC-1353EUHpvW@https://hcc.nl/
DTSTAMP:20260423T190020Z
DESCRIPTION:Erik Mulder en Han Blijenberg van HCC!genealogie kunnen u helpe
 n met het onderzoek naar uw familie.\nMeer info op:  HCC!zeeland - Home  h
 ttps://hcc.nl/rss-events/evenement/2744-bijeenkomst-hcc-zeeland
DTSTART:20231002T173000Z
DTEND:20231002T200000Z
LOCATION:De Burgerij Campus de Ruyter  (Van Hogendorpweg 58\, 4384 HA Vliss
 ingen)
SUMMARY:Bijeenkomst HCC!zeeland
URL:https://hcc.nl/rss-events/evenement/2744-bijeenkomst-hcc-zeeland
END:VEVENT
BEGIN:VEVENT
UID:20260423T190020UTC-13542LHnnc@https://hcc.nl/
DTSTAMP:20260423T190020Z
DESCRIPTION:Windows 10 loopt langzaam ten einde. Er komen geen nieuwe versi
 es meer van dit besturingssysteem\, alleen nog veiligheidsupdates tot het 
 einde van de looptijd (oktober 2025).\nDit betekent dat er in de komende p
 eriode een groot aantal pc’s\, die niet Windows 11 compatibel zijn\, verva
 ngen zullen worden. En wat te doen met deze\, vaak nog prima werkende syst
 emen?\nIn de komende tijd zullen we telkens mogelijkheden aandragen om dez
 e pc’s een tweede leven te geven. De eerste suggestie is: maak van je pc e
 en media center met LibreELEC- Kodi.\nKodi is opensource-software\, compat
 ibel met verschillende besturingssystemen. Het werd oorspronkelijk geschre
 ven voor Xbox\, maar later kwamen daar versies bij voor Windows\, Mac\, An
 droid\, Raspberry Pi en Linux. De versie LibreELEC is een compleet (Linux)
 besturingssysteem en media center in één met lage systeemeisen en daarom p
 rima geschikt voor een oudere pc.\nWe laten zien hoe het te installeren en
  hoe je het kunt inzetten voor alledaags gebruik.\nPresentator is Ger Stok
 \,\nZaal open 09:00 uur https://hcc.nl/rss-events/evenement/3023-installee
 r-libreelec-kodi-media-center-op-een-oude-pc
DTSTART:20231002T073000Z
DTEND:20231002T093000Z
LOCATION:HCC Leiderdorp (Van der Marckstraat 19\, 2352 RA Leiderdorp)
SUMMARY:Installeer LibreELEC (Kodi) media center op een (oude) pc
URL:https://hcc.nl/rss-events/evenement/3023-installeer-libreelec-kodi-medi
 a-center-op-een-oude-pc
END:VEVENT
BEGIN:VEVENT
UID:20260423T190020UTC-1355XFuv8b@https://hcc.nl/
DTSTAMP:20260423T190020Z
DESCRIPTION:Onze inloop is bedoeld voor iedereen die praktische hulp en ond
 ersteuning nodig heeft bij het gebruik van uw tablet en smartphone.Te denk
 en valt aan:- apps installeren- accounts aanmaken op uw apparaten (breng d
 an uw inloggegevens mee)- E-mail problemen.- Instellingen aanpassen\nZowel
  voor Apple\, Android als Windows!Onze deskundigen zitten klaar om u met r
 aad en daad terzijde te staan. https://hcc.nl/rss-events/evenement/3079-in
 loop-digitale-hulp
DTSTART:20231002T120000Z
DTEND:20231002T133000Z
LOCATION:Bibliotheek Leersum  (Hoflaan 31\, 3956 ED Leersum)
SUMMARY:Inloop Digitale Hulp
URL:https://hcc.nl/rss-events/evenement/3079-inloop-digitale-hulp
END:VEVENT
BEGIN:VEVENT
UID:20260423T190020UTC-1356WUWB2D@https://hcc.nl/
DTSTAMP:20260423T190020Z
DESCRIPTION:Op maandagavond geeft HCC!apple in Houten vanaf 20.00 uur extra
  tips over iOS 17 en iPadOS 17 en aandachtspunten bij de aanschaf van een 
 nieuwe iPhone. https://hcc.nl/rss-events/evenement/3085-presentatie-apple
DTSTART:20231002T180000Z
DTEND:20231002T200000Z
LOCATION:Cultuurhuis Schoneveld Houten (Zonnehout 36\, 3991 MX Houten)
SUMMARY:Presentatie Apple
URL:https://hcc.nl/rss-events/evenement/3085-presentatie-apple
END:VEVENT
BEGIN:VEVENT
UID:20260423T190020UTC-1356uVUzo6@https://hcc.nl/
DTSTAMP:20260423T190020Z
DESCRIPTION:Klik hier voor de agenda. https://hcc.nl/rss-events/evenement/3
 087-jaarvergadering-regio-utrecht
DTSTART:20231002T173000Z
DTEND:20231002T180000Z
LOCATION:Cultuurhuis Schoneveld Houten (Zonnehout 36\, 3991 MX Houten)
SUMMARY:Jaarvergadering Regio Utrecht
URL:https://hcc.nl/rss-events/evenement/3087-jaarvergadering-regio-utrecht
END:VEVENT
BEGIN:VEVENT
UID:20260423T190020UTC-1356vdnFZx@https://hcc.nl/
DTSTAMP:20260423T190020Z
DESCRIPTION:Ook de flightsimulator groep is weer aanwezig in de locatie in 
 Houten. Neem je eigen flightsim-computer mee\, zodat we met elkaar een ron
 dje kunnen vliegen.Een elektra aansluiting en internet (bekabeld of wifi) 
 is voor een ieder beschikbaar. https://hcc.nl/rss-events/evenement/3089-vl
 ieg-je-ook-weer-met-ons-mee
DTSTART:20231002T180000Z
DTEND:20231002T200000Z
LOCATION:Cultuurhuis Schoneveld Houten (Zonnehout 36\, 3991 MX Houten)
SUMMARY:Vlieg je ook weer met ons mee
URL:https://hcc.nl/rss-events/evenement/3089-vlieg-je-ook-weer-met-ons-mee
END:VEVENT
BEGIN:VEVENT
UID:20260423T190020UTC-1357352FKJ@https://hcc.nl/
DTSTAMP:20260423T190020Z
DESCRIPTION:Op 2 oktober is in Cultuurhuis Schoneveld in Houten Bas van den
  Dikkenberg aanwezig als vraagbaak voor al uw computer- en netwerkvragen n
 amens HCC!opensource. https://hcc.nl/rss-events/evenement/3091-inloop-open
 source
DTSTART:20231002T180000Z
DTEND:20231002T200000Z
LOCATION:Cultuurhuis Schoneveld Houten (Zonnehout 36\, 3991 MX Houten)
SUMMARY:Inloop opensource
URL:https://hcc.nl/rss-events/evenement/3091-inloop-opensource
END:VEVENT
BEGIN:VEVENT
UID:20260423T190020UTC-1357FlV9vv@https://hcc.nl/
DTSTAMP:20260423T190020Z
DESCRIPTION:Hoe re­gel je je di­gi­ta­le na­la­ten­schap? Na jouw overlijde
 n staan je computer en online accounts op slot voor nabestaanden\, als zij
  geen wachtwoord hebben. Misschien leef je nog jaren na je dood door op Fa
 cebook. Regel je digitale nalatenschap op tijd en hoe gaat dat met ons dig
 itale nalatenschap? Als je dit regelt bespaart het je nabestaanden veel we
 rk. https://hcc.nl/rss-events/evenement/3093-digitale-erfenis
DTSTART:20231002T080000Z
DTEND:20231002T100000Z
LOCATION:Bibliotheek Gorinchem (Groenmarkt 1\, 4201 EE Gorinchem)
SUMMARY:Digitale erfenis
URL:https://hcc.nl/rss-events/evenement/3093-digitale-erfenis
END:VEVENT
END:VCALENDAR
