BEGIN:VCALENDAR
VERSION:2.0
PRODID:-//https://hcc.nl///NONSGML kigkonsult.se iCalcreator 2.10.15//
METHOD:PUBLISH
BEGIN:VEVENT
UID:20260423T142404UTC-4893wRME6m@https://hcc.nl/
DTSTAMP:20260423T142404Z
DESCRIPTION:Tijdens onze gebruikersdag op 30 september 2023 in de Meern gaa
 n we ook kijken naar de nieuwe versie van ArcaOS 5.1.0. Met deze nieuwe ve
 rsie van OS/2 kan op veel moderne PC's ArcaOS wel draaien\, wat met ArcaOS
  versie 5.0.x nog niet mogelijk was. Nu zijn PC's met UEFI firmware onders
 teunt en heb je niet meer een PC nodig met een BIOS.\nOS/2 was van origine
  afhankelijk van een BIOS. Dit zat in de eerste PC's van IBM. PC's tot Win
 dows 7 starten nog op met de BIOS. De UEFI firmware is al jaren in ontwikk
 eling. Maar in OS/2 is deze afhankelijkheid van de BIOS gebleven\, tot de 
 komst van ArcaOS 5.1.0. die UEFI ondersteunt. Er zijn nu veel PC's waar ge
 en klassiek BIOS ondersteuning meer in zit.\nHet eerste wat in ArcaOS 5.1.
 0 in UEFI mode is veranderd is hoe OS/2 opstart. Dit gaat op een totaal an
 dere manier onder UEFI en hier is een UEFI loader voor geschreven.\nOok de
  video afhandeling op oude VGA Hardware moest voor OS/2 en DOS en Windows 
 3.1 sessies worden veranderd. Dit werkt ook allemaal in ArcaOS 5.1.0. Er i
 s domweg geen oude VGA hardware en VGA BIOS meer aanwezig op moderne machi
 nes.\nBovenstaand is een korte samenvatting. Voor een kijkje onder de moto
 rkap\, kom gezellig bij ons op de koffie tijdens onze gebruikersdag.Neem g
 erust je computer en laptop mee. https://hcc.nl/rss-events/evenement/1148-
 hcc-ecs-gebruikersdag
DTSTART:20230930T080000Z
DTEND:20230930T150000Z
LOCATION:Cultureel Centrum De Schalm (Oranjelaan 10\, 3454 BT De Meern)
SUMMARY:HCC!ecs gebruikersdag
URL:https://hcc.nl/rss-events/evenement/1148-hcc-ecs-gebruikersdag
END:VEVENT
BEGIN:VEVENT
UID:20260423T142404UTC-4895xdI66b@https://hcc.nl/
DTSTAMP:20260423T142404Z
DESCRIPTION:Namens het bestuur nodig ik u uit om op zaterdag 30 september 2
 023 de 3e Landelijke Bijeenkomst van 2023 van HCC!genealogie bij te wonen.
 \nVan de presentaties worden geen video-opnames gemaakt. \n10:00 uur Aanva
 ng ALV\nDe agenda van de Algemene Ledenvergadering luidt als volgt:\n\nOpe
 ning en mededelingen.\n\nVaststellen van de agenda.\n\nIngekomen stukken.
 \n\nNotulen Algemene Ledenvergadering van 1 oktober 2022. Klik hier voor d
 e notulen (Achter inlog met HCC-account)\n\nBestuurszaken.\n\nJaarverslag 
 van het bestuur over 2022. \n\nHCC!genealogiedag op zaterdag 4 november 20
 23 in Alkmaar.\n\nGens Humana themanummer en USB-stick.\n\nData Ledenbijee
 nkomsten vinden in 2024 zijn nog onbekend.\n\nRondvraag.\n\nSluiting.\n\nP
 auze tot 11.00 uur.\nDe agenda van de Ledenbijeenkomst luidt als volgt:\nO
 m 11.00 uur: Lezing nog niet bekend\nPauze van circa 12.30 tot 13.30 uur\n
 Om 13:30 uur: Lezing nog onbekend\nTot slotVoor diegenen die een laptop he
 bben en mee willen nemen\, worden daartoe uitgenodigd\, want na de present
 aties kunt u algemene vragen stellen over genealogie en de relevante progr
 amma’s. \n15.30 uur Sluiting door de Voorzitter. \nTot ziens in De Bilt.\n
 In de directe omgeving van de vergaderlocatie is voldoende parkeergelegenh
 eid.\nVoor een routebeschrijving klik hier. https://hcc.nl/rss-events/even
 ement/2527-landelijke-bijeenkomst-alv-hcc-genealogie
DTSTART:20230930T080000Z
DTEND:20230930T140000Z
LOCATION:Cultureel en Vergadercentrum H.F. Witte (Henri Dunantplein 4\, 373
 1 CL De Bilt)
SUMMARY:Landelijke Bijeenkomst + ALV HCC!genealogie
URL:https://hcc.nl/rss-events/evenement/2527-landelijke-bijeenkomst-alv-hcc
 -genealogie
END:VEVENT
BEGIN:VEVENT
UID:20260423T142404UTC-4896uuA0To@https://hcc.nl/
DTSTAMP:20260423T142404Z
DESCRIPTION:We gaan vliegen nabij Renkum\, Gelderland.\nZaterdag 30 septemb
 er van 13:00 uur tot ca. 15:30 uur.\nLet op! Op de N225 bij de verkeerslic
 hten afslag Renkum moet je richting het industrieterrein “Veerweg” nemen. 
  Dan na 150 meter links de klinkerweg op richting “Renkumse Veer”\nEr zijn
  ruime parkeermogelijkheden. We vliegen aan een rand van de Neder-Rijn.\nA
 ls de ruimte het toelaat\, maken we er ook een oefenparkoers om je vliegva
 ardigheid te oefenen.\nKoffie en thee wordt uit de kofferbak geserveerd.\n
 Aanmelden is verplicht via de link onderaan deze pagina (eerst inloggen).
 \nDit alles is onder voorbehoud van goed vliegweer.De vrijdagmiddag ervoor
  gaan we beoordelen of het door kan gaan.Deelnemers die zich hebben ingesc
 hreven krijgen vrijdag een bevestigingsmail.\nOpm: De club neemt geen aans
 prakelijkheid voor schade aan je drone of aan derden. Check altijd je eige
 n aansprakelijkheidsverzekering.\nExacte locatie: https://goo.gl/maps/5rXz
 Ux4wwjU5Dizx9\nVeel vliegplezier gewenst!\nU moet inloggen om uw komst te 
 bevestigen. https://hcc.nl/rss-events/evenement/2981-onder-voorbehoud-vlie
 gmiddag-parkeerplaats-renkumse-veer-renkum-gelderland
DTSTART:20230930T110000Z
DTEND:20230930T133000Z
LOCATION:Parkeerplaats Renkumse Veer (Renkumse Veerweg 7\, 6666 LE Heteren)
SUMMARY:(onder voorbehoud) Vliegmiddag Parkeerplaats Renkumse Veer Renkum (
 Gelderland)
URL:https://hcc.nl/rss-events/evenement/2981-onder-voorbehoud-vliegmiddag-p
 arkeerplaats-renkumse-veer-renkum-gelderland
END:VEVENT
BEGIN:VEVENT
UID:20260423T142404UTC-4897LuH2ZL@https://hcc.nl/
DTSTAMP:20260423T142404Z
DESCRIPTION:Vliegmiddag Friesland Joure “Put van Nederhorst”\nWe gaan vlieg
 en nabij Joure in Friesland.Zaterdag 30 september van 13:00 uur tot ca. 15
 :30 uur.\nDe Put van Nederhorst\, of “het gat” zoals de plas plaatselijk w
 ordt genoemd\, ligt vlak bij Joure aan de snelweg A7.De plas is een zandaf
 graving. Het zand is gebruikt voor de aanleg van de nabijgelegen A7 en de 
 brug over de “Langweerder wielen”.\nEr zijn ruime parkeermogelijkheden. We
  vliegen aan een rand van een meer en een waterplas. Zoals je in filmpje k
 an zien\, kan je mooie beelden maken. Als de ruimte het toelaat\, maken we
  er ook een oefenparkoers om je vliegvaardigheid te oefenen.\nVoor deze vl
 iegmiddag is geen binnenlocatie geregeld. Koffie en thee wordt uit de koff
 erbak geserveerd.\nAanmelden is verplicht via de link onderaan deze pagina
  (eerst inloggen).Dit alles is onder voorbehoud van goed vliegweer.De vrij
 dagmiddag ervoor gaan we beoordelen of het door kan gaan.Deelnemers die zi
 ch hebben ingeschreven krijgen vrijdag of zaterdagmorgen een bevestigingsm
 ail.\nOpm: De club neemt geen aansprakelijkheid voor schade aan je drone o
 f aan derden. Check altijd je eigen aansprakelijkheidsverzekering.\nExacte
  locatie: Put van Nederhorst\n\nVeel vliegplezier gewenst!\nU moet inlogge
 n om uw komst te bevestigen. https://hcc.nl/rss-events/evenement/2983-vlie
 gmiddag-in-friesland-bij-joure
DTSTART:20230930T110000Z
DTEND:20230930T133000Z
LOCATION:Put van Nederhorst (Woudfennen 13\, 8503 BA Joure)
SUMMARY:Vliegmiddag in Friesland (bij Joure)
URL:https://hcc.nl/rss-events/evenement/2983-vliegmiddag-in-friesland-bij-j
 oure
END:VEVENT
BEGIN:VEVENT
UID:20260423T142404UTC-4899Wmj536@https://hcc.nl/
DTSTAMP:20260423T142404Z
DESCRIPTION:Bijeenkomst leden en belangstellenden https://hcc.nl/rss-events
 /evenement/3095-single-board-computer
DTSTART:20230930T073000Z
DTEND:20230930T110000Z
LOCATION:Wijkhuis de Westwijzer  (Cortenbachstraat 70\, 5707 TJ Helmond)
SUMMARY:Single board Computer
URL:https://hcc.nl/rss-events/evenement/3095-single-board-computer
END:VEVENT
END:VCALENDAR
