BEGIN:VCALENDAR
VERSION:2.0
PRODID:-//https://hcc.nl///NONSGML kigkonsult.se iCalcreator 2.10.15//
METHOD:PUBLISH
BEGIN:VEVENT
UID:20260422T174256UTC-3003ZMrhID@https://hcc.nl/
DTSTAMP:20260422T174256Z
DESCRIPTION:Heeft u een vraag over of een probleem met uw Android apparaat?
  Onze deskundigen zitten klaar om u te helpen.\n\nInstellingen aanpassen\n
 Downloaden van Apps\nUpdaten van Apps\nInstellen van e-mail\n\nEn nog veel
  meer! https://hcc.nl/rss-events/evenement/1909-inloop-android-hulp
DTSTART:20230927T080000Z
DTEND:20230927T100000Z
LOCATION:Bibliotheek Gorinchem (Groenmarkt 1\, 4201 EE Gorinchem)
SUMMARY:Inloop Android hulp
URL:https://hcc.nl/rss-events/evenement/1909-inloop-android-hulp
END:VEVENT
BEGIN:VEVENT
UID:20260422T174256UTC-3005uOUNw5@https://hcc.nl/
DTSTAMP:20260422T174256Z
DESCRIPTION:Heeft u een vraag over of een probleem met uw Android apparaat?
  Onze deskundigen zitten klaar om u te helpen.\n\nInstellingen aanpassen\n
 Downloaden van Apps\nUpdaten van Apps\nInstellen van e-mail\n\nEn nog veel
  meer! https://hcc.nl/rss-events/evenement/2214-inloop-android-hulp
DTSTART:20230927T080000Z
DTEND:20230927T100000Z
LOCATION:Bibliotheek Gorinchem (Groenmarkt 1\, 4201 EE Gorinchem)
SUMMARY:Inloop Android hulp
URL:https://hcc.nl/rss-events/evenement/2214-inloop-android-hulp
END:VEVENT
BEGIN:VEVENT
UID:20260422T174256UTC-3006RhAeAF@https://hcc.nl/
DTSTAMP:20260422T174256Z
DESCRIPTION:We houden deze keer een bijeenkomst over Liberty BASIC in Amste
 lveen en online.\nAanmelden is niet nodig\, zie de voorpagina voor meer in
 formatie. https://hcc.nl/rss-events/evenement/2399-hybride-liberty-basic-b
 ijeenkomst
DTSTART:20230927T180000Z
DTEND:20230927T200000Z
LOCATION:De Meent  (Orion 3\, 1188 AM Amstelveen)
SUMMARY:Hybride Liberty BASIC bijeenkomst
URL:https://hcc.nl/rss-events/evenement/2399-hybride-liberty-basic-bijeenko
 mst
END:VEVENT
BEGIN:VEVENT
UID:20260422T174256UTC-3007oouEtA@https://hcc.nl/
DTSTAMP:20260422T174256Z
DESCRIPTION:De Regio’s Groningen\, Zuid-Drenthe en Fryslân organiseren geza
 menlijk één keer per maand een video-koffie-uur.\nKijk op de voorpagina vo
 or meer informatie. https://hcc.nl/rss-events/evenement/2695-koffie-uurtje
 -hcc-noord
DTSTART:20230927T173000Z
DTEND:20230927T183000Z
LOCATION:Online ()
SUMMARY:Koffie uurtje HCC!noord
URL:https://hcc.nl/rss-events/evenement/2695-koffie-uurtje-hcc-noord
END:VEVENT
BEGIN:VEVENT
UID:20260422T174256UTC-3008ZSWMpv@https://hcc.nl/
DTSTAMP:20260422T174256Z
DESCRIPTION:Windows 11 is in het najaar 2021 geïntroduceerd en is de opvolg
 er van het succesvolle Windows 10. Windows 10 zal nog tot oktober 2025 doo
 r Microsoft ondersteund worden.\nRecente computers die aan de eisen van Mi
 crosoft voldoen kunnen een upgrade krijgen naar Windows 11.Sinds 1 jaar wo
 rden vrijwel alle nieuwe computers geleverd met Windows 11.\nDe gebruikers
 interface zal voor menig gebruiker even wennen zijn. Het oogt allemaal wat
  strakker en eenvoudiger. In de verkenner is het bekende lint verdwenen en
  is het even zoeken naar de mogelijkheden. Deze lezing gaat over het Start
 menu\, de Taakbalk en vooral over de nieuwe verkenner\, een onmisbaar hulp
 middel op iedere Windows computer. https://hcc.nl/rss-events/evenement/289
 6-webinar-startmenu-verkenner-in-windows-11
DTSTART:20230927T113000Z
DTEND:20230927T130000Z
LOCATION:Online ()
SUMMARY:Webinar: Startmenu & Verkenner in Windows 11
URL:https://hcc.nl/rss-events/evenement/2896-webinar-startmenu-verkenner-in
 -windows-11
END:VEVENT
BEGIN:VEVENT
UID:20260422T174256UTC-3010Ua2va3@https://hcc.nl/
DTSTAMP:20260422T174256Z
DESCRIPTION:Grote zaal BG\,  20:00 - 22:30 uur:\nBeste lezer\,\nDe Senioren
 Inloop van september 2022 leidde ertoe dat een klein groepje enthousiasten
  de meest uitgebreide versie van Linux Mint 21 in de Cinnamon uitvoering i
 nstalleerde op een oude pc. En dat gaat wonderbaarlijk goed. De PC reageer
 t probleemloos en alle benodigde creatieve (foto) en kantoor software staa
 n er standaard op en werkt subliem. \nAls jij op ziet tegen (of niet mee k
 unt naar) Windows 11 en een mooie PC hebt die je eigenlijk niet wilt verva
 ngen… kom dan eens kijken hoe makkelijk zo’n oudere pc toch nog kan werken
 .Er is heel veel software\, voor allerlei internetgebruik en kantoortaken 
 standaard in Linux Mint aanwezig en nog veel meer zonder kosten binnen de 
 Linux werkgroepen world wide. Kom eens kijken. Ook als je al wat ervaring 
 hebt en je verder bekwamen wilt in Linux… Of er simpelweg een keer kennis 
 mee wilt maken. Je bent (vrijblijvend!) welkom! https://hcc.nl/rss-events/
 evenement/2985-hcc-amsterdam-linux-mint-werkgroep-de-meent
DTSTART:20230927T180000Z
DTEND:20230927T203000Z
LOCATION:De Meent  (Orion 3\, 1188 AM Amstelveen)
SUMMARY:HCC!amsterdam\, Linux Mint werkgroep. De Meent.
URL:https://hcc.nl/rss-events/evenement/2985-hcc-amsterdam-linux-mint-werkg
 roep-de-meent
END:VEVENT
BEGIN:VEVENT
UID:20260422T174256UTC-3012CScJWu@https://hcc.nl/
DTSTAMP:20260422T174256Z
DESCRIPTION:  Zaal 8\,  20:00-22:30 uur\, de Meent & online: \nBeste lezer\
 ,\nDe deelnemers praten over heel diverse Internet of Things dingen waarbi
 j ze gerust ook verder praten over de 3D onderwerpen van 14 juni jl.\nKom 
 deze avond naar de Meent of kies voor online deelname. In dat geval stuur 
 je een mailtje met je HCC lidnummer en IoT online op de onderwerpregel\, a
 an hccregio.amsterdam@gmail.comVoor fysieke deelname kom je gewoon naar de
  Meent. Geïnteresseerd maar geen HCC! lid? Ook dan ben je welkom!\nLet op:
  eerst even registreren in de Grote Zaal BG en dan naar de bijeenkomst in 
 zaal 1 op de 1e etage. https://hcc.nl/rss-events/evenement/2987-hcc-amster
 dam-iot-werkgroep-de-meent-online
DTSTART:20230927T180000Z
DTEND:20230927T203000Z
LOCATION:De Meent  (Orion 3\, 1188 AM Amstelveen)
SUMMARY:HCC!amsterdam\, IoT werkgroep. De Meent & Online.
URL:https://hcc.nl/rss-events/evenement/2987-hcc-amsterdam-iot-werkgroep-de
 -meent-online
END:VEVENT
BEGIN:VEVENT
UID:20260422T174256UTC-3013vKVolh@https://hcc.nl/
DTSTAMP:20260422T174256Z
DESCRIPTION:Algemene bijeenkomst\,  Grote zaal BG\,  20:00 - 22:30 uur:\nBe
 ste lezer\,\nBezoekers kunnen met elkaar van gedachten wisselen over compu
 ter onderwerpen en aanverwante zaken waar zij mee bezig zijn. Natuurlijk b
 en je welkom met vragen over- of problemen met computers\, tablets en ande
 re hardware en software. Meestal kunnen we problemen ter plaatse oplossen 
 of je helpen je op weg.\nEr is een internet toegang aanwezig en je mag je 
 PC/laptop/tablet meenemen.Ook vind je er een rijkelijk gevulde leestafel m
 et de nieuwste computer bladen. https://hcc.nl/rss-events/evenement/2989-h
 cc-amsterdam-bijeenkomst-de-meent
DTSTART:20230927T180000Z
DTEND:20230927T203000Z
LOCATION:De Meent  (Orion 3\, 1188 AM Amstelveen)
SUMMARY:HCC!amsterdam\, Bijeenkomst. De Meent.
URL:https://hcc.nl/rss-events/evenement/2989-hcc-amsterdam-bijeenkomst-de-m
 eent
END:VEVENT
BEGIN:VEVENT
UID:20260422T174256UTC-3015I2z8ZM@https://hcc.nl/
DTSTAMP:20260422T174256Z
DESCRIPTION: https://hcc.nl/rss-events/evenement/3017-training-joomla-4-voo
 r-webbeheerders-geannuleerd
DTSTART:20230927T080000Z
DTEND:20230927T140000Z
LOCATION:Bit Ede (Galileïlaan 19\, 6716 BP Ede)
SUMMARY:Training Joomla 4 voor webbeheerders geannuleerd
URL:https://hcc.nl/rss-events/evenement/3017-training-joomla-4-voor-webbehe
 erders-geannuleerd
END:VEVENT
BEGIN:VEVENT
UID:20260422T174256UTC-3016IwcXI3@https://hcc.nl/
DTSTAMP:20260422T174256Z
DESCRIPTION:Windows 11 is in het najaar 2021 geïntroduceerd en is de opvolg
 er van het succesvolle Windows 10. Windows 10 zal nog tot oktober 2025 doo
 r Microsoft ondersteund worden.Recente computers die aan de eisen van Micr
 osoft voldoen kunnen een upgrade krijgen naar Windows 11.Sinds 1 jaar word
 en vrijwel alle nieuwe computers geleverd met Windows 11.De gebruikersinte
 rface zal voor menig gebruiker even wennen zijn. Het oogt allemaal wat str
 akker en eenvoudiger. In de verkenner is het bekende lint verdwenen en is 
 het even zoeken naar de mogelijkheden. Deze lezing gaat over het Startmenu
 \, de Taakbalk en vooral over de nieuwe verkenner\, een onmisbaar hulpmidd
 el op iedere Windows computer. https://hcc.nl/rss-events/evenement/3043-st
 artmenu-verkenner-in-windows-11
DTSTART:20230927T080000Z
DTEND:20230927T100000Z
LOCATION:Gemeenschapshuis De Kuip (Bloemendalsweg 1B\, 7429 AL Colmschate)
SUMMARY:Startmenu & Verkenner in Windows 11
URL:https://hcc.nl/rss-events/evenement/3043-startmenu-verkenner-in-windows
 -11
END:VEVENT
BEGIN:VEVENT
UID:20260422T174256UTC-30182K3b9m@https://hcc.nl/
DTSTAMP:20260422T174256Z
DESCRIPTION:Onze inloop is bedoeld voor iedereen die praktische hulp en ond
 ersteuning nodig heeft bij het gebruik van uw tablet en smartphone.Te denk
 en valt aan:- apps installeren- accounts aanmaken op uw apparaten (breng d
 an uw inloggegevens mee)- E-mail problemen.- Instellingen aanpassenZowel v
 oor Apple\, Android als Windows!\nOnze deskundigen zitten klaar om u met r
 aad en daad terzijde te staan. https://hcc.nl/rss-events/evenement/3045-in
 loop-digitale-hulp
DTSTART:20230927T113000Z
DTEND:20230927T140000Z
LOCATION:Gemeenschapshuis De Kuip (Bloemendalsweg 1B\, 7429 AL Colmschate)
SUMMARY:Inloop: Digitale Hulp
URL:https://hcc.nl/rss-events/evenement/3045-inloop-digitale-hulp
END:VEVENT
END:VCALENDAR
