BEGIN:VCALENDAR
VERSION:2.0
PRODID:-//https://hcc.nl///NONSGML kigkonsult.se iCalcreator 2.10.15//
METHOD:PUBLISH
BEGIN:VEVENT
UID:20260422T174401UTC-1561eXMHv5@https://hcc.nl/
DTSTAMP:20260422T174401Z
DESCRIPTION:Onze inloop is bedoeld voor iedereen die praktische hulp en ond
 ersteuning nodig heeft bij het gebruik van uw digitale apparatuur\, zoals 
 desktop\, laptop\, tablet en smartphone.Te denken valt aan:• opschonen van
  uw computer• updates downloaden• apps installeren• accounts aanmaken op u
 w apparaten(breng dan wel uw gegevens mee)• e-mail problemen.• instellinge
 n aanpassenOnze deskundigen zitten klaar om u met raad en daad terzijde te
  staan. https://hcc.nl/rss-events/evenement/1243-inloop-digitale-hulp
DTSTART:20230926T080000Z
DTEND:20230926T100000Z
LOCATION:Bibliotheek Hardinxveld-Giessendam (Pietersweer 34\, 3371 PN Hardi
 nxveld-Giessendam)
SUMMARY:Inloop digitale hulp
URL:https://hcc.nl/rss-events/evenement/1243-inloop-digitale-hulp
END:VEVENT
BEGIN:VEVENT
UID:20260422T174401UTC-1564zRwutI@https://hcc.nl/
DTSTAMP:20260422T174401Z
DESCRIPTION: https://hcc.nl/rss-events/evenement/1625-inloop
DTSTART:20230926T120000Z
DTEND:20230926T140000Z
LOCATION:De Hoeksteen (kerk) (Velingspad 1\, 9502 RA Stadskanaal)
SUMMARY:Inloop
URL:https://hcc.nl/rss-events/evenement/1625-inloop
END:VEVENT
BEGIN:VEVENT
UID:20260422T174401UTC-1565dkfBGd@https://hcc.nl/
DTSTAMP:20260422T174401Z
DESCRIPTION:Onze inloop is bedoeld voor iedereen die praktische hulp en ond
 ersteuning nodig heeft bij het gebruik van uw tablet en smartphone.\nTe de
 nken valt aan:- apps installeren- accounts aanmaken op uw apparaten (breng
  dan uw inloggegevens mee)- e-mail problemen.- instellingen aanpassenZowel
  voor Apple\, Android als Windows!Onze deskundigen zitten klaar om u met r
 aad en daad terzijde te staan. https://hcc.nl/rss-events/evenement/1682-in
 loop-digitale-hulp
DTSTART:20230926T110000Z
DTEND:20230926T130000Z
LOCATION:Bibliotheek Leerdam (Meent 40\, 4141 AC Leerdam)
SUMMARY:Inloop digitale hulp
URL:https://hcc.nl/rss-events/evenement/1682-inloop-digitale-hulp
END:VEVENT
BEGIN:VEVENT
UID:20260422T174401UTC-1566XpFDC0@https://hcc.nl/
DTSTAMP:20260422T174401Z
DESCRIPTION:Onze inloop is bedoeld voor iedereen die praktische hulp en ond
 ersteuning nodig heeft bij het gebruik van uw tablet en smartphone.Te denk
 en valt aan:- apps installeren- accounts aanmaken op uw apparaten (breng d
 an uw inloggegevens mee)- e-mail problemen.- instellingen aanpassenZowel v
 oor Apple\, Android als Windows!Onze deskundigen zitten klaar om u met raa
 d en daad terzijde te staan. https://hcc.nl/rss-events/evenement/2007-inlo
 op-digitale-hulp
DTSTART:20230926T110000Z
DTEND:20230926T130000Z
LOCATION:Bibliotheek Leerdam (Meent 40\, 4141 AC Leerdam)
SUMMARY:Inloop digitale hulp
URL:https://hcc.nl/rss-events/evenement/2007-inloop-digitale-hulp
END:VEVENT
BEGIN:VEVENT
UID:20260422T174401UTC-1567JihHpA@https://hcc.nl/
DTSTAMP:20260422T174401Z
DESCRIPTION:Je bent elke dinsdag- en donderdagavond welkom in onze locatie 
 NewTechPark\nDe dinsdag is voor de makers\, 3D-ontwerpen\, scannen e print
 en\, vaak zijn dat ook liefhebbers van robotica\, drones en programmeren.A
 ls je dinsdagavond tussen 19.00 en 20.00 uur inlogt met Jitsi\, kun je ken
 nismaken met hcc!3D. Soms kun je desgevraagd ook online meedoen met een ac
 tiviteit.\nDat kan dan op:   https://wij.hcc.nl/3D (Alleen toegang als je 
 zichtbaar bent met voor- en achternaam. ) https://hcc.nl/rss-events/evenem
 ent/2091-bijeenkomst-hcc-3d
DTSTART:20230926T170000Z
DTEND:20230926T200000Z
LOCATION:NewTechPark (Vlijtseweg 148\, 7317 AK Apeldoorn)
SUMMARY:Bijeenkomst HCC!3d
URL:https://hcc.nl/rss-events/evenement/2091-bijeenkomst-hcc-3d
END:VEVENT
BEGIN:VEVENT
UID:20260422T174401UTC-1569wupSgZ@https://hcc.nl/
DTSTAMP:20260422T174401Z
DESCRIPTION:Voor leden met interesse en passie voor Open Source software is
  op deze bijeenkomst ‘de’ gelegenheid om als Open Source werkgroep samen t
 e komen en elkaars kennis en handigheid op dit gebied te kunnen delen.Onde
 r leiding van werkgroep coördinator Tjeerd Hamm ervaren we samen de mooie 
 voordelen en uitdagingen op het gebied van Open Source software en daaraan
  gerelateerde hardware zoals de Raspberry PI\; Open Source software is mee
 stal gratis en dus legaal te downloaden\, de broncode is vrij beschikbaar 
 en bovendien meestal vrij te bewerken en/of kopiëren. Veel deelnemers neme
 n een notebook of hun Raspberry PI mee naar de bijeenkomst om het een en a
 nder direct te kunnen uitproberen.Op de Open Source werkgroep bijeenkomste
 n is een Wi-Fi internet verbinding aanwezig\, zodat Open Source programma'
 s\, updates en aanvullingen ter plekke kunnen worden gedownload en (eventu
 eel) met de hulp van een andere deelnemer kunnen worden geïnstalleerd.Verd
 er is het een ideale gelegenheid om met andere leden bij te praten\, ervar
 ingen uit te wisselen en samen met plezier te ontdekken welke mogelijkhede
 n er allemaal zijn.De Open Source werkgroep bijeenkomsten vinden vrijwel e
 lke 4e en 5e (mits die bestaat) dinsdagavond van de maand plaats o.l.v. Tj
 eerd Hamm en starten om 20:00 uur. https://hcc.nl/rss-events/evenement/216
 9-open-source-werkgroep-bijeenkomst
DTSTART:20230926T180000Z
DTEND:20230926T203000Z
LOCATION:Zalencentrum De Witte Kerk (Agnes Huijnstraat 3\, 5914 PE Venlo)
SUMMARY:Open Source werkgroep bijeenkomst
URL:https://hcc.nl/rss-events/evenement/2169-open-source-werkgroep-bijeenko
 mst
END:VEVENT
BEGIN:VEVENT
UID:20260422T174401UTC-1571HuXhzf@https://hcc.nl/
DTSTAMP:20260422T174401Z
DESCRIPTION: https://hcc.nl/rss-events/evenement/2418-inloop-stadskanaal
DTSTART:20230926T120000Z
DTEND:20230926T140000Z
LOCATION:De Hoeksteen (kerk) (Velingspad 1\, 9502 RA Stadskanaal)
SUMMARY:Inloop Stadskanaal
URL:https://hcc.nl/rss-events/evenement/2418-inloop-stadskanaal
END:VEVENT
BEGIN:VEVENT
UID:20260422T174401UTC-15726MVJs8@https://hcc.nl/
DTSTAMP:20260422T174401Z
DESCRIPTION:Alleen voor leden. https://hcc.nl/rss-events/evenement/2808-hel
 pdesk
DTSTART:20230926T113000Z
DTEND:20230926T140000Z
LOCATION:Activiteitencentrum Orka  (Broekakkerseweg 1\, 5641 PC Eindhoven)
SUMMARY:Helpdesk
URL:https://hcc.nl/rss-events/evenement/2808-helpdesk
END:VEVENT
BEGIN:VEVENT
UID:20260422T174401UTC-1573NxRiuu@https://hcc.nl/
DTSTAMP:20260422T174401Z
DESCRIPTION:Je bent elke dinsdag- en donderdagavond welkom in onze locatie 
 NewTechPark\nDe dinsdag is voor de makers\, 3D-ontwerpen\, scannen e print
 en\, vaak zijn dat ook liefhebbers van robotica\, drones en programmeren.A
 ls je dinsdagavond tussen 19.00 en 20.00 uur inlogt met Jitsi\, kun je ken
 nismaken met hcc!3D. Soms kun je desgevraagd ook online meedoen met een ac
 tiviteit.\nDat kan dan op: https://wij.hcc.nl/3D (Alleen toegang als je zi
 chtbaar bent met voor- en achternaam. ) https://hcc.nl/rss-events/evenemen
 t/2814-bijeenkomst-hcc-3d
DTSTART:20230926T170000Z
DTEND:20230926T200000Z
LOCATION:NewTechPark (Vlijtseweg 148\, 7317 AK Apeldoorn)
SUMMARY:Bijeenkomst HCC!3d
URL:https://hcc.nl/rss-events/evenement/2814-bijeenkomst-hcc-3d
END:VEVENT
BEGIN:VEVENT
UID:20260422T174401UTC-1574UBgPFi@https://hcc.nl/
DTSTAMP:20260422T174401Z
DESCRIPTION:Onze inloop is bedoeld voor iedereen die praktische hulp en ond
 ersteuning nodig heeft bij het gebruik van uw digitale apparatuur\, zoals 
 desktop\, laptop\, tablet en smartphone.\nTe denken valt aan:• opschonen v
 an uw computer• updates downloaden• apps installeren• accounts aanmaken op
  uw apparaten(breng dan wel uw gegevens mee)• e-mail problemen.• instellin
 gen aanpassenOnze deskundigen zitten klaar om u met raad en daad terzijde 
 te staan.\n  https://hcc.nl/rss-events/evenement/3003-inloop-digitale-hulp
DTSTART:20230926T113000Z
DTEND:20230926T140000Z
LOCATION:Activiteitencentrum Orka  (Broekakkerseweg 1\, 5641 PC Eindhoven)
SUMMARY:Inloop Digitale Hulp
URL:https://hcc.nl/rss-events/evenement/3003-inloop-digitale-hulp
END:VEVENT
BEGIN:VEVENT
UID:20260422T174401UTC-1576EamXLr@https://hcc.nl/
DTSTAMP:20260422T174401Z
DESCRIPTION:Dinsdag 26 september a.s. houdt HCC! Midden-Brabant weer clubav
 ond. Op deze avond zijn al onze werkgroep aanwezig voor uw vragen\, proble
 men of zo maar een gezellig praatje.\nInmiddels is onze ge-herstarte 3D-pr
 int werkgroep\, onder aansturing van Pete van Bijsterveldt\, ook op volle 
 stoom gekomen. Daar wodt nu een begin gemaakt met verkenning van het teken
 - en ontwerpprogramma 'OnShape'. Geïnteresseerden kunnen gewoon bij deze w
 erkgroep aanschuiven.\nUieteraard staat op deze avond ook weer de koffie k
 laar.\nU bent van harte welkom.\n  https://hcc.nl/rss-events/evenement/301
 0-clubbijeenkomst-hcc-midden-brabant-inloop
DTSTART:20230926T180000Z
DTEND:20230926T201500Z
LOCATION:De Goede Herder (Isidorusstraat 6\, 5042 JJ Tilburg)
SUMMARY:Clubbijeenkomst HCC! Midden-Brabant\, inloop
URL:https://hcc.nl/rss-events/evenement/3010-clubbijeenkomst-hcc-midden-bra
 bant-inloop
END:VEVENT
BEGIN:VEVENT
UID:20260422T174401UTC-157825lSGr@https://hcc.nl/
DTSTAMP:20260422T174401Z
DESCRIPTION: https://hcc.nl/rss-events/evenement/3039-digitale-erfenis
DTSTART:20230926T113000Z
DTEND:20230926T140000Z
LOCATION:De Twee Marken  (Trompplein 5\, 3951 CR Maarn)
SUMMARY:Digitale Erfenis
URL:https://hcc.nl/rss-events/evenement/3039-digitale-erfenis
END:VEVENT
BEGIN:VEVENT
UID:20260422T174401UTC-1578GldGlS@https://hcc.nl/
DTSTAMP:20260422T174401Z
DESCRIPTION:Onze inloop is bedoeld voor iedereen die praktische hulp en ond
 ersteuning nodig heeft bij het gebruik van uw digitale apparatuur\, zoals 
 desktop\, laptop\, tablet en smartphone.Te denken valt aan:• opschonen van
  uw computer• updates downloaden• apps installeren• accounts aanmaken op u
 w apparaten (breng dan wel uw gegevens mee)• e-mail problemen.• instelling
 en aanpassenOnze deskundigen zitten klaar om u met raad en daad terzijde t
 e staan. https://hcc.nl/rss-events/evenement/3047-inloop-digitale-hulp
DTSTART:20230926T080000Z
DTEND:20230926T100000Z
LOCATION:MFC De Oase  (Ericaplein 1\, 6951 CP Dieren)
SUMMARY:Inloop Digitale Hulp
URL:https://hcc.nl/rss-events/evenement/3047-inloop-digitale-hulp
END:VEVENT
BEGIN:VEVENT
UID:20260422T174401UTC-1580u4UnW6@https://hcc.nl/
DTSTAMP:20260422T174401Z
DESCRIPTION:Windows 11 is in het najaar 2021 geïntroduceerd en is de opvolg
 er van het succesvolle Windows 10. Windows 10 zal nog tot oktober 2025 doo
 r Microsoft ondersteund worden.Recente computers die aan de eisen van Micr
 osoft voldoen kunnen een upgrade krijgen naar Windows 11.Sinds 1 jaar word
 en vrijwel alle nieuwe computers geleverd met Windows 11.De gebruikersinte
 rface zal voor menig gebruiker even wennen zijn. Het oogt allemaal wat str
 akker en eenvoudiger. In de verkenner is het bekende lint verdwenen en is 
 het even zoeken naar de mogelijkheden. Deze lezing gaat over het Startmenu
 \, de Taakbalk en vooral over de nieuwe verkenner\, een onmisbaar hulpmidd
 el op iedere Windows computer. https://hcc.nl/rss-events/evenement/3055-st
 artmenu-verkenner-in-windows-11
DTSTART:20230926T110000Z
DTEND:20230926T140000Z
LOCATION:Huis van de Wijk Oostgaarde (De Linie 5\, 2905 AX Capelle aan den 
 IJssel)
SUMMARY:Startmenu & Verkenner in Windows 11
URL:https://hcc.nl/rss-events/evenement/3055-startmenu-verkenner-in-windows
 -11
END:VEVENT
BEGIN:VEVENT
UID:20260422T174401UTC-15819p9fuB@https://hcc.nl/
DTSTAMP:20260422T174401Z
DESCRIPTION:Beste leden/niet-leden.\nOp dinsdagmiddag 26 september om 14.00
  uur vindt er een lezing/workshop plaats over CHAT.GPT.Zet het in je agend
 a\,dit mag je niet missen !!Deze workshop wordt gegeven door Joop van Domm
 elen van HCC.Alle leden en niet-leden kunnen deze workshop bijwonen. Denk 
 ook aan jullie familleden vrienden en kennissen!! Niet-leden kunnen zich o
 pgeven bij onze secretaris Jan Kimenai.E-mail: j.a.mkimena@gmail.com\nMet 
 ingang van 4 oktober 13.30 t/m 16.00 uur houden wij iedere dinsdagmiddag e
 en inloopmiddag voor leden en niet-leden over al uw vragen over computer\,
  laptop\, tablet en smartphone.Adres: Monseigneur Nolensplein 1\, 4812JC \
 , Breda.Telefoon: 076 514 2855 Vriendelijke groeten\,Het bestuur:Wicher-An
 s-Wim-Jan. https://hcc.nl/rss-events/evenement/3065-lezing-workshop-chat-g
 pt
DTSTART:20230926T120000Z
DTEND:20230926T140000Z
LOCATION:Monseigneur  (Mgr. Nolensplein 1\, 4812 JC Breda)
SUMMARY:Lezing/workshop CHAT.GPT
URL:https://hcc.nl/rss-events/evenement/3065-lezing-workshop-chat-gpt
END:VEVENT
END:VCALENDAR
