BEGIN:VCALENDAR
VERSION:2.0
PRODID:-//https://hcc.nl///NONSGML kigkonsult.se iCalcreator 2.10.15//
METHOD:PUBLISH
BEGIN:VEVENT
UID:20260421T071728UTC-4302eE3VzE@https://hcc.nl/
DTSTAMP:20260421T071728Z
DESCRIPTION: \nEindhoven Maker Faire zaterdag 23 en zondag 24 september\, 1
 0-18 uur in het Stadhuis\, op het Stadhuisplein en omgeving. https://hcc.n
 l/rss-events/evenement/2995-maker-faire-2023-eindhoven
DTSTART:20230923T080000Z
DTEND:20230924T160000Z
LOCATION:Stadhuisplein\, Eindhoven (Stadhuisplein 1\, 5611 EM Eindhoven)
SUMMARY:Maker Faire 2023 Eindhoven
URL:https://hcc.nl/rss-events/evenement/2995-maker-faire-2023-eindhoven
END:VEVENT
END:VCALENDAR
