BEGIN:VCALENDAR
VERSION:2.0
PRODID:-//https://hcc.nl///NONSGML kigkonsult.se iCalcreator 2.10.15//
METHOD:PUBLISH
BEGIN:VEVENT
UID:20260420T204806UTC-0336DcjHVk@https://hcc.nl/
DTSTAMP:20260420T204806Z
DESCRIPTION: https://hcc.nl/rss-events/evenement/1763-fotokring-helmond
DTSTART:20230921T173000Z
DTEND:20230921T200000Z
LOCATION:Wijkhuis de Westwijzer  (Cortenbachstraat 70\, 5707 TJ Helmond)
SUMMARY:Fotokring Helmond
URL:https://hcc.nl/rss-events/evenement/1763-fotokring-helmond
END:VEVENT
BEGIN:VEVENT
UID:20260420T204806UTC-03371Hs4IN@https://hcc.nl/
DTSTAMP:20260420T204806Z
DESCRIPTION:Alle werkgroepen zijn aanwezig. De meesten verzorgen maandelijk
 s de presentatie. De Borduurgroep of misschien liever de werkgroep Creatie
 ve Werkvormen bezet elke week zelfs een aparte zaal. https://hcc.nl/rss-ev
 ents/evenement/2282-inloop-voor-alle-werkgroepen
DTSTART:20230921T170000Z
DTEND:20230921T203000Z
LOCATION:NewTechPark (Vlijtseweg 148\, 7317 AK Apeldoorn)
SUMMARY:Inloop voor alle werkgroepen
URL:https://hcc.nl/rss-events/evenement/2282-inloop-voor-alle-werkgroepen
END:VEVENT
BEGIN:VEVENT
UID:20260420T204806UTC-0338v9fwwo@https://hcc.nl/
DTSTAMP:20260420T204806Z
DESCRIPTION:Met Clipchamp kunt u gratis een onbeperkt aantal video's in hig
 h-definition (1080p) maken\, zodat u zich kunt richten op wat het belangri
 jkst is: uw inhoud. Of u nu video's voor uw bedrijf maakt of gewoon zomaar
 : deze gratis video-editor is de perfecte manier om aantrekkelijke inhoud 
 te maken die binnen het budget blijft. https://hcc.nl/rss-events/evenement
 /2615-clipchamp
DTSTART:20230921T173000Z
DTEND:20230921T200000Z
LOCATION:NewTechPark (Vlijtseweg 148\, 7317 AK Apeldoorn)
SUMMARY:Clipchamp
URL:https://hcc.nl/rss-events/evenement/2615-clipchamp
END:VEVENT
BEGIN:VEVENT
UID:20260420T204806UTC-0338fTHusU@https://hcc.nl/
DTSTAMP:20260420T204806Z
DESCRIPTION:Onze inloop is bedoeld voor iedereen die praktische hulp en ond
 ersteuning nodig heeft bij het gebruik van uw tablet en smartphone.\nTe de
 nken valt aan:- apps installeren- accounts aanmaken op uw apparaten (breng
  dan uw inloggegevens mee)- E-mail problemen.- Instellingen aanpassenZowel
  voor Apple\, Android als Windows!\nOnze deskundigen zitten klaar om u met
  raad en daad terzijde te staan. https://hcc.nl/rss-events/evenement/2621-
 inloop-digitale-hulp
DTSTART:20230921T073000Z
DTEND:20230921T090000Z
LOCATION:Wijkcentrum Rozenobel (Dukatenplein 2\, 4205 GE Gorinchem)
SUMMARY:Inloop Digitale Hulp
URL:https://hcc.nl/rss-events/evenement/2621-inloop-digitale-hulp
END:VEVENT
END:VCALENDAR
