BEGIN:VCALENDAR
VERSION:2.0
PRODID:-//https://hcc.nl///NONSGML kigkonsult.se iCalcreator 2.10.15//
METHOD:PUBLISH
BEGIN:VEVENT
UID:20260420T204803UTC-2366AelWZ3@https://hcc.nl/
DTSTAMP:20260420T204803Z
DESCRIPTION:Voor computergerelateerde problemen met de mogelijkheid tot het
  stellen van vragen. https://hcc.nl/rss-events/evenement/1855-helpdesk-hel
 mond
DTSTART:20230920T120000Z
DTEND:20230920T143000Z
LOCATION:De Geseldonk (Cederhoutstraat 44\, 5706 XC Helmond)
SUMMARY:Helpdesk Helmond
URL:https://hcc.nl/rss-events/evenement/1855-helpdesk-helmond
END:VEVENT
BEGIN:VEVENT
UID:20260420T204803UTC-2367btV4HR@https://hcc.nl/
DTSTAMP:20260420T204803Z
DESCRIPTION:Heeft u een vraag over of een probleem met uw Android apparaat?
  Onze deskundigen zitten klaar om u te helpen.\n\nInstellingen aanpassen\n
 Downloaden van Apps\nUpdaten van Apps\nInstellen van e-mail\n\nEn nog veel
  meer! https://hcc.nl/rss-events/evenement/1907-inloop-android-hulp
DTSTART:20230920T080000Z
DTEND:20230920T100000Z
LOCATION:Bibliotheek Gorinchem (Groenmarkt 1\, 4201 EE Gorinchem)
SUMMARY:Inloop Android hulp
URL:https://hcc.nl/rss-events/evenement/1907-inloop-android-hulp
END:VEVENT
BEGIN:VEVENT
UID:20260420T204803UTC-2367uwuZUa@https://hcc.nl/
DTSTAMP:20260420T204803Z
DESCRIPTION:Heeft u een vraag over of een probleem met uw Android apparaat?
  Onze deskundigen zitten klaar om u te helpen.\n\nInstellingen aanpassen\n
 Downloaden van Apps\nUpdaten van Apps\nInstellen van e-mail\n\nEn nog veel
  meer! https://hcc.nl/rss-events/evenement/2212-inloop-android-hulp
DTSTART:20230920T080000Z
DTEND:20230920T100000Z
LOCATION:Bibliotheek Gorinchem (Groenmarkt 1\, 4201 EE Gorinchem)
SUMMARY:Inloop Android hulp
URL:https://hcc.nl/rss-events/evenement/2212-inloop-android-hulp
END:VEVENT
BEGIN:VEVENT
UID:20260420T204803UTC-2367zCIaCU@https://hcc.nl/
DTSTAMP:20260420T204803Z
DESCRIPTION:Op woensdagavond 20 september organiseert HCC!apple vanaf 20:00
  uur een online presentatie en demo van de vele handige mogelijkheden in i
 OS 17 en iPadOS 17 die rond die tijd beschikbaar gaat komen.\nAanmelding v
 oor deze online presentatie is (na inloggen) alleen mogelijk voor leden va
 n HCC!apple. https://hcc.nl/rss-events/evenement/2975-online-presentatie-i
 os-17-en-ipados-17
DTSTART:20230920T180000Z
DTEND:20230920T200000Z
LOCATION:Online ()
SUMMARY:Online presentatie iOS 17 en iPadOS 17
URL:https://hcc.nl/rss-events/evenement/2975-online-presentatie-ios-17-en-i
 pados-17
END:VEVENT
BEGIN:VEVENT
UID:20260420T204803UTC-2368B65rgk@https://hcc.nl/
DTSTAMP:20260420T204803Z
DESCRIPTION:Online\,  20:01-21:30 uur\nBeste lezer\,\nVanavond komen de led
 en van onze 'Liberty BASIC programmeer werkgroep’\, deze maand voor de der
 de keer online bijeen.\nJe kunt online meedoen met de Liberty BASIC progra
 mmeer werkgroep. LibertyBASIC programmeren is eenvoudig(er) dan andere BAS
 IC talen en daagt uit. Liberty Basic bijeenkomsten zijn interessant\, voor
  zowel beginners- als gevorderden.\nVoor meer informatie en instructies ki
 jk je op https://programmeren.hcc.nl/ of mail de coördinator: coördinator/
 docent\nMisschien heb je ook zin in de Maandelijkse HCC!programmeren bijee
 nkomst (fysiek en online). https://hcc.nl/rss-events/evenement/2991-hcc-am
 sterdam-liberty-basic-werkgroep-online
DTSTART:20230920T180000Z
DTEND:20230920T200000Z
LOCATION:Online ()
SUMMARY:HCC!amsterdam\, Liberty Basic werkgroep. Online.
URL:https://hcc.nl/rss-events/evenement/2991-hcc-amsterdam-liberty-basic-we
 rkgroep-online
END:VEVENT
END:VCALENDAR
