BEGIN:VCALENDAR
VERSION:2.0
PRODID:-//https://hcc.nl///NONSGML kigkonsult.se iCalcreator 2.10.15//
METHOD:PUBLISH
BEGIN:VEVENT
UID:20260420T145523UTC-8893cMGKpv@https://hcc.nl/
DTSTAMP:20260420T145523Z
DESCRIPTION:Onze inloop is bedoeld voor iedereen die praktische hulp en ond
 ersteuning nodig heeft bij het gebruik van uw digitale apparatuur\, zoals 
 desktop\, laptop\, tablet en smartphone.Te denken valt aan:• opschonen van
  uw computer• updates downloaden• apps installeren• accounts aanmaken op u
 w apparaten(breng dan wel uw gegevens mee)• e-mail problemen.• instellinge
 n aanpassenOnze deskundigen zitten klaar om u met raad en daad terzijde te
  staan. https://hcc.nl/rss-events/evenement/1241-inloop-digitale-hulp
DTSTART:20230919T080000Z
DTEND:20230919T100000Z
LOCATION:Bibliotheek Hardinxveld-Giessendam (Pietersweer 34\, 3371 PN Hardi
 nxveld-Giessendam)
SUMMARY:Inloop digitale hulp
URL:https://hcc.nl/rss-events/evenement/1241-inloop-digitale-hulp
END:VEVENT
BEGIN:VEVENT
UID:20260420T145523UTC-8895a9VBhg@https://hcc.nl/
DTSTAMP:20260420T145523Z
DESCRIPTION:Je bent elke dinsdag- en donderdagavond welkom in onze locatie 
 NewTechPark\nDe dinsdag is voor de makers\, 3D-ontwerpen\, scannen e print
 en\, vaak zijn dat ook liefhebbers van robotica\, drones en programmeren.A
 ls je dinsdagavond tussen 19.00 en 20.00 uur inlogt met Jitsi\, kun je ken
 nismaken met hcc!3D. Soms kun je desgevraagd ook online meedoen met een ac
 tiviteit.\nDat kan dan op:   https://wij.hcc.nl/3D (Alleen toegang als je 
 zichtbaar bent met voor- en achternaam. ) https://hcc.nl/rss-events/evenem
 ent/2089-bijeenkomst-hcc-3d
DTSTART:20230919T170000Z
DTEND:20230919T200000Z
LOCATION:NewTechPark (Vlijtseweg 148\, 7317 AK Apeldoorn)
SUMMARY:Bijeenkomst HCC!3d
URL:https://hcc.nl/rss-events/evenement/2089-bijeenkomst-hcc-3d
END:VEVENT
BEGIN:VEVENT
UID:20260420T145523UTC-88967U7CzK@https://hcc.nl/
DTSTAMP:20260420T145523Z
DESCRIPTION:Problemen met computer\, laptop\, tablet of smartphone? Kom lan
 gs en wij kijken en helpen. https://hcc.nl/rss-events/evenement/2785-helpd
 esk
DTSTART:20230919T110000Z
DTEND:20230919T140000Z
LOCATION:Activiteitencentrum Orka  (Broekakkerseweg 1\, 5641 PC Eindhoven)
SUMMARY:Helpdesk
URL:https://hcc.nl/rss-events/evenement/2785-helpdesk
END:VEVENT
BEGIN:VEVENT
UID:20260420T145523UTC-8896Eukoid@https://hcc.nl/
DTSTAMP:20260420T145523Z
DESCRIPTION:Je bent elke dinsdag- en donderdagavond welkom in onze locatie 
 NewTechPark\nDe dinsdag is voor de makers\, 3D-ontwerpen\, scannen e print
 en\, vaak zijn dat ook liefhebbers van robotica\, drones en programmeren.A
 ls je dinsdagavond tussen 19.00 en 20.00 uur inlogt met Jitsi\, kun je ken
 nismaken met hcc!3D. Soms kun je desgevraagd ook online meedoen met een ac
 tiviteit.\nDat kan dan op: https://wij.hcc.nl/3D (Alleen toegang als je zi
 chtbaar bent met voor- en achternaam. ) https://hcc.nl/rss-events/evenemen
 t/2812-bijeenkomst-hcc-3d
DTSTART:20230919T170000Z
DTEND:20230919T200000Z
LOCATION:NewTechPark (Vlijtseweg 148\, 7317 AK Apeldoorn)
SUMMARY:Bijeenkomst HCC!3d
URL:https://hcc.nl/rss-events/evenement/2812-bijeenkomst-hcc-3d
END:VEVENT
BEGIN:VEVENT
UID:20260420T145523UTC-88965iInt1@https://hcc.nl/
DTSTAMP:20260420T145523Z
DESCRIPTION:We houden weer een online algemene bijeenkomst op dinsdagavond.
 \nAanmelden is niet nodig\, zie de voorpagina voor meer informatie. https:
 //hcc.nl/rss-events/evenement/2902-online-algemene-sessie-programmeren
DTSTART:20230919T173000Z
DTEND:20230919T193000Z
LOCATION:Online ()
SUMMARY:Online algemene sessie programmeren
URL:https://hcc.nl/rss-events/evenement/2902-online-algemene-sessie-program
 meren
END:VEVENT
BEGIN:VEVENT
UID:20260420T145523UTC-8897evCB2G@https://hcc.nl/
DTSTAMP:20260420T145523Z
DESCRIPTION: Contact hccregio.amsterdam@gmail.com\nZaal 1\, 14:00-16:00 uur
 :\nDeze keer opnieuw en zéér interessant  'Digitale Veiligheid in de prakt
 ijk'\, door Paul Longarini\, kaderlid van FNV Senioren.\nWij maken allemaa
 l gebruik van een computer en hebben er vaak ook nog een mobieltje bij of 
 een tablet. Steeds om toegang te hebben tot het internet! Omdat we een com
 puterhobby hebben\, maar ook omdat het steeds vaker nodig is digitaal te k
 unnen communiceren.\nWe kopen ook steeds vaker op het web\, we bankieren v
 ia het web en we hebben via internet contact met de Overheid en verzekeraa
 rs. Daarnaast nemen de digitale mogelijkheden en gemakken in en rond ons h
 uis steeds toe.\nWhatsApp is voor menigeen het belangrijkste kanaal voor c
 ontact met vrienden en familie. ’t Is heel gemakkelijk allemaal\, maar hoe
  veilig is het en hoe weet je welke winkels of diensten op het web betrouw
 baar zijn?\nWat gebeurt er precies als je álle cookies accepteert\, hoe we
 rkt dat? En moet je beslist meedoen met de Tikkie-app naast je bankpas\, o
 f betalen met je telefoon? Wat kun je beter niet vertellen\, op Social Med
 ia?\nRegelmatig horen we over massaal op internet aangeboden email-adresse
 n\, akelig wat daar alleen al mee mogelijk is. En over partijen NAW gegeve
 ns met gebruikersnamen en wachtwoorden\, klaar voor ‘aankopen op andermans
  rekening’ en ernstiger vormen van identiteitsdiefstal! Lucratief voor kwa
 adwillenden\, tegen betaalbare prijzen.En denk nou niet: ‘dat kan mij niet
  overkomen’ – want dat kan namelijk wél!\nWe illustreren ‘oplichting’ met 
 een geraffineerd praktijkgeval en de hoe schade kon worden voorkomen.\nOve
 r deze onderwerpen en meer\, zoals VPN verbindingen en openbare WiFi\, ove
 r veilig verkopen via internet\, het beheren van routers en over digitale 
 nalatenschappen neemt FNV-kaderlid Paul Longarini je zowel deze maand als 
 in oktober mee in de wondere wereld van digitale veiligheid. En als dankje
 wel voor de moeite luisteren we ook naar welke voordelen we kunnen verwach
 ten van het FNV Senioren lidmaatschap.\nDeze presentatie is een logisch ve
 rvolg op die van Bart van Dijk (op 16 mei jl.) en is vooral praktisch. In 
 onze volgende SeniorenInloop\, op 17 oktober\, kun je Paul opnieuw verwach
 ten met veel praktische info.\nJe bent op beide datums van harte welkom.\n
 Deze  presentatie ‘Internet Veiligheid’ vind je binnenkort in onze downloa
 dmap op https://amsterdam.hcc.nl/\nKijk ook eens naar verslagen van veel j
 aren SeniorenInloop op jemeent.blogspotIs daar iets bij dat om herhaling v
 raagt en / of een update\, vertel het ons. \nMet vanmiddag een – voor een 
 breed publiek interessant – hoofdonderwerp ‘handigheidjes met Excel’ door 
 Hans Brevoord.\nJe kent Hans waarschijnlijk. In april legde hij de verschi
 llen uit tussen Slimme Tv’s en de minder intelligente toestellen. Je vindt
  die presentatie trouwens in de downloadmap op onze website .De uitleg van
  vanmiddag is geschikt voor beginners en gevorderden.\nVelen onder ons ‘ke
 nnen’ MS Excel' waarschijnlijk en beheersen de basistaken voor bv. het sor
 teren van naam- en adreslijsten\, voetbaluitslagen of het bijhouden van ee
 n huishoudboekje. En voor wie die vaardigheden nog niet heeft komen die na
 tuurlijk ter sprake\, waardoor iedereen uiteindelijk de handigheidjes kan 
 gebruiken.\nExcel is een onderdeel van het Microsoft Office pakket maar is
  ook gratis online beschikbaar\, met de meeste functies die Hans vanmiddag
  laat zien. Verder zijn is er ook soortgelijke software voor en van Apple 
 voor Mac en iOS gebruikers\, Open Office en Google Docs\, waarmee je het m
 eeste ook kunt. ’t Is maar net waar je voorkeur ligt.\nNaast uitleg over b
 asisvaardigheden (vastzetten van kolomtitels en rijen\, automatisch sorter
 en\, uitgebreid rekenen\, zoeken en vervangen etc.) gaat Hans ook geavance
 erder met ‘ALS dan DAT’ functies en combineren van adreslijsten met Word o
 m grotere hoeveelheden enveloppen te adresseren – met mooie letters naar k
 euze. Kortom: dit is opnieuw zo’n presentatie die de moeite van het bijwon
 en meer dan waard is en er is volop ruimte om je vragen te stellen.\nDe pr
 esentatie ‘Handigheidjes met Excel’ – kun je heel binnenkort terugvinden i
 n onze downloadmap van onze websiteDaar staan ook eerdere presentaties.\nJ
 e vindt daar ook alle presentaties van de vorige maanden\, net als de uitg
 ebreide verslagen van vele jaren SeniorenInloop\, op de: jemeent.blogspot.
 nl\nMeestal is het makkelijk parkeren nabij De Meent\, op het terrein ter 
 hoogte van Melkweg 2.De Meent is trouwens ook goed bereikbaar met OV snelt
 ram\, lijn 25 en met de buslijnen 174 en 199. https://hcc.nl/rss-events/ev
 enement/2993-hcc-amsterdam-senioreninloop-de-meent
DTSTART:20230919T120000Z
DTEND:20230919T140000Z
LOCATION:De Meent  (Orion 3\, 1188 AM Amstelveen)
SUMMARY:HCC!amsterdam\, Senioreninloop. De Meent.
URL:https://hcc.nl/rss-events/evenement/2993-hcc-amsterdam-senioreninloop-d
 e-meent
END:VEVENT
BEGIN:VEVENT
UID:20260420T145523UTC-8899ZvA74O@https://hcc.nl/
DTSTAMP:20260420T145523Z
DESCRIPTION:Onze inloop is bedoeld voor iedereen die praktische hulp en ond
 ersteuning nodig heeft bij het gebruik van uw digitale apparatuur\, zoals 
 desktop\, laptop\, tablet en smartphone.\nTe denken valt aan:• opschonen v
 an uw computer• updates downloaden• apps installeren• accounts aanmaken op
  uw apparaten(breng dan wel uw gegevens mee)• e-mail problemen.• instellin
 gen aanpassenOnze deskundigen zitten klaar om u met raad en daad terzijde 
 te staan.\n  https://hcc.nl/rss-events/evenement/3005-inloop-digitale-hulp
DTSTART:20230919T113000Z
DTEND:20230919T140000Z
LOCATION:Activiteitencentrum Orka  (Broekakkerseweg 1\, 5641 PC Eindhoven)
SUMMARY:Inloop Digitale Hulp
URL:https://hcc.nl/rss-events/evenement/3005-inloop-digitale-hulp
END:VEVENT
END:VCALENDAR
