BEGIN:VCALENDAR
VERSION:2.0
PRODID:-//https://hcc.nl///NONSGML kigkonsult.se iCalcreator 2.10.15//
METHOD:PUBLISH
BEGIN:VEVENT
UID:20260422T134906UTC-6817KhdOfX@https://hcc.nl/
DTSTAMP:20260422T134906Z
DESCRIPTION:Met het gratis CMS Joomla is het maken van een website binnen b
 ereik gekomen voor ieder die zich er in wil verdiepen. Joomla heeft veel m
 ogelijkheden zowel voor de beginnende gebruiker\, de gevorderde hobbyist a
 ls voor de web professional.\nKijk hier voor meer informatie https://hcc.n
 l/rss-events/evenement/2706-gebruikersgroep-joomla-heerenveen
DTSTART:20230918T173000Z
DTEND:20230918T200000Z
LOCATION:MFA. Aengwirden (it Hiem 1-3\, 8458 CA Tjalleberd)
SUMMARY:Gebruikersgroep Joomla! Heerenveen
URL:https://hcc.nl/rss-events/evenement/2706-gebruikersgroep-joomla-heerenv
 een
END:VEVENT
BEGIN:VEVENT
UID:20260422T134906UTC-6818chIlAj@https://hcc.nl/
DTSTAMP:20260422T134906Z
DESCRIPTION:John Glaser en Cor van Rooij van de HCC!genealogie zijn aanwezi
 g en voor uw stamboomonderzoek.\nZij kunnen u helpen met vragen over het z
 oeken naar uw gegevens op internet\, maar ook hoe u uw gegevens vastlegt m
 et programma's zoals Aldfaer en GensDataPro. Ook vragen over de verschille
 nde DNA-testen kan John beantwoorden.\nEr zijn ook demo's van Ancestor Tre
 e Manager\, HuMo-gen en Geneaal en wereldstambomen.\nVoor meer info klik h
 ier. https://hcc.nl/rss-events/evenement/2718-bijeenkomst-hcc-genealogie
DTSTART:20230918T173000Z
DTEND:20230918T200000Z
LOCATION:Kerkelijk Centrum De Brug  (Schuilenburgerweg 2\, 3816 TB Amersfoo
 rt)
SUMMARY:Bijeenkomst HCC!genealogie
URL:https://hcc.nl/rss-events/evenement/2718-bijeenkomst-hcc-genealogie
END:VEVENT
BEGIN:VEVENT
UID:20260422T134906UTC-6818AuP0V3@https://hcc.nl/
DTSTAMP:20260422T134906Z
DESCRIPTION:Op 18 september hebben we in 'De Brug' ook weer onze HCC  bijee
 nkomst\, die bestaat uit een inloop in de eerste zaal en een presentatie i
 n de tweede zaal.\nInloopWe houden daar weer de gebruikelijke inloop waar 
 vele interesse groepen weer aanwezig zijn\, om uw vragen gezamenlijk met u
  te bespreken en u voor te lichten over de nieuwe ontwikkelingen op uw int
 eresse gebied.\nPresentatieOp dit moment is dat nog niet bekend. U krijgt 
 hier verder bericht over in onze speciale nieuwsbrief over onze locatie in
  Amersfoort. https://hcc.nl/rss-events/evenement/2801-inloop-en-presentati
 e
DTSTART:20230918T180000Z
DTEND:20230918T200000Z
LOCATION:Kerkelijk Centrum De Brug  (Schuilenburgerweg 2\, 3816 TB Amersfoo
 rt)
SUMMARY:Inloop en presentatie
URL:https://hcc.nl/rss-events/evenement/2801-inloop-en-presentatie
END:VEVENT
BEGIN:VEVENT
UID:20260422T134906UTC-6819KF3cnt@https://hcc.nl/
DTSTAMP:20260422T134906Z
DESCRIPTION:Digitale fotografie is een jonge techniek\, die zich razendsnel
  heeft ontwikkeld. Waar analoge fotografie bijna tweehonderd jaar nodig ha
 d om van de platen-camera en de vlakfilm\, via rolfilm van middenformaat i
 n zwart-wit\, te komen tot het bij ons nog wel bekende kleinbeeldformaat i
 n kleur\, is de digitale fotografie in slechts enkele decennia volledig to
 t wasdom gekomen.Met name de camera van de smartphone heeft voor een ware 
 revolutie gezorgd. Met onze mobiele telefoon hebben we de hele dag door te
 vens een geavanceerde camera bij ons. Fotografie heeft daarmee extra dimen
 sies gekregen. https://hcc.nl/rss-events/evenement/2900-webinar-smartphone
 -fotografie
DTSTART:20230918T120000Z
DTEND:20230918T130000Z
LOCATION:Online ()
SUMMARY:Webinar: Smartphone fotografie
URL:https://hcc.nl/rss-events/evenement/2900-webinar-smartphone-fotografie
END:VEVENT
BEGIN:VEVENT
UID:20260422T134906UTC-6820WV1POj@https://hcc.nl/
DTSTAMP:20260422T134906Z
DESCRIPTION:We houden weer een online bijeenkomst over Visual Basic.\nAanme
 lden is niet nodig\, zie de voorpagina voor meer informatie. https://hcc.n
 l/rss-events/evenement/2904-online-visual-basic-sessie
DTSTART:20230918T180000Z
DTEND:20230918T210000Z
LOCATION:Online ()
SUMMARY:Online Visual Basic sessie
URL:https://hcc.nl/rss-events/evenement/2904-online-visual-basic-sessie
END:VEVENT
BEGIN:VEVENT
UID:20260422T134906UTC-6820vrONur@https://hcc.nl/
DTSTAMP:20260422T134906Z
DESCRIPTION:Windows 11 is in het najaar 2021 geïntroduceerd en is de opvolg
 er van het succesvolle Windows 10. Windows 10 zal nog tot oktober 2025 doo
 r Microsoft ondersteund worden.Recente computers die aan de eisen van Micr
 osoft voldoen kunnen een upgrade krijgen naar Windows 11.Sinds 1 jaar word
 en vrijwel alle nieuwe computers geleverd met Windows 11.De gebruikersinte
 rface zal voor menig gebruiker even wennen zijn. Het oogt allemaal wat str
 akker en eenvoudiger. In de verkenner is het bekende lint verdwenen en is 
 het even zoeken naar de mogelijkheden. Deze lezing gaat over het Startmenu
 \, de Taakbalk en vooral over de nieuwe verkenner\, een onmisbaar hulpmidd
 el op iedere Windows computer.\n  https://hcc.nl/rss-events/evenement/2979
 -webinar-startmenu-verkenner-in-windows-11-correctie
DTSTART:20230918T120000Z
DTEND:20230918T130000Z
LOCATION:Online ()
SUMMARY:Webinar: Startmenu & Verkenner in Windows 11 ( Correctie)
URL:https://hcc.nl/rss-events/evenement/2979-webinar-startmenu-verkenner-in
 -windows-11-correctie
END:VEVENT
END:VCALENDAR
