BEGIN:VCALENDAR
VERSION:2.0
PRODID:-//https://hcc.nl///NONSGML kigkonsult.se iCalcreator 2.10.15//
METHOD:PUBLISH
BEGIN:VEVENT
UID:20260422T115231UTC-4960K12lX0@https://hcc.nl/
DTSTAMP:20260422T115231Z
DESCRIPTION:Ook dit jaar zijn wij weer aanwezig op de 50PlusBeurs. Veel HCC
  interessegroepen zullen zich presenteren.\nKomt gezellig langs in onze st
 and en neem als HCC-lid jouw presentje in ontvangst. https://hcc.nl/rss-ev
 ents/evenement/1106-50plusbeurs-2023
DTSTART:20230916T080000Z
DTEND:20230916T150000Z
LOCATION:Jaarbeurs Utrecht (Jaarbeursplein\, 3521 AM Utrecht)
SUMMARY:50PlusBeurs 2023
URL:https://hcc.nl/rss-events/evenement/1106-50plusbeurs-2023
END:VEVENT
BEGIN:VEVENT
UID:20260422T115231UTC-4961ADOVuo@https://hcc.nl/
DTSTAMP:20260422T115231Z
DESCRIPTION:Deze middag kunnen we drone vliegen op een camping aan de rand 
 van Alphen aan den Rijn.\nWe zijn te gast bij Camping Polderflora “natuurl
 ijk overnachten in de Randstad”.\nPolderflora Camping & ChaletsJeanette & 
 AndréRietveldsepad 4b2409 AA Alphen aan den Rijninfo@polderflora.nlTel.: +
 31 (0)614 553 893\nPolderflora is een kleinschalige\, gemoedelijke camping
  met aandacht voor mens\, dier en natuur. Een ideale uitvalsbasis voor wan
 delaars\, fietsers\, natuurliefhebbers en vogelspotters. Beleef een stukje
  groene oase aan de rand van Alphen aan den Rijn\, gelegen in het Groene H
 art van Nederland. Voor wie reserveren om op de camping te willen overnach
 ten moet dit zelf regelen. https://polderflora.nl/nl/reserveren\nWe mogen 
 gebruik maken van de hooiberg/picknickbanken en van het toilet.\nOp de cam
 ping tegenover de picknickbanken is een veldje waar vliegoefeningen gedaan
  kan worden als er geen kleine tenten staan.\nNaast de camping is een stuk
 je natuurbeleving waar riet en kunstmatige eilandjes zijn gecreëerd om wat
 ervogel te stimuleren er te gaan broeden. Omdat het september is\, hebben 
 we hier geen hinder van.\nKoffie en thee worden door de camping verzorgd e
 n in de hooiberg geserveerd.\n\nHier een impressie videootje van de locati
 es.\nAanmelden is verplicht via de link onderaan deze pagina (eerst inlogg
 en).Dit alles is onder voorbehoud van goed vliegweer. De vrijdagmiddag erv
 oor gaan we beoordelen of het door kan gaan. Deelnemers die zich hebben in
 geschreven krijgen vrijdag een bevestigingsmail.\nOpm: De club neemt geen 
 aansprakelijkheid voor schade aan je drone of aan derden. Check altijd je 
 eigen aansprakelijkheidsverzekering.\nVeel vliegplezier gewenst!\nExacte H
 CC!drones parkeer locatie: https://goo.gl/maps/3YvXqWx7Egu85jHW7 https://h
 cc.nl/rss-events/evenement/1467-vliegmiddag-alphen-a-d-rijn-zuid-holland
DTSTART:20230916T110000Z
DTEND:20230916T133000Z
LOCATION:Polderflora Camping & Chalets (Rietveldsepad 4B\, 2409 AA Alphen a
 an den Rijn)
SUMMARY:Vliegmiddag Alphen a/d Rijn (Zuid-Holland)
URL:https://hcc.nl/rss-events/evenement/1467-vliegmiddag-alphen-a-d-rijn-zu
 id-holland
END:VEVENT
BEGIN:VEVENT
UID:20260422T115231UTC-4963uk06E6@https://hcc.nl/
DTSTAMP:20260422T115231Z
DESCRIPTION:De derde zaterdag van de maand houdt hcc!opensource haar bijeen
 komst in H.F. Witte\, de Bilt. https://hcc.nl/rss-events/evenement/1475-re
 guliere-opensource-bijeenkomst
DTSTART:20230916T100000Z
DTEND:20230916T143000Z
LOCATION:Cultureel en Vergadercentrum H.F. Witte (Henri Dunantplein 4\, 373
 1 CL De Bilt)
SUMMARY:Reguliere opensource bijeenkomst
URL:https://hcc.nl/rss-events/evenement/1475-reguliere-opensource-bijeenkom
 st
END:VEVENT
BEGIN:VEVENT
UID:20260422T115231UTC-4963BK3lJz@https://hcc.nl/
DTSTAMP:20260422T115231Z
DESCRIPTION:Op 16 september 2023 organiseren we weer een CompUfair op de ve
 rtrouwde plek:\nCultuur- & Vergadercentrum H.F. Witteadres:     Henri Duna
 ntplein 4\, 3731 CL De Bilt\nMeer over de route naar het H.F. Witte Centru
 m vindt u onder de link `Route De Bilt'.\nTe zijner tijd vindt u hier het 
 programma. https://hcc.nl/rss-events/evenement/1674-compufair
DTSTART:20230916T080000Z
DTEND:20230916T140000Z
LOCATION:Cultureel en Vergadercentrum H.F. Witte (Henri Dunantplein 4\, 373
 1 CL De Bilt)
SUMMARY:CompUfair
URL:https://hcc.nl/rss-events/evenement/1674-compufair
END:VEVENT
BEGIN:VEVENT
UID:20260422T115231UTC-49630ewTVl@https://hcc.nl/
DTSTAMP:20260422T115231Z
DESCRIPTION:Onze inloop is bedoeld voor iedereen die praktische hulp en ond
 ersteuning nodig heeft bij het gebruik van uw digitale apparatuur\, zoals 
 desktop\, laptop\, tablet en smartphone.Te denken valt aan:• opschonen van
  uw computer• updates downloaden• apps installeren• accounts aanmaken op u
 w apparaten (breng dan wel uw gegevens mee)• e-mail problemen.• instelling
 en aanpassenOnze deskundigen zitten klaar om u met raad en daad terzijde t
 e staan. https://hcc.nl/rss-events/evenement/1965-inloop-digitale-hulp
DTSTART:20230916T110000Z
DTEND:20230916T140000Z
LOCATION:Wijkcentrum 't Slot (Kastelenplein 167\, 5653 LX Eindhoven)
SUMMARY:Inloop digitale hulp
URL:https://hcc.nl/rss-events/evenement/1965-inloop-digitale-hulp
END:VEVENT
BEGIN:VEVENT
UID:20260422T115231UTC-4964kNWLvz@https://hcc.nl/
DTSTAMP:20260422T115231Z
DESCRIPTION:Wij verwelkomen u op onzelocatie in Soest  (onder voorbehoud va
 n maatregelen Covid-19)Veel ruimer van opzet dus ook meer ruimte om models
 poorbanen op te zetten en workshops te houden.\nDeze locatie wordt op door
  de weekse dagen gebruikt door de EHBO afd. Soest is goed bereikbaar zowel
  met auto als met NS-spoor (± 10 min. lopen) achter het pand is een ruime 
 gratis parkeerterrein via de zijkant loopt u naar de hoofdingang.\nNaast w
 orkshops en demonstraties worden er ook lezingen gegeven.\nVandaag o.a.: L
 ezing:11:00u  met Gerard te Nuyl 'Onderhoud baan en materiaal.12:30u Works
 hop met Peter de Heij het vervolg op Arduino 2. bestaande toepassing gebru
 iken. https://hcc.nl/rss-events/evenement/2183-ledenbijeenkomst-modelbaana
 utomatisering-met-lezing-en-workshop
DTSTART:20230916T080000Z
DTEND:20230916T130000Z
LOCATION: ()
SUMMARY:Ledenbijeenkomst modelbaanautomatisering met lezing en workshop
URL:https://hcc.nl/rss-events/evenement/2183-ledenbijeenkomst-modelbaanauto
 matisering-met-lezing-en-workshop
END:VEVENT
BEGIN:VEVENT
UID:20260422T115231UTC-4965OwPUxK@https://hcc.nl/
DTSTAMP:20260422T115231Z
DESCRIPTION: https://hcc.nl/rss-events/evenement/2761-inloopbijeenkomst
DTSTART:20230916T110000Z
DTEND:20230916T150000Z
LOCATION:Olympiagebouw (Olympiaweg 17\, 1816 MJ Alkmaar)
SUMMARY:Inloopbijeenkomst
URL:https://hcc.nl/rss-events/evenement/2761-inloopbijeenkomst
END:VEVENT
BEGIN:VEVENT
UID:20260422T115231UTC-4965h4SG9p@https://hcc.nl/
DTSTAMP:20260422T115231Z
DESCRIPTION:We houden weer een online bijeenkomst over Pascal.\nAanmelden i
 s niet nodig\, zie de voorpagina voor meer informatie. https://hcc.nl/rss-
 events/evenement/2879-online-pascal-sessie
DTSTART:20230916T170000Z
DTEND:20230916T190000Z
LOCATION:Online ()
SUMMARY:Online Pascal sessie
URL:https://hcc.nl/rss-events/evenement/2879-online-pascal-sessie
END:VEVENT
END:VCALENDAR
