BEGIN:VCALENDAR
VERSION:2.0
PRODID:-//https://hcc.nl///NONSGML kigkonsult.se iCalcreator 2.10.15//
METHOD:PUBLISH
BEGIN:VEVENT
UID:20260421T133501UTC-9088IjsxoV@https://hcc.nl/
DTSTAMP:20260421T133501Z
DESCRIPTION:Ook dit jaar zijn wij weer aanwezig op de 50PlusBeurs. Veel HCC
  interessegroepen zullen zich presenteren.\nKomt gezellig langs in onze st
 and en neem als HCC-lid jouw presentje in ontvangst. https://hcc.nl/rss-ev
 ents/evenement/1104-50plusbeurs-2023
DTSTART:20230915T080000Z
DTEND:20230915T150000Z
LOCATION:Jaarbeurs Utrecht (Jaarbeursplein\, 3521 AM Utrecht)
SUMMARY:50PlusBeurs 2023
URL:https://hcc.nl/rss-events/evenement/1104-50plusbeurs-2023
END:VEVENT
BEGIN:VEVENT
UID:20260421T133501UTC-9090JUAkp9@https://hcc.nl/
DTSTAMP:20260421T133501Z
DESCRIPTION:Windows 11 is in het najaar 2021 geintroduceerd en is de opvolg
 er van het succesvolle Windows 10. Windows 10 zal nog tot oktober 2025 doo
 r Microsoft ondersteund worden.Recente computers die aan de eisen van Micr
 osoft voldoen kunnen een upgrade krijgen naar Windows 11.Sinds één jaar wo
 rden vrijwel alle nieuwe computers geleverd met Windows 11.De gebruikersin
 terface zal voor menig gebruiker even wennen zijn. Het oogt allemaal wat s
 trakker en envoudiger. In de verkenner is het bekende lint verdwenen en is
  het even zoeken naar de mogelijkheden. Deze lezing gaat over het Startmen
 u\, de Taakbalk en vooral over de nieuwe verkenner\, een onmisbaar hulpmid
 del op iedere Windows computer.\nEr is ook een handige syllabus te verkrij
 gen (€2\,- 12 pagina's)\nDe presenatie wordt gegegeven door Wil.\nZaal ope
 n : 13:30 uur\nStart presenatie : 14:00 uur\n https://hcc.nl/rss-events/ev
 enement/1124-startmenu-verkenner-in-windows-11
DTSTART:20230915T113000Z
DTEND:20230915T140000Z
LOCATION:Gemeenschapshuis 't Trefpunt (Pancratiusstraat 23\, 6151 CD Munste
 rgeleen)
SUMMARY:Startmenu & Verkenner in windows 11
URL:https://hcc.nl/rss-events/evenement/1124-startmenu-verkenner-in-windows
 -11
END:VEVENT
BEGIN:VEVENT
UID:20260421T133501UTC-9090isp7Ao@https://hcc.nl/
DTSTAMP:20260421T133501Z
DESCRIPTION:Op de derde vrijdag van de maand bijeenkomst in de Brusselse ra
 nd (Wezembeek-Oppem).\nHet algemene programma:\ninternet\, lokaal netwerk\
 , connectiviteit\;installatie of configuratie van hard- en software\;Windo
 ws PC/Laptop\, ...\;Linux (Ubuntu\, Mint\, Fedora\, ...) & Open Source\;Ta
 blet\, smartphone -- Android\, iOS\, ...\nElke geïnteresseerde computer-/t
 ablet-/smartphone-gebruiker is welkom : om de sfeer te proeven\, om kennis
  te maken met onze leden en hun ICT-bezigheden\, om ervaringen uit te wiss
 elen\, om nieuwe dingen te ontdekken\, en om oplossingen voor hard- en sof
 twarevraagstukken te vinden. https://hcc.nl/rss-events/evenement/2478-inlo
 op-voor-iedereen
DTSTART:20230915T180000Z
DTEND:20230915T210000Z
LOCATION:Gemeenschapscentrum De Kam (Beekstraat 172\, 1970 WE Wezembeek-Opp
 em)
SUMMARY:Inloop voor iedereen
URL:https://hcc.nl/rss-events/evenement/2478-inloop-voor-iedereen
END:VEVENT
END:VCALENDAR
