BEGIN:VCALENDAR
VERSION:2.0
PRODID:-//https://hcc.nl///NONSGML kigkonsult.se iCalcreator 2.10.15//
METHOD:PUBLISH
BEGIN:VEVENT
UID:20260420T003026UTC-9794vL6FJm@https://hcc.nl/
DTSTAMP:20260420T003026Z
DESCRIPTION:Ook dit jaar zijn wij weer aanwezig op de 50PlusBeurs. Veel HCC
  interessegroepen zullen zich presenteren.\nKomt gezellig langs in onze st
 and en neem als HCC-lid jouw presentje in ontvangst. https://hcc.nl/rss-ev
 ents/evenement/1102-50plusbeurs-2023
DTSTART:20230914T080000Z
DTEND:20230914T150000Z
LOCATION:Jaarbeurs Utrecht (Jaarbeursplein\, 3521 AM Utrecht)
SUMMARY:50PlusBeurs 2023
URL:https://hcc.nl/rss-events/evenement/1102-50plusbeurs-2023
END:VEVENT
BEGIN:VEVENT
UID:20260420T003026UTC-9795a5UhaM@https://hcc.nl/
DTSTAMP:20260420T003026Z
DESCRIPTION: https://hcc.nl/rss-events/evenement/1427-videobewerken
DTSTART:20230914T173000Z
DTEND:20230914T203000Z
LOCATION:Wijkhuis de Westwijzer  (Cortenbachstraat 70\, 5707 TJ Helmond)
SUMMARY:Videobewerken
URL:https://hcc.nl/rss-events/evenement/1427-videobewerken
END:VEVENT
BEGIN:VEVENT
UID:20260420T003026UTC-97967StpI9@https://hcc.nl/
DTSTAMP:20260420T003026Z
DESCRIPTION:Alle werkgroepen zijn aanwezig. De meesten verzorgen maandelijk
 s de presentatie. De Borduurgroep of misschien liever de werkgroep Creatie
 ve Werkvormen bezet elke week zelfs een aparte zaal. https://hcc.nl/rss-ev
 ents/evenement/2280-inloop-voor-alle-werkgroepen
DTSTART:20230914T170000Z
DTEND:20230914T203000Z
LOCATION:NewTechPark (Vlijtseweg 148\, 7317 AK Apeldoorn)
SUMMARY:Inloop voor alle werkgroepen
URL:https://hcc.nl/rss-events/evenement/2280-inloop-voor-alle-werkgroepen
END:VEVENT
BEGIN:VEVENT
UID:20260420T003026UTC-9797W8oMdE@https://hcc.nl/
DTSTAMP:20260420T003026Z
DESCRIPTION:We houden weer een online sessie over Python. Om 19:00 uur begi
 nt de Python cursus voor beginners\, na een korte pauze is er om ongeveer 
 21:15 uur Python voor gevorderden.\nZie de voorpagina voor meer informatie
 . https://hcc.nl/rss-events/evenement/2866-online-python-sessie-voor-begin
 ners-en-gevorderden
DTSTART:20230914T170000Z
DTEND:20230914T210000Z
LOCATION:Online ()
SUMMARY:Online Python sessie voor beginners en gevorderden
URL:https://hcc.nl/rss-events/evenement/2866-online-python-sessie-voor-begi
 nners-en-gevorderden
END:VEVENT
BEGIN:VEVENT
UID:20260420T003026UTC-9798VwVVWZ@https://hcc.nl/
DTSTAMP:20260420T003026Z
DESCRIPTION:Langzaam aan zijn de vakanties weer voorbij en gaat de HCC in Z
 evenaar weer de HCC-avond opstarten.\nOp 14 september start de Linux-groep
  met haar 2 maandelijkse activiteiten\, elke 2e en 4e  donderdag van de ma
 and.\nVoor de 14e september is een presentatie over het maken van een NAS-
 systeem met Linux.\nDit gevolgd door een workshop waarin dit zal worden ui
 tgevoerd.\nDeze worden gegeven door Ron Regeer.\nInteresse?\nJe bent dan v
 an harte uitgenodigd om 14 september bij deze interessante avond aanwezig 
 te  zijn. https://hcc.nl/rss-events/evenement/2883-linux-bijeenkomst
DTSTART:20230914T173000Z
DTEND:20230914T200000Z
LOCATION:Ons Huis (Dokter Honigstraat 3\, 6901 AP Zevenaar)
SUMMARY:Linux bijeenkomst
URL:https://hcc.nl/rss-events/evenement/2883-linux-bijeenkomst
END:VEVENT
BEGIN:VEVENT
UID:20260420T003026UTC-9799MhV0Ls@https://hcc.nl/
DTSTAMP:20260420T003026Z
DESCRIPTION:Onze inloop is bedoeld voor iedereen die praktische hulp en ond
 ersteuning nodig heeft bij het gebruik van uw tablet en smartphone.Te denk
 en valt aan:- apps installeren- accounts aanmaken op uw apparaten (breng d
 an uw inloggegevens mee)- E-mail problemen.- Instellingen aanpassen\nZowel
  voor Apple\, Android als Windows!Onze deskundigen zitten klaar om u met r
 aad en daad terzijde te staan. https://hcc.nl/rss-events/evenement/2894-in
 loop-digitale-hulp
DTSTART:20230914T073000Z
DTEND:20230914T093000Z
LOCATION:Wijkcentrum Rozenobel (Dukatenplein 2\, 4205 GE Gorinchem)
SUMMARY:Inloop Digitale Hulp
URL:https://hcc.nl/rss-events/evenement/2894-inloop-digitale-hulp
END:VEVENT
END:VCALENDAR
