BEGIN:VCALENDAR
VERSION:2.0
PRODID:-//https://hcc.nl///NONSGML kigkonsult.se iCalcreator 2.10.15//
METHOD:PUBLISH
BEGIN:VEVENT
UID:20260419T125830UTC-73673IuUnF@https://hcc.nl/
DTSTAMP:20260419T125830Z
DESCRIPTION:Ook dit jaar zijn wij weer aanwezig op de 50PlusBeurs. Veel HCC
  interessegroepen zullen zich presenteren.\nKomt gezellig langs in onze st
 and en neem als HCC-lid jouw presentje in ontvangst. https://hcc.nl/rss-ev
 ents/evenement/1100-50plusbeurs-2023
DTSTART:20230913T080000Z
DTEND:20230913T150000Z
LOCATION:Jaarbeurs Utrecht (Jaarbeursplein\, 3521 AM Utrecht)
SUMMARY:50PlusBeurs 2023
URL:https://hcc.nl/rss-events/evenement/1100-50plusbeurs-2023
END:VEVENT
BEGIN:VEVENT
UID:20260419T125830UTC-7368WcJ2v1@https://hcc.nl/
DTSTAMP:20260419T125830Z
DESCRIPTION:Heeft u een vraag over of een probleem met uw Android apparaat?
  Onze deskundigen zitten klaar om u te helpen.\n\nInstellingen aanpassen\n
 Downloaden van Apps\nUpdaten van Apps\nInstellen van e-mail\n\nEn nog veel
  meer! https://hcc.nl/rss-events/evenement/1905-inloop-android-hulp
DTSTART:20230913T080000Z
DTEND:20230913T100000Z
LOCATION:Bibliotheek Gorinchem (Groenmarkt 1\, 4201 EE Gorinchem)
SUMMARY:Inloop Android hulp
URL:https://hcc.nl/rss-events/evenement/1905-inloop-android-hulp
END:VEVENT
BEGIN:VEVENT
UID:20260419T125830UTC-7369NvVOKz@https://hcc.nl/
DTSTAMP:20260419T125830Z
DESCRIPTION:Heeft u een vraag over of een probleem met uw Android apparaat?
  Onze deskundigen zitten klaar om u te helpen.\n\nInstellingen aanpassen\n
 Downloaden van Apps\nUpdaten van Apps\nInstellen van e-mail\n\nEn nog veel
  meer! https://hcc.nl/rss-events/evenement/2210-inloop-android-hulp
DTSTART:20230913T080000Z
DTEND:20230913T100000Z
LOCATION:Bibliotheek Gorinchem (Groenmarkt 1\, 4201 EE Gorinchem)
SUMMARY:Inloop Android hulp
URL:https://hcc.nl/rss-events/evenement/2210-inloop-android-hulp
END:VEVENT
BEGIN:VEVENT
UID:20260419T125830UTC-7370ZD9SBH@https://hcc.nl/
DTSTAMP:20260419T125830Z
DESCRIPTION:We houden weer een online bijeenkomst over Liberty BASIC.\nAanm
 elden is niet nodig\, zie de voorpagina voor meer informatie. https://hcc.
 nl/rss-events/evenement/2864-online-liberty-basic-sessie
DTSTART:20230913T180000Z
DTEND:20230913T200000Z
LOCATION:Online ()
SUMMARY:Online Liberty BASIC sessie
URL:https://hcc.nl/rss-events/evenement/2864-online-liberty-basic-sessie
END:VEVENT
BEGIN:VEVENT
UID:20260419T125830UTC-7371F6SmcW@https://hcc.nl/
DTSTAMP:20260419T125830Z
DESCRIPTION:De SeniorenInloop van september 2022 leidde ertoe dat een klein
  groepje enthousiasten de meest uitgebreide versie van Linux Mint 21 in de
  Cinnamon uitvoering installeerde op een oude pc. En dat gaat wonderbaarli
 jk goed. De PC reageert probleemloos en alle benodigde creatieve (foto) en
  kantoor software staan er standaard op en werkt subliem. \nAls jij op zie
 t tegen (of niet mee kunt naar) Windows 11 en een mooie PC hebt die je eig
 enlijk niet wilt vervangen… kom dan eens kijken hoe makkelijk zo’n oudere 
 pc toch nog kan werken.Er is heel veel software\, voor allerlei internetge
 bruik en kantoortaken standaard in Linux Mint aanwezig en nog veel meer zo
 nder kosten binnen de Linux werkgroepen world wide. Kom eens kijken. Ook a
 ls je al wat ervaring hebt en je verder bekwamen wilt in Linux… Of er simp
 elweg een keer kennis mee wilt maken. Je bent (vrijblijvend!) welkom! http
 s://hcc.nl/rss-events/evenement/2871-linux-mint-werkgroep
DTSTART:20230913T180000Z
DTEND:20230913T203000Z
LOCATION:De Meent  (Orion 3\, 1188 AM Amstelveen)
SUMMARY:Linux Mint werkgroep
URL:https://hcc.nl/rss-events/evenement/2871-linux-mint-werkgroep
END:VEVENT
BEGIN:VEVENT
UID:20260419T125830UTC-7372UVhuKR@https://hcc.nl/
DTSTAMP:20260419T125830Z
DESCRIPTION:De leden van de 3D printing werkgroep praten over hun 3D projec
 ten waar ze mee bezig zijn: 3D problemen en gevonden oplossingen\, ideeën 
 en wensen.\nAls 3D printing jou interesseert\, kom dan naar de Meent\, of 
 je schuift online aan. Stuur in dat geval een mailtje met je HCC lidnummer
  en 3D Online op de onderwerpregel\, aan hccregio.amsterdam@gmail.com. Dit
  laatste geldt voor elke geïnteresseerde\, HCC lid of niet: iedereen is we
 lkom! https://hcc.nl/rss-events/evenement/2873-3d-printing-werkgroep-de-me
 ent-online
DTSTART:20230913T180000Z
DTEND:20230913T203000Z
LOCATION:De Meent  (Orion 3\, 1188 AM Amstelveen)
SUMMARY:3D printing werkgroep. De Meent & Online!
URL:https://hcc.nl/rss-events/evenement/2873-3d-printing-werkgroep-de-meent
 -online
END:VEVENT
BEGIN:VEVENT
UID:20260419T125830UTC-7373RCBfmZ@https://hcc.nl/
DTSTAMP:20260419T125830Z
DESCRIPTION:Elke maand worden ‘foto’s volgens opdracht’ bekeken en besproke
 n. In juli was het onderwerp 'Tegenlicht'\nDeze maand is het onderwerp 'Av
 ond foto's'\, naar een idee van Peter Hessels.En voor volgende maand\, okt
 ober 2023\, staat een 'Vrije keuze' op de agenda. Bekijk hier de oogst van
  eerdere bijeenkomsten.\nFotoclubleden weten waar zij moeten inloggen\, ge
 ïnteresseerden vragen dit via fotoclubasd@gmail.com\, kennismaken kan 24/7
  op hun website https://hcc.nl/rss-events/evenement/2875-digitale-fotoclub
DTSTART:20230913T180000Z
DTEND:20230913T203000Z
LOCATION:Online ()
SUMMARY:Digitale Fotoclub
URL:https://hcc.nl/rss-events/evenement/2875-digitale-fotoclub
END:VEVENT
BEGIN:VEVENT
UID:20260419T125830UTC-7374HwTVUv@https://hcc.nl/
DTSTAMP:20260419T125830Z
DESCRIPTION:Wij beginnen\, na de zomerstop\, vanavond weer met onze fysieke
  bijeenkomsten in de Meent.\nBezoekers kunnen met elkaar van gedachten wis
 selen over computer onderwerpen en aanverwante zaken waar zij mee bezig zi
 jn. Natuurlijk ben je welkom met vragen over- of problemen met computers\,
  tablets en andere hardware en software. Meestal kunnen we problemen ter p
 laatse oplossen of je helpen je op weg.\nEr is een internet toegang aanwez
 ig en je mag je PC/laptop/tablet meenemen.Ook vind je er een rijkelijk gev
 ulde leestafel met de nieuwste computer bladen. https://hcc.nl/rss-events/
 evenement/2877-bijeenkomst-hcc-amsterdam
DTSTART:20230913T180000Z
DTEND:20230913T203000Z
LOCATION:De Meent  (Orion 3\, 1188 AM Amstelveen)
SUMMARY:Bijeenkomst HCC!amsterdam
URL:https://hcc.nl/rss-events/evenement/2877-bijeenkomst-hcc-amsterdam
END:VEVENT
BEGIN:VEVENT
UID:20260419T125830UTC-73750mgz4L@https://hcc.nl/
DTSTAMP:20260419T125830Z
DESCRIPTION:Windows 11 is in het najaar 2021 geïntroduceerd en is de opvolg
 er van het succesvolle Windows 10. Windows 10 zal nog tot oktober 2025 doo
 r Microsoft ondersteund worden.Recente computers die aan de eisen van Micr
 osoft voldoen kunnen een upgrade krijgen naar Windows 11.Sinds 1 jaar word
 en vrijwel alle nieuwe computers geleverd met Windows 11.De gebruikersinte
 rface zal voor menig gebruiker even wennen zijn. Het oogt allemaal wat str
 akker en eenvoudiger. In de verkenner is het bekende lint verdwenen en is 
 het even zoeken naar de mogelijkheden. Deze lezing gaat over het Startmenu
 \, de Taakbalk en vooral over de nieuwe verkenner\, een onmisbaar hulpmidd
 el op iedere Windows computer. https://hcc.nl/rss-events/evenement/2898-we
 binar-startmenu-verkenner-in-windows-11
DTSTART:20230913T113000Z
DTEND:20230913T130000Z
LOCATION:Online ()
SUMMARY:Webinar: Startmenu & Verkenner in Windows 11
URL:https://hcc.nl/rss-events/evenement/2898-webinar-startmenu-verkenner-in
 -windows-11
END:VEVENT
END:VCALENDAR
