BEGIN:VCALENDAR
VERSION:2.0
PRODID:-//https://hcc.nl///NONSGML kigkonsult.se iCalcreator 2.10.15//
METHOD:PUBLISH
BEGIN:VEVENT
UID:20260422T114958UTC-8178aSuiRj@https://hcc.nl/
DTSTAMP:20260422T114958Z
DESCRIPTION:Onze inloop is bedoeld voor iedereen die praktische hulp en ond
 ersteuning nodig heeft bij het gebruik van uw digitale apparatuur\, zoals 
 desktop\, laptop\, tablet en smartphone.Te denken valt aan:• opschonen van
  uw computer• updates downloaden• apps installeren• accounts aanmaken op u
 w apparaten(breng dan wel uw gegevens mee)• e-mail problemen.• instellinge
 n aanpassenOnze deskundigen zitten klaar om u met raad en daad terzijde te
  staan. https://hcc.nl/rss-events/evenement/1237-inloop-digitale-hulp
DTSTART:20230905T080000Z
DTEND:20230905T100000Z
LOCATION:Bibliotheek Hardinxveld-Giessendam (Pietersweer 34\, 3371 PN Hardi
 nxveld-Giessendam)
SUMMARY:Inloop digitale hulp
URL:https://hcc.nl/rss-events/evenement/1237-inloop-digitale-hulp
END:VEVENT
BEGIN:VEVENT
UID:20260422T114958UTC-8180wVCjvw@https://hcc.nl/
DTSTAMP:20260422T114958Z
DESCRIPTION: https://hcc.nl/rss-events/evenement/1623-inloop
DTSTART:20230905T120000Z
DTEND:20230905T140000Z
LOCATION:De Hoeksteen (kerk) (Velingspad 1\, 9502 RA Stadskanaal)
SUMMARY:Inloop
URL:https://hcc.nl/rss-events/evenement/1623-inloop
END:VEVENT
BEGIN:VEVENT
UID:20260422T114958UTC-81808pPXdC@https://hcc.nl/
DTSTAMP:20260422T114958Z
DESCRIPTION:Je bent elke dinsdag- en donderdagavond welkom in onze locatie 
 NewTechPark\nDe dinsdag is voor de makers\, 3D-ontwerpen\, scannen e print
 en\, vaak zijn dat ook liefhebbers van robotica\, drones en programmeren.A
 ls je dinsdagavond tussen 19.00 en 20.00 uur inlogt met Jitsi\, kun je ken
 nismaken met hcc!3D. Soms kun je desgevraagd ook online meedoen met een ac
 tiviteit.\nDat kan dan op:   https://wij.hcc.nl/3D (Alleen toegang als je 
 zichtbaar bent met voor- en achternaam. ) https://hcc.nl/rss-events/evenem
 ent/2085-bijeenkomst-hcc-3d
DTSTART:20230905T170000Z
DTEND:20230905T200000Z
LOCATION:NewTechPark (Vlijtseweg 148\, 7317 AK Apeldoorn)
SUMMARY:Bijeenkomst HCC!3d
URL:https://hcc.nl/rss-events/evenement/2085-bijeenkomst-hcc-3d
END:VEVENT
BEGIN:VEVENT
UID:20260422T114958UTC-81815OA4Kn@https://hcc.nl/
DTSTAMP:20260422T114958Z
DESCRIPTION:Nico Oosterwijk van HCC!Domotica/IoT zal een presentatie geven 
 over met name voor Home Assistant. Vanuit HCC!Domotica/IoT willen wij huis
 -automatisering beter bekend maken en onder de aandacht brengen bij de HCC
 -leden in het land.\nMeer informatie volgt zodra beschikbaar. https://hcc.
 nl/rss-events/evenement/2163-presentatie-domotica-home-assistant
DTSTART:20230905T180000Z
DTEND:20230905T203000Z
LOCATION:De Witte Kerk (Agnes Huijnstraat 3\, 5914 PE Venlo)
SUMMARY:Presentatie 'Domotica - Home Assistant'
URL:https://hcc.nl/rss-events/evenement/2163-presentatie-domotica-home-assi
 stant
END:VEVENT
BEGIN:VEVENT
UID:20260422T114958UTC-8182KraHU4@https://hcc.nl/
DTSTAMP:20260422T114958Z
DESCRIPTION: https://hcc.nl/rss-events/evenement/2416-inloop-stadskanaal
DTSTART:20230905T120000Z
DTEND:20230905T140000Z
LOCATION:De Hoeksteen (kerk) (Velingspad 1\, 9502 RA Stadskanaal)
SUMMARY:Inloop Stadskanaal
URL:https://hcc.nl/rss-events/evenement/2416-inloop-stadskanaal
END:VEVENT
BEGIN:VEVENT
UID:20260422T114958UTC-81827Juv8B@https://hcc.nl/
DTSTAMP:20260422T114958Z
DESCRIPTION:Startmenu en Verkenner in Windows 11\nWindows 11 is in het naja
 ar 2021 geïntroduceerd en is de opvolger van het succesvolle Windows 10. W
 indows 10 zal nog tot oktober 2025 door Microsoft ondersteund worden.Recen
 te computers die aan de eisen van Microsoft voldoen kunnen een upgrade kri
 jgen naar Windows 11. Sinds 1 jaar worden vrijwel alle nieuwe computers ge
 leverd met Windows 11.\nDe gebruikersinterface zal voor menig gebruiker ev
 en wennen zijn. Het oogt allemaal wat strakker en eenvoudiger. In de verke
 nner is het bekende lint verdwenen en is het even zoeken naar de mogelijkh
 eden. Deze lezing gaat over het Startmenu\, de Taakbalk en vooral over de 
 nieuwe verkenner\, een onmisbaar hulpmiddel op iedere Windows computer. ht
 tps://hcc.nl/rss-events/evenement/2571-startmenu-verkenner-windows-11
DTSTART:20230905T110000Z
DTEND:20230905T140000Z
LOCATION:Speeltuin Pascal (Pascalweg 12\, 3076 JP Rotterdam)
SUMMARY:Startmenu & Verkenner Windows 11
URL:https://hcc.nl/rss-events/evenement/2571-startmenu-verkenner-windows-11
END:VEVENT
BEGIN:VEVENT
UID:20260422T114958UTC-8183eU0Oom@https://hcc.nl/
DTSTAMP:20260422T114958Z
DESCRIPTION:Op dit moment is het HCC seizoensthema: ChatGPT\, Fred Baltus v
 an HCC!MZ-Limburg zal een presentatie en demonstratie geven over Chat-GPT.
  \nHet HCC seizoensthema ChatGPT is slimme software die in staat is om op 
 basis van een vraag razendsnel antwoord te geven.\nDeze chatbot is bijna d
 agelijks in het nieuws en we hebben een duidelijke presentatie met de volg
 ende hoofdstukken:\n1. Wat is ChatGPT?\n2. Wat kan ChatGPT?\n3. Waarvoor i
 s ChatGPT ontwikkeld?\n4. Hoe gebruik ik ChatGPT?\n5. Demo\n6. Vragen http
 s://hcc.nl/rss-events/evenement/2771-presentatie-chat-gpt-in-venlo
DTSTART:20230905T180000Z
DTEND:20230905T203000Z
LOCATION:Zalencentrum De Witte Kerk (Agnes Huijnstraat 3\, 5914 PE Venlo)
SUMMARY:Presentatie 'Chat-GPT' in Venlo
URL:https://hcc.nl/rss-events/evenement/2771-presentatie-chat-gpt-in-venlo
END:VEVENT
BEGIN:VEVENT
UID:20260422T114958UTC-8184O7Bcdu@https://hcc.nl/
DTSTAMP:20260422T114958Z
DESCRIPTION:We houden weer een online algemene bijeenkomst op dinsdagavond.
 \nAanmelden is niet nodig\, zie de voorpagina voor meer informatie. https:
 //hcc.nl/rss-events/evenement/2789-online-algemene-sessie-programmeren
DTSTART:20230905T173000Z
DTEND:20230905T193000Z
LOCATION:Online ()
SUMMARY:Online algemene sessie programmeren
URL:https://hcc.nl/rss-events/evenement/2789-online-algemene-sessie-program
 meren
END:VEVENT
END:VCALENDAR
