BEGIN:VCALENDAR
VERSION:2.0
PRODID:-//https://hcc.nl///NONSGML kigkonsult.se iCalcreator 2.10.15//
METHOD:PUBLISH
BEGIN:VEVENT
UID:20260422T014915UTC-6844jdOAiZ@https://hcc.nl/
DTSTAMP:20260422T014915Z
DESCRIPTION:We houden weer een online bijeenkomst over Pascal.\nAanmelden i
 s niet nodig\, zie de voorpagina voor meer informatie. https://hcc.nl/rss-
 events/evenement/2501-online-pascal-sessie
DTSTART:20230729T170000Z
DTEND:20230729T190000Z
LOCATION: ()
SUMMARY:Online Pascal sessie
URL:https://hcc.nl/rss-events/evenement/2501-online-pascal-sessie
END:VEVENT
END:VCALENDAR
