BEGIN:VCALENDAR
VERSION:2.0
PRODID:-//https://hcc.nl///NONSGML kigkonsult.se iCalcreator 2.10.15//
METHOD:PUBLISH
BEGIN:VEVENT
UID:20260419T214142UTC-1212pNZN3n@https://hcc.nl/
DTSTAMP:20260419T214142Z
DESCRIPTION:Presentatie over een computergerelateerd onderwerp op begrijpel
 ijk niveau. Kijk op seniorenacademie.hcc.nl voor het actuele onderwerp htt
 ps://hcc.nl/rss-events/evenement/1803-maandelijkse-presentatie-van-de-seni
 orenacademie
DTSTART:20230727T080000Z
DTEND:20230727T100026Z
LOCATION:Wijkhuis de Westwijzer  (Cortenbachstraat 70\, 5707 TJ Helmond)
SUMMARY:Maandelijkse presentatie van de Seniorenacademie
URL:https://hcc.nl/rss-events/evenement/1803-maandelijkse-presentatie-van-d
 e-seniorenacademie
END:VEVENT
BEGIN:VEVENT
UID:20260419T214142UTC-1214UUKoTX@https://hcc.nl/
DTSTAMP:20260419T214142Z
DESCRIPTION:Alle werkgroepen zijn aanwezig. De meesten verzorgen maandelijk
 s de presentatie. De Borduurgroep of misschien liever de werkgroep Creatie
 ve Werkvormen bezet elke week zelfs een aparte zaal. https://hcc.nl/rss-ev
 ents/evenement/2266-inloop-voor-alle-werkgroepen
DTSTART:20230727T170000Z
DTEND:20230727T203000Z
LOCATION:NewTechPark (Vlijtseweg 148\, 7317 AK Apeldoorn)
SUMMARY:Inloop voor alle werkgroepen
URL:https://hcc.nl/rss-events/evenement/2266-inloop-voor-alle-werkgroepen
END:VEVENT
BEGIN:VEVENT
UID:20260419T214142UTC-1214BmOvaC@https://hcc.nl/
DTSTAMP:20260419T214142Z
DESCRIPTION:We houden weer een online sessie over Python.Om 19:00 uur begin
 t de Python cursus voor beginners\, na een korte pauze is er om ongeveer 2
 1:15 uur Python voor gevorderden.\nZie de voorpagina voor meer informatie.
  https://hcc.nl/rss-events/evenement/2497-online-python-sessie
DTSTART:20230727T170000Z
DTEND:20230727T210000Z
LOCATION: ()
SUMMARY:Online Python sessie
URL:https://hcc.nl/rss-events/evenement/2497-online-python-sessie
END:VEVENT
END:VCALENDAR
