BEGIN:VCALENDAR
VERSION:2.0
PRODID:-//https://hcc.nl///NONSGML kigkonsult.se iCalcreator 2.10.15//
METHOD:PUBLISH
BEGIN:VEVENT
UID:20260426T014301UTC-11739LGSFV@https://hcc.nl/
DTSTAMP:20260426T014301Z
DESCRIPTION:Onze inloop is bedoeld voor iedereen die praktische hulp en ond
 ersteuning nodig heeft bij het gebruik van uw digitale apparatuur\, zoals 
 desktop\, laptop\, tablet en smartphone.Te denken valt aan:• opschonen van
  uw computer• updates downloaden• apps installeren• accounts aanmaken op u
 w apparaten (breng dan wel uw gegevens mee)• e-mail problemen.• instelling
 en aanpassenOnze deskundigen zitten klaar om u met raad en daad terzijde t
 e staan. https://hcc.nl/rss-events/evenement/760-inloop-digitale-hulp
DTSTART:20240409T113000Z
DTEND:20240409T140000Z
LOCATION:Activiteitencentrum Orka  (Broekakkerseweg 1\, 5641 PC Eindhoven)
SUMMARY:Inloop digitale hulp
URL:https://hcc.nl/rss-events/evenement/760-inloop-digitale-hulp
END:VEVENT
BEGIN:VEVENT
UID:20260426T014301UTC-1174I5V1Iu@https://hcc.nl/
DTSTAMP:20260426T014301Z
DESCRIPTION:Onze inloop is bedoeld voor iedereen die praktische hulp en ond
 ersteuning nodig heeft bij het gebruik van uw digitale apparatuur\, zoals 
 desktop\, laptop\, tablet en smartphone.Te denken valt aan:• opschonen van
  uw computer• updates downloaden• apps installeren• accounts aanmaken op u
 w apparaten(breng dan wel uw gegevens mee)• e-mail problemen.• instellinge
 n aanpassenOnze deskundigen zitten klaar om u met raad en daad terzijde te
  staan. https://hcc.nl/rss-events/evenement/1297-inloop-digitale-hulp
DTSTART:20240409T080000Z
DTEND:20240409T100000Z
LOCATION:Bibliotheek Hardinxveld-Giessendam (Pietersweer 34\, 3371 PN Hardi
 nxveld-Giessendam)
SUMMARY:Inloop digitale hulp
URL:https://hcc.nl/rss-events/evenement/1297-inloop-digitale-hulp
END:VEVENT
BEGIN:VEVENT
UID:20260426T014301UTC-1175sKJReh@https://hcc.nl/
DTSTAMP:20260426T014301Z
DESCRIPTION:Onze inloop is bedoeld voor iedereen die praktische hulp en ond
 ersteuning nodig heeft bij het gebruik van uw tablet en smartphone.\nTe de
 nken valt aan:- apps installeren- accounts aanmaken op uw apparaten (breng
  dan uw inloggegevens mee)- e-mail problemen.- instellingen aanpassenZowel
  voor Apple\, Android als Windows!Onze deskundigen zitten klaar om u met r
 aad en daad terzijde te staan. https://hcc.nl/rss-events/evenement/1710-in
 loop-digitale-hulp
DTSTART:20240409T110000Z
DTEND:20240409T130000Z
LOCATION:Bibliotheek Leerdam (Meent 40\, 4141 AC Leerdam)
SUMMARY:Inloop digitale hulp
URL:https://hcc.nl/rss-events/evenement/1710-inloop-digitale-hulp
END:VEVENT
BEGIN:VEVENT
UID:20260426T014301UTC-11761VZcjn@https://hcc.nl/
DTSTAMP:20260426T014301Z
DESCRIPTION:Onze inloop is bedoeld voor iedereen die praktische hulp en ond
 ersteuning nodig heeft bij het gebruik van uw tablet en smartphone.Te denk
 en valt aan:- apps installeren- accounts aanmaken op uw apparaten (breng d
 an uw inloggegevens mee)- e-mail problemen.- instellingen aanpassenZowel v
 oor Apple\, Android als Windows!Onze deskundigen zitten klaar om u met raa
 d en daad terzijde te staan. https://hcc.nl/rss-events/evenement/2035-inlo
 op-digitale-hulp
DTSTART:20240409T110000Z
DTEND:20240409T130000Z
LOCATION:Bibliotheek Leerdam (Meent 40\, 4141 AC Leerdam)
SUMMARY:Inloop digitale hulp
URL:https://hcc.nl/rss-events/evenement/2035-inloop-digitale-hulp
END:VEVENT
BEGIN:VEVENT
UID:20260426T014301UTC-11775m3Umn@https://hcc.nl/
DTSTAMP:20260426T014301Z
DESCRIPTION:Onze inloop is bedoeld voor iedereen die praktische hulp en ond
 ersteuning nodig heeft bij het gebruik van uw digitale apparatuur\, zoals 
 desktop\, laptop\, tablet en smartphone.Te denken valt aan:• opschonen van
  uw computer• updates downloaden• apps installeren• accounts aanmaken op u
 w apparaten (breng dan wel uw gegevens mee)• e-mail problemen.• instelling
 en aanpassenOnze deskundigen zitten klaar om u met raad en daad terzijde t
 e staan. https://hcc.nl/rss-events/evenement/2320-inloop-digitale-hulp
DTSTART:20240409T113000Z
DTEND:20240409T140000Z
LOCATION:Activiteitencentrum Orka  (Broekakkerseweg 1\, 5641 PC Eindhoven)
SUMMARY:Inloop digitale Hulp
URL:https://hcc.nl/rss-events/evenement/2320-inloop-digitale-hulp
END:VEVENT
BEGIN:VEVENT
UID:20260426T014301UTC-1178R4vl4W@https://hcc.nl/
DTSTAMP:20260426T014301Z
DESCRIPTION:Spraakherkenning in Windows\nEen van de oudste behoeften van de
  PC is om tegen de computer te kunnen praten. Geen gedoe met muis en toets
 enbord\, maar gewoon praten tegen een computer die je dan nog verstaat ook
 . Maar kan dit nu ook echt?Iedereen heeft vast weleens de behoefte gehad e
 ens flink tegen zijn computer te schreeuwen.\nMaar het gekke is dat dit te
 genwoordig niet alleen kan\, maar dat die computer het nog verstaat ook.\n
 Spraakherkenning is daarbij de achterliggende techniek die maakt dat een c
 omputer (maar ook een smartphone\, andere slimme apparaten of zelfs de rou
 teplanner in de auto (we beperken ons hier echter tot Windows!) de menseli
 jke stem verstaat en omzet in geschreven tekst of een uit te voeren actie.
  https://hcc.nl/rss-events/evenement/4214-spraakherkenning-in-windows
DTSTART:20240409T113000Z
DTEND:20240409T140000Z
LOCATION:Wijkgebouw Bijdorp (Bijdorplaan 471\, 2713 SZ Zoetermeer)
SUMMARY:Spraakherkenning in Windows
URL:https://hcc.nl/rss-events/evenement/4214-spraakherkenning-in-windows
END:VEVENT
BEGIN:VEVENT
UID:20260426T014301UTC-1179ecburH@https://hcc.nl/
DTSTAMP:20260426T014301Z
DESCRIPTION:Met dual-boot kunnen twee besturingssystemen op dezelfde comput
 er draaien\, zodat een gebruiker kan kiezen welke opgestart wordt. Een van
  de meest populaire dual-boot-opties is dual-booting van Windows 11 en Lin
 ux. Hoe stel je dual-boot in op je computer en hoe schakel je tussen de be
 sturingssystemen nadat ze zijn geïnstalleerd?\nPresentator is Ger Stok.\nZ
 aal open: 13.00 uur\nStart workshop: 13.30 uur https://hcc.nl/rss-events/e
 venement/4646-workshop-dual-boot
DTSTART:20240409T110000Z
DTEND:20240409T140000Z
LOCATION:Speeltuin Pascal (Pascalweg 12\, 3076 JP Rotterdam)
SUMMARY:Workshop Dual-boot
URL:https://hcc.nl/rss-events/evenement/4646-workshop-dual-boot
END:VEVENT
BEGIN:VEVENT
UID:20260426T014301UTC-1180nDG80I@https://hcc.nl/
DTSTAMP:20260426T014301Z
DESCRIPTION:Spraakherkenning in Windows -----------------------------------
 --------------------------------------------------------------------------
 ---Een van de oudste behoeften van de PC is om tegen de computer te kunnen
  praten. Geen gedoe met muis en toetsenbord\, maar gewoon praten tegen een
  computer die je dan nog verstaat ook. Maar kan dit nu ook echt?Iedereen h
 eeft vast weleens de behoefte gehad eens flink tegen zijn computer te schr
 eeuwen. Maar het gekke is dat dit tegenwoordig niet alleen kan\, maar dat 
 die computer het nog verstaat ook. Spraakherkenning is daarbij de achterli
 ggende techniek die maakt dat een computer (maar ook een smartphone\, ande
 re slimme apparaten of zelfs de routeplanner in de auto --- we beperken on
 s hier echter tot Windows!) de menselijke stem verstaat en omzet in geschr
 even tekst of een uit te voeren actie. https://hcc.nl/rss-events/evenement
 /4679-spraakherkenning-in-windows
DTSTART:20240409T080000Z
DTEND:20240409T100000Z
LOCATION:Activiteitencentrum Orka  (Broekakkerseweg 1\, 5641 PC Eindhoven)
SUMMARY:Spraakherkenning in Windows
URL:https://hcc.nl/rss-events/evenement/4679-spraakherkenning-in-windows
END:VEVENT
BEGIN:VEVENT
UID:20260426T014301UTC-1181tD0OEV@https://hcc.nl/
DTSTAMP:20260426T014301Z
DESCRIPTION:Spraakherkenning in Windows -----------------------------------
 --------------------------------------------------------------------------
 ---Een van de oudste behoeften van de PC is om tegen de computer te kunnen
  praten. Geen gedoe met muis en toetsenbord\, maar gewoon praten tegen een
  computer die je dan nog verstaat ook. Maar kan dit nu ook echt?Iedereen h
 eeft vast weleens de behoefte gehad eens flink tegen zijn computer te schr
 eeuwen. Maar het gekke is dat dit tegenwoordig niet alleen kan\, maar dat 
 die computer het nog verstaat ook. Spraakherkenning is daarbij de achterli
 ggende techniek die maakt dat een computer (maar ook een smartphone\, ande
 re slimme apparaten of zelfs de routeplanner in de auto --- we beperken on
 s hier echter tot Windows!) de menselijke stem verstaat en omzet in geschr
 even tekst of een uit te voeren actie. https://hcc.nl/rss-events/evenement
 /4709-spraakherkenning-in-windows
DTSTART:20240409T113000Z
DTEND:20240409T133000Z
LOCATION:Dorpshuis Badhoevedorp (Snelliuslaan 35\, 1171 CZ Badhoevedorp)
SUMMARY:Spraakherkenning in Windows
URL:https://hcc.nl/rss-events/evenement/4709-spraakherkenning-in-windows
END:VEVENT
END:VCALENDAR
