BEGIN:VCALENDAR
VERSION:2.0
PRODID:-//https://hcc.nl///NONSGML kigkonsult.se iCalcreator 2.10.15//
METHOD:PUBLISH
BEGIN:VEVENT
UID:20260424T195800UTC-3681blvNKs@https://hcc.nl/
DTSTAMP:20260424T195800Z
DESCRIPTION:Zoals gebruikelijk komen we op de 1e zaterdag van de maand weer
  bijeen in Hooglanderveen (vlakbij Amersfoort) om ideeën\, ervaringen\, ti
 ps\, en andere informatie uit te wisselen op het gebied van AI (= kunstmat
 ige intelligentie).\nEen belangrijk onderdeel is de 'plenaire sessie'\, ee
 n groepsgesprek waarin allerlei aspecten van AI aan de orde kunnen komen. 
 Deze staat gepland om 13:00 en zal\, als de techniek meewerkt\, ook online
  te volgen zijn via wij.hcc.nl.\nDe plenaire sessie begint met een 'invent
 arisatierondje' waarin iedereen één of meer onderwerpen kan aandragen\, wa
 arna de voorzitter bepaalt in welke volgorde deze aan de beurt komen. Voor
  (en soms ook na) de plenaire sessie is er gelegenheid voor een bezoekje a
 an de kantine\, een kijkje bij de Robotica interessegroep\, informele gesp
 rekken in kleinere groepjes\, en/of zelfwerkzaamheid.\nWilt u geregeld van
  tevoren een herinnering aan onze bijeenkomsten ontvangen\, dan kunt U zic
 h (via het menu-item 'HCC' bovenaan) aanmelden voor de HCC-AI nieuwsbrief 
 (per email). https://hcc.nl/rss-events/evenement/1500-bijeenkomst-interess
 egroep-ai
DTSTART:20240406T090000Z
DTEND:20240406T140000Z
LOCATION:De Dissel  (Disselplein 8\, 3829 MD Hooglanderveen)
SUMMARY:Bijeenkomst Interessegroep AI
URL:https://hcc.nl/rss-events/evenement/1500-bijeenkomst-interessegroep-ai
END:VEVENT
BEGIN:VEVENT
UID:20260424T195800UTC-3684wBiwja@https://hcc.nl/
DTSTAMP:20260424T195800Z
DESCRIPTION:Zoals gebruikelijk komen we op de 1e zaterdag van de maand weer
  bijeen in Hooglanderveen (vlakbij Amersfoort) om ideeën\, ervaringen\, ti
 ps\, en andere informatie uit te wisselen op het gebied van AI (= kunstmat
 ige intelligentie).\nEen belangrijk onderdeel is de 'plenaire sessie'\, ee
 n groepsgesprek waarin allerlei aspecten van AI aan de orde kunnen komen. 
 Deze staat gepland om 13:00 en zal\, als de techniek meewerkt\, ook online
  te volgen zijn via wij.hcc.nl.\nDe plenaire sessie begint met een 'invent
 arisatierondje' waarin iedereen één of meer onderwerpen kan aandragen\, wa
 arna de voorzitter bepaalt in welke volgorde deze aan de beurt komen. Voor
  (en soms ook na) de plenaire sessie is er gelegenheid voor een bezoekje a
 an de kantine\, een kijkje bij de Robotica interessegroep\, informele gesp
 rekken in kleinere groepjes\, en/of zelfwerkzaamheid.\nWilt u geregeld van
  tevoren een herinnering aan onze bijeenkomsten ontvangen\, dan kunt U zic
 h (via het menu-item 'HCC' bovenaan) aanmelden voor de HCC-AI nieuwsbrief 
 (per email). https://hcc.nl/rss-events/evenement/1532-bijeenkomst-interess
 egroep-ai
DTSTART:20240406T090000Z
DTEND:20240406T140000Z
LOCATION:De Dissel  (Disselplein 8\, 3829 MD Hooglanderveen)
SUMMARY:Bijeenkomst Interessegroep AI
URL:https://hcc.nl/rss-events/evenement/1532-bijeenkomst-interessegroep-ai
END:VEVENT
BEGIN:VEVENT
UID:20260424T195800UTC-3721dxJ2ui@https://hcc.nl/
DTSTAMP:20260424T195800Z
DESCRIPTION:De HCC!trainsim organiseert maandelijks een bijeenkomst voor le
 den van de HCC in De Meern. Introducés zijn ook welkom.\nDe zaal is open v
 an 11.00 tot 16.00 uur. https://hcc.nl/rss-events/evenement/3950-clubdag-h
 cc-trainsim
DTSTART:20240406T100000Z
DTEND:20240406T150000Z
LOCATION:Cultureel Centrum De Schalm (Oranjelaan 10\, 3454 BT De Meern)
SUMMARY:Clubdag HCC!trainsim
URL:https://hcc.nl/rss-events/evenement/3950-clubdag-hcc-trainsim
END:VEVENT
BEGIN:VEVENT
UID:20260424T195800UTC-3722N23IBG@https://hcc.nl/
DTSTAMP:20260424T195800Z
DESCRIPTION:Single Board Computer werkgroep in Helmond voor HCC leden (en e
 ventuele geïnteresseerden). https://hcc.nl/rss-events/evenement/3979-singl
 e-board-computer
DTSTART:20240406T073000Z
DTEND:20240406T103000Z
LOCATION:Wijkhuis de Westwijzer  (Cortenbachstraat 70\, 5707 TJ Helmond)
SUMMARY:Single Board Computer
URL:https://hcc.nl/rss-events/evenement/3979-single-board-computer
END:VEVENT
BEGIN:VEVENT
UID:20260424T195800UTC-372388u6Dn@https://hcc.nl/
DTSTAMP:20260424T195800Z
DESCRIPTION:Vliegen met de computer op een groot scherm https://hcc.nl/rss-
 events/evenement/4013-fs-vliegdag
DTSTART:20240406T090000Z
DTEND:20240406T153000Z
LOCATION: ()
SUMMARY:FS Vliegdag
URL:https://hcc.nl/rss-events/evenement/4013-fs-vliegdag
END:VEVENT
BEGIN:VEVENT
UID:20260424T195800UTC-37243UL7ep@https://hcc.nl/
DTSTAMP:20260424T195800Z
DESCRIPTION:Op zaterdag 6 april is er een dronebijeenkomst met ALV in een z
 aaltje in Tiel. We starten al om 10.30 uur.\nLet op juiste adres is: Klein
  Plantage 1A\, Tiel. Er is beperkte parkeerplaats!\nProgramma:\n\nWelkom e
 n aansluitend de\nAlgemene Ledenvergadering HCC!drones\nPresentatie van An
 ton Doornenbal over zijn ervaringen met het vliegen met de DJI Air 3\, in 
 combinatie met DJI Flight Planner\, Litchi\, WebODM en tenslotte Gimp om f
 oto's te bewerken.\nDaarna bij goed weer drone vliegen.\n\nVoor het dronev
 liegen gaan we naar het open terrein van de camping in Tiel.\nTussendoor i
 s er pauze. Een eenvoudige lunch\, koffie\, thee is geregeld.\nOpm. De clu
 b neemt geen aansprakelijkheid voor schade aan je drone of aan derden. Che
 ck altijd je eigen aansprakelijkheidsverzekering.\nNB: Je moet je svp wel 
 aanmelden via deze link:\nHCC!drones - Dronebijeenkomst met ALV in Tiel Za
 terdag 6 april 10:30 tot 16:00 https://hcc.nl/rss-events/evenement/4557-dr
 onebijeenkomst-met-alv-in-tiel
DTSTART:20240406T083000Z
DTEND:20240406T140000Z
LOCATION:Zaal Tiel (Grotebrugse Grintweg-Oost 9\, 4004 LA Tiel)
SUMMARY:Dronebijeenkomst met ALV in Tiel
URL:https://hcc.nl/rss-events/evenement/4557-dronebijeenkomst-met-alv-in-ti
 el
END:VEVENT
BEGIN:VEVENT
UID:20260424T195800UTC-3726xkmxOM@https://hcc.nl/
DTSTAMP:20260424T195800Z
DESCRIPTION:Spraakherkenning in Windows -----------------------------------
 --------------------------------------------------------------------------
 ---Een van de oudste behoeften van de mens ivm de PC is om tegen de comput
 er te kunnen praten. Geen gedoe met muis en toetsenbord\, maar gewoon prat
 en tegen een computer die je dan nog verstaat ook. Maar kan dit nu ook ech
 t?Iedereen heeft vast weleens de behoefte gehad eens flink tegen zijn comp
 uter te schreeuwen. Maar het gekke is dat dit tegenwoordig niet alleen kan
 \, maar dat die computer het nog verstaat ook. Spraakherkenning is daarbij
  de achterliggende techniek die maakt dat een computer (maar ook een smart
 phone\, andere slimme apparaten of zelfs de routeplanner in de auto --- We
  beperken ons hier echter tot Windows!) de menselijke stem verstaat en omz
 et in geschreven tekst of een uit te voeren actie. https://hcc.nl/rss-even
 ts/evenement/4610-spraakherkenning-in-windows
DTSTART:20240406T080000Z
DTEND:20240406T100000Z
LOCATION:Wijkcentrum 't Holleblok (Holleblok 2\, 1273 EG Huizen)
SUMMARY:Spraakherkenning in Windows
URL:https://hcc.nl/rss-events/evenement/4610-spraakherkenning-in-windows
END:VEVENT
BEGIN:VEVENT
UID:20260424T195800UTC-3727OKgEE5@https://hcc.nl/
DTSTAMP:20260424T195800Z
DESCRIPTION:Maandelijkse bijeenkomst in verenigingsgebouw De Dissel in Hoog
 landerveen nabij Hoevelaken.De juiste plaats om met elkaar te overleggen o
 ver de robotica hobby.Een enthousiaste groep leden is er iedere maand met 
 diverse robots en andere hardware aan de slag.\nEr wordt geoefend\, overle
 gd en geknutseld.\nWil je meer weten van Robots\, wil je zelf aan de slag 
 kom dan langs.Je wordt met open armen ontvangen.\nLet op:\n11:00 Algemene 
 Ledenvergadering https://hcc.nl/rss-events/evenement/4612-hcc-robotica-maa
 ndelijkse-bijeenkomst
DTSTART:20240406T080000Z
DTEND:20240406T140000Z
LOCATION:De Dissel  (Disselplein 8\, 3829 MD Hooglanderveen)
SUMMARY:HCC!Robotica maandelijkse bijeenkomst
URL:https://hcc.nl/rss-events/evenement/4612-hcc-robotica-maandelijkse-bije
 enkomst
END:VEVENT
BEGIN:VEVENT
UID:20260424T195800UTC-3729ZMck8T@https://hcc.nl/
DTSTAMP:20260424T195800Z
DESCRIPTION:We houden weer een online Pascal sessie.\nAanmelden is niet nod
 ig. Zie dit artikel voor meer informatie. https://hcc.nl/rss-events/evenem
 ent/4664-hcc-programmeren-pascal-sessie
DTSTART:20240406T170000Z
DTEND:20240406T200000Z
LOCATION:Online ()
SUMMARY:HCC!programmeren - Pascal sessie
URL:https://hcc.nl/rss-events/evenement/4664-hcc-programmeren-pascal-sessie
END:VEVENT
BEGIN:VEVENT
UID:20260424T195800UTC-3729vCk2rp@https://hcc.nl/
DTSTAMP:20260424T195800Z
DESCRIPTION:Op zaterdag 6 april organiseert Hans Zonneveld als lid van de f
 otogroep Helmond HCC ZO-Brabant een fototocht. Deze zal beginnen op de mar
 kt in Helmond\, de markt: een plaats bij uitstek geschikt om kleurrijke fo
 to’s te maken\, waarbij een veelvoud aan onderwerpen zich aanbiedt.\nDe to
 cht is voornamelijk bedoeld om leden van de HCC Fotogroep de mogelijkheid 
 te bieden om met gelijkgestemden van gedachten te wisselen over invalshoek
 \, instellingen\, lichtinval en meer.  Maar ook andere geïnteresseerden  o
 f belangstellenden\, HCC-leden of niet-leden\, kunnen deelnemen.Het idee i
 s om de mensen op die markt te fotograferen\, iedereen die daar bezig is. 
 Het gaat daarbij om de foto's zelf\, niet om de specifieke functies van me
 nsen. Denk aan compositie op de gehele foto\, de houding van mensen. Wordt
  er een dynamiek duidelijk? Ontstaat er een beeld over wat er gebeurt? We 
 hebben daar een kleurrijke omgeving door de uitgestalde waar. Dus dat kan 
 dienst doen om de foto's interessant te maken. Daarnaast en ook als altern
 atief is er de mogelijkheid\, naar keuze\, om de beeldenroute te lopen in 
 Helmond en die ook als thema voor foto's te nemen. Dan gaat het meer om he
 t wezen van de kunst. Kan dat goed weergegeven worden middels een foto? Oo
 k hier weer compositie\, een statisch object in een stadse omgeving. In ge
 val van regen bestaat de mogelijkheid om diverse musea te bezoeken. Die le
 nen zich ook voor foto's\, maar vanwege het licht is het beter is het om b
 uiten te fotograferen.Voor deze specifieke activiteit gaan we allemaal ind
 ividueel naar het genoemde adres in Helmond en we ontmoeten elkaar daar. D
 e foto’s worden gepost op de HCC site om ze later met elkaar te bespreken 
 en er lessen uit trekken.\nOf de marktwandeling gevolgd wordt door de beel
 denroute (wandeling) is aan de deelnemers zelf. Dat kan in groepjes of in 
 een groep\, wat men wil. Dat is nu nog niet verder afgesproken. \nEnkele g
 egevens:Samenkomst: bij restaurant ZIEN\, Markt 10 Helmond. Het biedt teve
 ns de mogelijkheid voor een kop koffie  bij aanvang of na afloop te nemen\
 , als daar behoefte aan is.\nDatum: zaterdag 6 aprilTijd: 10.15 uurTijdsdu
 ur: onderling overleg https://hcc.nl/rss-events/evenement/4667-foto-stadsw
 andeling-helmond
DTSTART:20240406T080000Z
DTEND:20240406T150000Z
LOCATION:Restaurant ZIEN (Markt 10\, 5701 RK Helmond)
SUMMARY:Foto-stadswandeling Helmond
URL:https://hcc.nl/rss-events/evenement/4667-foto-stadswandeling-helmond
END:VEVENT
BEGIN:VEVENT
UID:20260424T195800UTC-3732ehH1Eu@https://hcc.nl/
DTSTAMP:20260424T195800Z
DESCRIPTION:Computerclub\nHCC!apeldoorn heeft een steunpunt in Vaassen. Dez
 e locatie is voor iedereen die een computer(probleem) heeft.\nDe vrijwilli
 gers helpen tijdens de clubdag onder andere met het upgraden van de comput
 er. Ook het inbouwen van (meegebrachte) hardware is op de clubdag gratis.
 \nTevens zijn er regelmatig demonstraties en presentaties.\nVoor het verhe
 lpen van een computerprobleem dient men de kast en de software mee te neme
 n naar de inloop.\nU hoeft natuurlijk niet een computerprobleem te hebben 
 om gezellig langs te komen!Kom gezellig een bakje koffie drinken en missch
 ien kunt u zelf ook anderen helpen die met een computerprobleem zitten.\nN
 eem ook eens een kijkje op de site www.pcclubvaassen.nl voor leuke downloa
 ds en informatie.\nIs het probleem groot en kan het niet wachten\, bel dan
  voor de hulplijn naar telefoonnummer: 0578 – 62 84 06 en vraag naar Jan V
 eldman.\n  https://hcc.nl/rss-events/evenement/4669-hcc-apeldoorn-inloop
DTSTART:20240406T080000Z
DTEND:20240406T120000Z
LOCATION: ()
SUMMARY:HCC!apeldoorn - Inloop
URL:https://hcc.nl/rss-events/evenement/4669-hcc-apeldoorn-inloop
END:VEVENT
BEGIN:VEVENT
UID:20260424T195800UTC-3733zdiIp9@https://hcc.nl/
DTSTAMP:20260424T195800Z
DESCRIPTION:Inloopbijeenkomst https://hcc.nl/rss-events/evenement/4671-hcc-
 noord-west-inloopbijeenkomst
DTSTART:20240406T110000Z
DTEND:20240406T150000Z
LOCATION:Olympiagebouw (Olympiaweg 17\, 1816 MJ Alkmaar)
SUMMARY:HCC!noord-west - Inloopbijeenkomst
URL:https://hcc.nl/rss-events/evenement/4671-hcc-noord-west-inloopbijeenkom
 st
END:VEVENT
END:VCALENDAR
