BEGIN:VCALENDAR
VERSION:2.0
PRODID:-//https://hcc.nl///NONSGML kigkonsult.se iCalcreator 2.10.15//
METHOD:PUBLISH
BEGIN:VEVENT
UID:20260424T195656UTC-20313EUGWG@https://hcc.nl/
DTSTAMP:20260424T195656Z
DESCRIPTION:De smart tv neemt voor velen een belangrijke plaats in. De ontw
 ikkeling gaat snel en de mogelijkheden nemen enorm toe. Laat u zich hierdo
 or verleiden om\, wellicht eerder dan noodzakelijk\, uw tv te vervangen do
 or een moderner exemplaar? Laat u zich daarbij dan leiden door uw behoefte
  of door de gladde praatjes van de verkoper? Deze presentatie geeft u vold
 oende informatie over de belangrijkste aspecten van een smart tv\, aan de 
 hand waarvan u een betere keuze kunt maken: wel of geen nieuwe tv en\, kie
 st u voor een nieuwe tv\, welke. https://hcc.nl/rss-events/evenement/4508-
 smart-tv
DTSTART:20240405T113000Z
DTEND:20240405T133000Z
LOCATION:Het Kernhuis (Parkrand 60\, 6714 GN Ede)
SUMMARY:Smart TV
URL:https://hcc.nl/rss-events/evenement/4508-smart-tv
END:VEVENT
BEGIN:VEVENT
UID:20260424T195656UTC-2033tUS3mb@https://hcc.nl/
DTSTAMP:20260424T195656Z
DESCRIPTION:We houden weer een online games programmeren sessie.\nAanmelden
  is niet nodig. Zie dit artikel voor meer informatie. https://hcc.nl/rss-e
 vents/evenement/4673-hcc-programmeren-games-programmeren-sessie
DTSTART:20240405T180000Z
DTEND:20240405T200000Z
LOCATION:Online ()
SUMMARY:HCC!programmeren - games programmeren sessie
URL:https://hcc.nl/rss-events/evenement/4673-hcc-programmeren-games-program
 meren-sessie
END:VEVENT
END:VCALENDAR
