BEGIN:VCALENDAR
VERSION:2.0
PRODID:-//https://hcc.nl///NONSGML kigkonsult.se iCalcreator 2.10.15//
METHOD:PUBLISH
BEGIN:VEVENT
UID:20260424T124116UTC-142508Rplx@https://hcc.nl/
DTSTAMP:20260424T124116Z
DESCRIPTION:Onze inloop is bedoeld voor iedereen die praktische hulp en ond
 ersteuning nodig heeft bij het gebruik van uw digitale apparatuur\, zoals 
 desktop\, laptop\, tablet en smartphone.Te denken valt aan:• opschonen van
  uw computer• updates downloaden• apps installeren• accounts aanmaken op u
 w apparaten(breng dan wel uw gegevens mee)• e-mail problemen.• instellinge
 n aanpassenOnze deskundigen zitten klaar om u met raad en daad terzijde te
  staan. https://hcc.nl/rss-events/evenement/1295-inloop-digitale-hulp
DTSTART:20240402T080000Z
DTEND:20240402T100000Z
LOCATION:Bibliotheek Hardinxveld-Giessendam (Pietersweer 34\, 3371 PN Hardi
 nxveld-Giessendam)
SUMMARY:Inloop digitale hulp
URL:https://hcc.nl/rss-events/evenement/1295-inloop-digitale-hulp
END:VEVENT
BEGIN:VEVENT
UID:20260424T124116UTC-14261Taz5w@https://hcc.nl/
DTSTAMP:20260424T124116Z
DESCRIPTION:Onze inloop is bedoeld voor iedereen die praktische hulp en ond
 ersteuning nodig heeft bij het gebruik van uw digitale apparatuur\, zoals 
 desktop\, laptop\, tablet en smartphone.Te denken valt aan:• opschonen van
  uw computer• updates downloaden• apps installeren• accounts aanmaken op u
 w apparaten (breng dan wel uw gegevens mee)• e-mail problemen.• instelling
 en aanpassenOnze deskundigen zitten klaar om u met raad en daad terzijde t
 e staan. https://hcc.nl/rss-events/evenement/2318-inloop-digitale-hulp
DTSTART:20240402T113000Z
DTEND:20240402T140000Z
LOCATION:Activiteitencentrum Orka  (Broekakkerseweg 1\, 5641 PC Eindhoven)
SUMMARY:Inloop digitale Hulp
URL:https://hcc.nl/rss-events/evenement/2318-inloop-digitale-hulp
END:VEVENT
BEGIN:VEVENT
UID:20260424T124116UTC-1427apsaSR@https://hcc.nl/
DTSTAMP:20260424T124116Z
DESCRIPTION:SInloop bijeenkomst van 13.30 -16.30 uur.\nOok deze keer kunt u
  terecht met vragen over computer hardware en software\, tablets\, gsm's e
 tc. Wellicht zijn er leden aanwezig die zich bezig houden met fotobewerkin
 gssoftware of videobewerking. We helpen elkaar bij eventuele vragen. https
 ://hcc.nl/rss-events/evenement/4101-hcc-ijssellanden-inloop-met-werkgroepe
 n
DTSTART:20240402T123000Z
DTEND:20240402T153000Z
LOCATION:Theater de Meenthe (Stationsplein 1\, 8331 GM Steenwijk)
SUMMARY:HCC!ijssellanden inloop met werkgroepen
URL:https://hcc.nl/rss-events/evenement/4101-hcc-ijssellanden-inloop-met-we
 rkgroepen
END:VEVENT
BEGIN:VEVENT
UID:20260424T124116UTC-1428r6KVx0@https://hcc.nl/
DTSTAMP:20260424T124116Z
DESCRIPTION:Een van de oudste behoeften van de PC is om tegen de computer t
 e kunnen praten. Geen gedoe met muis en toetsenbord\, maar gewoon praten t
 egen een computer die je dan nog verstaat ook. Maar kan dit nu ook echt?Ie
 dereen heeft vast weleens de behoefte gehad eens flink tegen zijn computer
  te schreeuwen. Maar het gekke is dat dit tegenwoordig niet alleen kan\, m
 aar dat die computer het nog verstaat ook. Spraakherkenning is daarbij de 
 achterliggende techniek die maakt dat een computer (maar ook een smartphon
 e\, andere slimme apparaten of zelfs de routeplanner in de auto (we beperk
 en ons hier echter tot Windows!) de menselijke stem verstaat en omzet in g
 eschreven tekst of een uit te voeren actie. https://hcc.nl/rss-events/even
 ement/4223-spraakherkenning-in-windows
DTSTART:20240402T110000Z
DTEND:20240402T140000Z
LOCATION:Speeltuin Pascal (Pascalweg 12\, 3076 JP Rotterdam)
SUMMARY:Spraakherkenning in Windows
URL:https://hcc.nl/rss-events/evenement/4223-spraakherkenning-in-windows
END:VEVENT
BEGIN:VEVENT
UID:20260424T124116UTC-1429lzvG66@https://hcc.nl/
DTSTAMP:20260424T124116Z
DESCRIPTION:Een van de oudste behoeften van de PC is om tegen de computer t
 e kunnen praten. Geen gedoe met muis en toetsenbord\, maar gewoon praten t
 egen een computer die je dan nog verstaat ook. Maar kan dit nu ook echt?Ie
 dereen heeft vast weleens de behoefte gehad eens flink tegen zijn computer
  te schreeuwen. Maar het gekke is dat dit tegenwoordig niet alleen kan\, m
 aar dat die computer het nog verstaat ook. Spraakherkenning is daarbij de 
 achterliggende techniek die maakt dat een computer (maar ook een smartphon
 e\, andere slimme apparaten of zelfs de routeplanner in de auto (we beperk
 en ons hier echter tot Windows!) de menselijke stem verstaat en omzet in g
 eschreven tekst of een uit te voeren actie. https://hcc.nl/rss-events/even
 ement/4225-spraakherkenning-in-windows
DTSTART:20240402T080000Z
DTEND:20240402T100000Z
LOCATION:Wijkcentrum Hatert (Couwenbergstraat 22\, 6535 RZ Nijmegen)
SUMMARY:Spraakherkenning in Windows
URL:https://hcc.nl/rss-events/evenement/4225-spraakherkenning-in-windows
END:VEVENT
BEGIN:VEVENT
UID:20260424T124116UTC-1430D5GKxZ@https://hcc.nl/
DTSTAMP:20260424T124116Z
DESCRIPTION:We houden weer een online algemene sessie.\nAanmelden is niet n
 odig. Zie dit artikel voor meer informatie. https://hcc.nl/rss-events/even
 ement/4592-hcc-programmeren-algemene-sessie
DTSTART:20240402T173000Z
DTEND:20240402T200000Z
LOCATION:Online ()
SUMMARY:HCC!programmeren - algemene sessie 
URL:https://hcc.nl/rss-events/evenement/4592-hcc-programmeren-algemene-sess
 ie
END:VEVENT
BEGIN:VEVENT
UID:20260424T124116UTC-14318S5XSz@https://hcc.nl/
DTSTAMP:20260424T124116Z
DESCRIPTION:Onze inloop is bedoeld voor iedereen die praktische hulp en ond
 ersteuning nodig heeft bij het gebruik van uw digitale apparatuur\, zoals 
 desktop\, laptop\, tablet en smartphone.Te denken valt aan:opschonen van u
 w computerupdates downloadenapps installerenaccounts aanmaken op uw appara
 ten(breng dan wel uw gegevens mee)e-mail problemen.instellingen aanpassenO
 nze deskundigen zitten klaar om u met raad en daad terzijde te staan. http
 s://hcc.nl/rss-events/evenement/4634-inloop-digitale-hulp
DTSTART:20240402T110000Z
DTEND:20240402T130000Z
LOCATION:Bibliotheek Leerdam (Meent 40\, 4141 AC Leerdam)
SUMMARY:Inloop Digitale Hulp
URL:https://hcc.nl/rss-events/evenement/4634-inloop-digitale-hulp
END:VEVENT
BEGIN:VEVENT
UID:20260424T124116UTC-1432g3cDz6@https://hcc.nl/
DTSTAMP:20260424T124116Z
DESCRIPTION:\nSmartphonefotografie is tegenwoordig een ware kunstvorm gewor
 den\, waarbij de kwaliteit van de camera's in mobiele telefoons enorm is v
 erbeterd. Het is een toegankelijke manier om je creativiteit te uiten en b
 ijzondere momenten vast te leggen. Met de juiste technieken en een paar ha
 ndige tips kan iedereen met een smartphone prachtige foto's maken. Het is 
 leuk voor zowel amateurfotografen als professionals\, want met een smartph
 one in je broekzak ben je altijd klaar om dat ene perfecte shot te vangen.
 \nBrigitte van Berkel zal dinsdagavond 2 april een mooie demonstratie en p
 resentatie geven over smartphonefotografie.\nDeze avond komen de volgende 
 onderwerpen aan bod:\n\nBasisregels fotografie\nTips smartphone\nApps\nFot
 obeheer\n https://hcc.nl/rss-events/evenement/4662-lezing-fotografie-met-s
 martphone
DTSTART:20240402T180000Z
DTEND:20240402T203000Z
LOCATION:Zalencentrum De Witte Kerk (Agnes Huijnstraat 3\, 5914 PE Venlo)
SUMMARY:Lezing fotografie met smartphone
URL:https://hcc.nl/rss-events/evenement/4662-lezing-fotografie-met-smartpho
 ne
END:VEVENT
BEGIN:VEVENT
UID:20260424T124116UTC-14334nALRv@https://hcc.nl/
DTSTAMP:20260424T124116Z
DESCRIPTION:We houden weer een online Python sessie met de cursus voor begi
 nners.\nAanmelden is niet nodig. Zie dit artikel voor meer informatie. htt
 ps://hcc.nl/rss-events/evenement/4675-hcc-programmeren-python-sessie
DTSTART:20240402T082900Z
DTEND:20240402T122900Z
LOCATION:Online ()
SUMMARY:HCC!programmeren - Python sessie
URL:https://hcc.nl/rss-events/evenement/4675-hcc-programmeren-python-sessie
END:VEVENT
END:VCALENDAR
