BEGIN:VCALENDAR
VERSION:2.0
PRODID:-//https://hcc.nl///NONSGML kigkonsult.se iCalcreator 2.10.15//
METHOD:PUBLISH
BEGIN:VEVENT
UID:20260424T224018UTC-8382IzSMEn@https://hcc.nl/
DTSTAMP:20260424T224018Z
DESCRIPTION:Geen inloop ivm 2e Paasdag https://hcc.nl/rss-events/evenement/
 1831-geen-inloop-android-hulp-ivm-2e-paasdag
DTSTART:20240401T180000Z
DTEND:20240401T200000Z
LOCATION:Huis van de Wijk Oostgaarde (De Linie 5\, 2905 AX Capelle aan den 
 IJssel)
SUMMARY:Geen inloop Android hulp ivm 2e Paasdag
URL:https://hcc.nl/rss-events/evenement/1831-geen-inloop-android-hulp-ivm-2
 e-paasdag
END:VEVENT
BEGIN:VEVENT
UID:20260424T224018UTC-8384c2bdna@https://hcc.nl/
DTSTAMP:20260424T224018Z
DESCRIPTION:In verband met 2e Paasdag is er geen inkoop. \nDe Helpdesk is v
 an dinsdag t/m vrijdag bereikbaar via 085-0441808 https://hcc.nl/rss-event
 s/evenement/3423-geen-digitale-inloop-leersum-2e-paasdag
DTSTART:20240401T130000Z
DTEND:20240401T143000Z
LOCATION:Bibliotheek Leersum  (Hoflaan 31\, 3956 ED Leersum)
SUMMARY:Geen digitale inloop Leersum - 2e Paasdag
URL:https://hcc.nl/rss-events/evenement/3423-geen-digitale-inloop-leersum-2
 e-paasdag
END:VEVENT
BEGIN:VEVENT
UID:20260424T224018UTC-8385jsvOtc@https://hcc.nl/
DTSTAMP:20260424T224018Z
DESCRIPTION:Geen inloop ivm 2e Paasdag https://hcc.nl/rss-events/evenement/
 3675-hcc-apple-geen-inloop-ivm-2e-paasdag
DTSTART:20240401T183000Z
DTEND:20240401T210000Z
LOCATION:Cultuurhuis Schoneveld Houten (Zonnehout 36\, 3991 MX Houten)
SUMMARY:HCC!apple - Geen inloop ivm 2e Paasdag
URL:https://hcc.nl/rss-events/evenement/3675-hcc-apple-geen-inloop-ivm-2e-p
 aasdag
END:VEVENT
BEGIN:VEVENT
UID:20260424T224018UTC-8386vmV7sT@https://hcc.nl/
DTSTAMP:20260424T224018Z
DESCRIPTION:Vandaag is het 2e Paasdag\, dus zijn er geen HCC-bijeenkomsten.
  https://hcc.nl/rss-events/evenement/4087-2e-paasdag-geen-hcc-bijeenkomste
 n
DTSTART:20240401T070000Z
DTEND:20240401T213000Z
LOCATION: ()
SUMMARY:2e Paasdag - geen HCC-bijeenkomsten
URL:https://hcc.nl/rss-events/evenement/4087-2e-paasdag-geen-hcc-bijeenkoms
 ten
END:VEVENT
END:VCALENDAR
