BEGIN:VCALENDAR
VERSION:2.0
PRODID:-//https://hcc.nl///NONSGML kigkonsult.se iCalcreator 2.10.15//
METHOD:PUBLISH
BEGIN:VEVENT
UID:20260423T051750UTC-0281xfSFb1@https://hcc.nl/
DTSTAMP:20260423T051750Z
DESCRIPTION:Bijeenkomst over Linux voor en door leden en belangstellenden h
 ttps://hcc.nl/rss-events/evenement/3791-linux-aktief-avond
DTSTART:20240327T190000Z
DTEND:20240327T210000Z
LOCATION: ()
SUMMARY:Linux Aktief avond
URL:https://hcc.nl/rss-events/evenement/3791-linux-aktief-avond
END:VEVENT
BEGIN:VEVENT
UID:20260423T051750UTC-0282Sllvai@https://hcc.nl/
DTSTAMP:20260423T051750Z
DESCRIPTION:Bijeenkomst over Linux voor en door leden en belangstellenden h
 ttps://hcc.nl/rss-events/evenement/4047-linux-aktief-avond
DTSTART:20240327T190000Z
DTEND:20240327T210000Z
LOCATION: ()
SUMMARY:Linux Aktief avond
URL:https://hcc.nl/rss-events/evenement/4047-linux-aktief-avond
END:VEVENT
BEGIN:VEVENT
UID:20260423T051750UTC-02820SamGc@https://hcc.nl/
DTSTAMP:20260423T051750Z
DESCRIPTION:Windows 11 – 23H2 upgrade\nIs dit inderdaad de 23H2 upgrade voo
 r Windows 11 ?Op 26 september 2023 heeft Microsoft een cumulatieve update 
 voor Windows 11 (KB5030310)vrijgegeven. Is dit de langverwachte 23H2 upgra
 de? Helemaal duidelijk is dat niet. Hiermee werdenin elk geval wel een aan
 tal nieuwe functies aan Windows 11 toegevoegd waarvan verwacht werd dat ze
 onderdeel van deze upgrade zouden zijn. Een aantal waren direct actief\, e
 en aantal andere waren datniet en zijn later stuk voor stuk beschikbaar ge
 maakt via verdere updates. Zo langzamerhand zijn zeallemaal actief geworde
 n. Het loont in elk geval de moeite om de meest belangrijke eens nader teg
 aan bekijken en te zien wat Windows 11 vanaf nu allemaal te bieden heeft.
 \nDeze webinar wordt gepresenteerd door Henk Geesink. https://hcc.nl/rss-e
 vents/evenement/4212-windows11-update-2023h2
DTSTART:20240327T120000Z
DTEND:20240327T143000Z
LOCATION:Online ()
SUMMARY:Windows11 Update 2023H2
URL:https://hcc.nl/rss-events/evenement/4212-windows11-update-2023h2
END:VEVENT
BEGIN:VEVENT
UID:20260423T051750UTC-0283pavl0M@https://hcc.nl/
DTSTAMP:20260423T051750Z
DESCRIPTION:Is dit inderdaad de 23H2 upgrade voor Windows 11 ?Op 26 septemb
 er 2023 heeft Microsoft een cumulatieve update voor Windows 11 (KB5030310)
 vrijgegeven. Is dit de langverwachte 23H2 upgrade? Helemaal duidelijk is d
 at niet. Hiermee werdenin elk geval wel een aantal nieuwe functies aan Win
 dows 11 toegevoegd waarvan verwacht werd dat zeonderdeel van deze upgrade 
 zouden zijn. Een aantal waren direct actief\, een aantal andere waren datn
 iet en zijn later stuk voor stuk beschikbaar gemaakt via verdere updates. 
 Zo langzamerhand zijn zeallemaal actief geworden. Het loont in elk geval d
 e moeite om de meest belangrijke eens nader tegaan bekijken en te zien wat
  Windows 11 vanaf nu allemaal te bieden heeft.\nDeze webinar wordt geprese
 nteerd door Henk Geesink. https://hcc.nl/rss-events/evenement/4215-windows
 11-update-2023h2
DTSTART:20240327T123000Z
DTEND:20240327T140000Z
LOCATION:Online ()
SUMMARY:Windows11 Update 2023H2
URL:https://hcc.nl/rss-events/evenement/4215-windows11-update-2023h2
END:VEVENT
BEGIN:VEVENT
UID:20260423T051750UTC-0285KWiuvd@https://hcc.nl/
DTSTAMP:20260423T051750Z
DESCRIPTION:Op 26 september 2023 heeft Microsoft een cumulatieve update voo
 r Windows 11 (KB5030310) vrijgegeven. Is dit de langverwachte 23H2 upgrade
 ? Helemaal duidelijk is dat niet. Hiermee werden in elk geval wel een aant
 al nieuwe functies aan Windows 11 toegevoegd waarvan verwacht werd dat ze 
 onderdeel van deze upgrade zouden zijn. Een aantal waren direct actief\, e
 en aantal andere waren dat niet en zijn later stuk voor stuk beschikbaar g
 emaakt via verdere updates. Zo langzamerhand zijn ze allemaal actief gewor
 den. Het loont in elk geval de moeite om de meest belangrijke eens nader t
 e gaan bekijken en te zien wat Windows 11 vanaf nu allemaal te bieden heef
 t. https://hcc.nl/rss-events/evenement/4251-windows11-update-2023h2
DTSTART:20240327T090000Z
DTEND:20240327T110000Z
LOCATION:'t Vinkhuys  (Diamantlaan 94\, 9743 BJ Groningen)
SUMMARY:Windows11 Update 2023H2
URL:https://hcc.nl/rss-events/evenement/4251-windows11-update-2023h2
END:VEVENT
BEGIN:VEVENT
UID:20260423T051750UTC-0286l1cz4z@https://hcc.nl/
DTSTAMP:20260423T051750Z
DESCRIPTION:Op 26 september 2023 heeft Microsoft een cumulatieve update voo
 r Windows 11 (KB5030310) vrijgegeven. Is dit de langverwachte 23H2 upgrade
 ? Helemaal duidelijk is dat niet. Hiermee werden in elk geval wel een aant
 al nieuwe functies aan Windows 11 toegevoegd waarvan verwacht werd dat ze 
 onderdeel van deze upgrade zouden zijn. Een aantal waren direct actief\, e
 en aantal andere waren dat niet en zijn later stuk voor stuk beschikbaar g
 emaakt via verdere updates. Zo langzamerhand zijn ze allemaal actief gewor
 den. Het loont in elk geval de moeite om de meest belangrijke eens nader t
 e gaan bekijken en te zien wat Windows 11 vanaf nu allemaal te bieden heef
 t. https://hcc.nl/rss-events/evenement/4267-windows11-update-2023h2
DTSTART:20240327T090000Z
DTEND:20240327T110000Z
LOCATION:Gemeenschapshuis De Kuip (Bloemendalsweg 1B\, 7429 AL Colmschate)
SUMMARY:Windows11 Update 2023H2
URL:https://hcc.nl/rss-events/evenement/4267-windows11-update-2023h2
END:VEVENT
BEGIN:VEVENT
UID:20260423T051750UTC-0287IojWXU@https://hcc.nl/
DTSTAMP:20260423T051750Z
DESCRIPTION:Ronald laat bij HCC!windows zien hoe GitHub werkt\, zie dit art
 ikel voor meer informatie.\n\n\n\n\n https://hcc.nl/rss-events/evenement/4
 420-installeer-github-in-windows-deel-1
DTSTART:20240327T180000Z
DTEND:20240327T213000Z
LOCATION:Online ()
SUMMARY:Installeer Github in Windows deel 1
URL:https://hcc.nl/rss-events/evenement/4420-installeer-github-in-windows-d
 eel-1
END:VEVENT
BEGIN:VEVENT
UID:20260423T051750UTC-0288D9K6PK@https://hcc.nl/
DTSTAMP:20260423T051750Z
DESCRIPTION:Een gezellig uurtje praten over diverse onderwerpen https://hcc
 .nl/rss-events/evenement/4448-maandelijks-koffieuurtje-hcc-noord
DTSTART:20240327T190000Z
DTEND:20240327T200000Z
LOCATION:Online ()
SUMMARY:Maandelijks Koffieuurtje HCC!Noord
URL:https://hcc.nl/rss-events/evenement/4448-maandelijks-koffieuurtje-hcc-n
 oord
END:VEVENT
BEGIN:VEVENT
UID:20260423T051750UTC-0289cOSHUA@https://hcc.nl/
DTSTAMP:20260423T051750Z
DESCRIPTION:Op onze inloopmiddag kunt u binnenlopen voor hulp bij problemen
  met uw computer\, telefoon of tablet.\nWe kunnen u helpen met Windows\, L
 inux en Apple.\nIs uw computer niet geschikt voor Windows 11\, probeer het
  eens met een Linux distributie zoals bijvoorbeeld Linux Mint.\nU zult ver
 baasd zijn hoe eenvoudig een en ander werkt en tevens hoeveel sneller Linu
 x werkt\, vooral op wat oudere computers met kleine schijf en weinig geheu
 gen.\nOok onze webmaster is op onze middagen aanwezig om u te helpen een w
 ebsite te bouwen met behulp van Joomla of Wordpress. https://hcc.nl/rss-ev
 ents/evenement/4532-inloop-computerhulp-en-website-bouwen
DTSTART:20240327T123000Z
DTEND:20240327T150000Z
LOCATION:Gemeenschapshuis De Kuip (Bloemendalsweg 1B\, 7429 AL Colmschate)
SUMMARY:Inloop computerhulp en website bouwen
URL:https://hcc.nl/rss-events/evenement/4532-inloop-computerhulp-en-website
 -bouwen
END:VEVENT
BEGIN:VEVENT
UID:20260423T051750UTC-02905UF1M0@https://hcc.nl/
DTSTAMP:20260423T051750Z
DESCRIPTION:We houden weer een online Liberty Basic sessie\, tegelijkertijd
  met een bijeenkomst in Amstelveen. Aanmelden is niet nodig. Zie dit artik
 el voor meer informatie. https://hcc.nl/rss-events/evenement/4551-hcc-prog
 rammeren-liberty-basic-sessie
DTSTART:20240327T190000Z
DTEND:20240327T220000Z
LOCATION:Online ()
SUMMARY:HCC!programmeren Liberty Basic sessie
URL:https://hcc.nl/rss-events/evenement/4551-hcc-programmeren-liberty-basic
 -sessie
END:VEVENT
BEGIN:VEVENT
UID:20260423T051750UTC-0290GTUjI1@https://hcc.nl/
DTSTAMP:20260423T051750Z
DESCRIPTION:Grote Zaal\, BG\;  20:00 - 22:30\nBezoekers praten met elkaar o
 ver computerproblemen en aanverwante onderwerpen. Zij stellen vragen over 
 software\, computers\, tablets\, phones of andere hardware. Veel problemen
  kunnen ter plaatse worden opgelost en anders helpen we met aanwijzingen.
 \nIn de zaal bieden we internet toegang. Jouw apparaten kun je dus gerust 
 meebrengen. Verder is er een rijk gevulde leestafel met de nieuwste comput
 erbladen. https://hcc.nl/rss-events/evenement/4565-hcc-amsterdam-algemene-
 bijeenkomst
DTSTART:20240327T190000Z
DTEND:20240327T213000Z
LOCATION:De Meent  (Orion 3\, 1188 AM Amstelveen)
SUMMARY:HCC!amsterdam - Algemene bijeenkomst
URL:https://hcc.nl/rss-events/evenement/4565-hcc-amsterdam-algemene-bijeenk
 omst
END:VEVENT
BEGIN:VEVENT
UID:20260423T051750UTC-0291n2PXeu@https://hcc.nl/
DTSTAMP:20260423T051750Z
DESCRIPTION:Windows 11 – 23H2 upgrade\nIs dit inderdaad de 23H2 upgrade voo
 r Windows 11 ?Op 26 september 2023 heeft Microsoft een cumulatieve update 
 voor Windows 11 (KB5030310)vrijgegeven. Is dit de langverwachte 23H2 upgra
 de? Helemaal duidelijk is dat niet. Hiermee werdenin elk geval wel een aan
 tal nieuwe functies aan Windows 11 toegevoegd waarvan verwacht werd dat ze
 onderdeel van deze upgrade zouden zijn. Een aantal waren direct actief\, e
 en aantal andere waren datniet en zijn later stuk voor stuk beschikbaar ge
 maakt via verdere updates. Zo langzamerhand zijn zeallemaal actief geworde
 n. Het loont in elk geval de moeite om de meest belangrijke eens nader teg
 aan bekijken en te zien wat Windows 11 vanaf nu allemaal te bieden heeft.
 \nDeze webinar wordt gepresenteerd door Henk Geesink. https://hcc.nl/rss-e
 vents/evenement/4648-windows11-update-23h2-online
DTSTART:20240327T123000Z
DTEND:20240327T140000Z
LOCATION:Online ()
SUMMARY:Windows11 Update 23H2 - online
URL:https://hcc.nl/rss-events/evenement/4648-windows11-update-23h2-online
END:VEVENT
END:VCALENDAR
