BEGIN:VCALENDAR
VERSION:2.0
PRODID:-//https://hcc.nl///NONSGML kigkonsult.se iCalcreator 2.10.15//
METHOD:PUBLISH
BEGIN:VEVENT
UID:20260423T051750UTC-9290whftaL@https://hcc.nl/
DTSTAMP:20260423T051750Z
DESCRIPTION:Onze inloop is bedoeld voor iedereen die praktische hulp en ond
 ersteuning nodig heeft bij het gebruik van uw tablet en smartphone.Te denk
 en valt aan:- apps installeren- accounts aanmaken op uw apparaten (breng d
 an uw inloggegevens mee)- E-mail problemen.- Instellingen aanpassenZowel v
 oor Apple\, Android als Windows!Onze deskundigen zitten klaar om u met raa
 d en daad terzijde te staan. https://hcc.nl/rss-events/evenement/756-inloo
 p-digitale-hulp
DTSTART:20240326T120000Z
DTEND:20240326T140000Z
LOCATION:Bibliotheek Leerdam (Meent 40\, 4141 AC Leerdam)
SUMMARY:Inloop digitale hulp
URL:https://hcc.nl/rss-events/evenement/756-inloop-digitale-hulp
END:VEVENT
BEGIN:VEVENT
UID:20260423T051750UTC-9292nbEmca@https://hcc.nl/
DTSTAMP:20260423T051750Z
DESCRIPTION:Onze inloop is bedoeld voor iedereen die praktische hulp en ond
 ersteuning nodig heeft bij het gebruik van uw digitale apparatuur\, zoals 
 desktop\, laptop\, tablet en smartphone.Te denken valt aan:• opschonen van
  uw computer• updates downloaden• apps installeren• accounts aanmaken op u
 w apparaten (breng dan wel uw gegevens mee)• e-mail problemen.• instelling
 en aanpassenOnze deskundigen zitten klaar om u met raad en daad terzijde t
 e staan. https://hcc.nl/rss-events/evenement/758-inloop-digitale-hulp
DTSTART:20240326T123000Z
DTEND:20240326T150000Z
LOCATION:Activiteitencentrum Orka  (Broekakkerseweg 1\, 5641 PC Eindhoven)
SUMMARY:Inloop digitale hulp
URL:https://hcc.nl/rss-events/evenement/758-inloop-digitale-hulp
END:VEVENT
BEGIN:VEVENT
UID:20260423T051750UTC-9294BaH5Un@https://hcc.nl/
DTSTAMP:20260423T051750Z
DESCRIPTION:Onze inloop is bedoeld voor iedereen die praktische hulp en ond
 ersteuning nodig heeft bij het gebruik van uw digitale apparatuur\, zoals 
 desktop\, laptop\, tablet en smartphone.Te denken valt aan:• opschonen van
  uw computer• updates downloaden• apps installeren• accounts aanmaken op u
 w apparaten(breng dan wel uw gegevens mee)• e-mail problemen.• instellinge
 n aanpassenOnze deskundigen zitten klaar om u met raad en daad terzijde te
  staan. https://hcc.nl/rss-events/evenement/1293-inloop-digitale-hulp
DTSTART:20240326T090000Z
DTEND:20240326T110000Z
LOCATION:Bibliotheek Hardinxveld-Giessendam (Pietersweer 34\, 3371 PN Hardi
 nxveld-Giessendam)
SUMMARY:Inloop digitale hulp
URL:https://hcc.nl/rss-events/evenement/1293-inloop-digitale-hulp
END:VEVENT
BEGIN:VEVENT
UID:20260423T051750UTC-9295UrCIgV@https://hcc.nl/
DTSTAMP:20260423T051750Z
DESCRIPTION:Onze inloop is bedoeld voor iedereen die praktische hulp en ond
 ersteuning nodig heeft bij het gebruik van uw tablet en smartphone.\nTe de
 nken valt aan:- apps installeren- accounts aanmaken op uw apparaten (breng
  dan uw inloggegevens mee)- e-mail problemen.- instellingen aanpassenZowel
  voor Apple\, Android als Windows!Onze deskundigen zitten klaar om u met r
 aad en daad terzijde te staan. https://hcc.nl/rss-events/evenement/1708-in
 loop-digitale-hulp
DTSTART:20240326T120000Z
DTEND:20240326T140000Z
LOCATION:Bibliotheek Leerdam (Meent 40\, 4141 AC Leerdam)
SUMMARY:Inloop digitale hulp
URL:https://hcc.nl/rss-events/evenement/1708-inloop-digitale-hulp
END:VEVENT
BEGIN:VEVENT
UID:20260423T051750UTC-9296w6jXfn@https://hcc.nl/
DTSTAMP:20260423T051750Z
DESCRIPTION:Onze inloop is bedoeld voor iedereen die praktische hulp en ond
 ersteuning nodig heeft bij het gebruik van uw tablet en smartphone.Te denk
 en valt aan:- apps installeren- accounts aanmaken op uw apparaten (breng d
 an uw inloggegevens mee)- e-mail problemen.- instellingen aanpassenZowel v
 oor Apple\, Android als Windows!Onze deskundigen zitten klaar om u met raa
 d en daad terzijde te staan. https://hcc.nl/rss-events/evenement/2033-inlo
 op-digitale-hulp
DTSTART:20240326T120000Z
DTEND:20240326T140000Z
LOCATION:Bibliotheek Leerdam (Meent 40\, 4141 AC Leerdam)
SUMMARY:Inloop digitale hulp
URL:https://hcc.nl/rss-events/evenement/2033-inloop-digitale-hulp
END:VEVENT
BEGIN:VEVENT
UID:20260423T051750UTC-9298TuOrA6@https://hcc.nl/
DTSTAMP:20260423T051750Z
DESCRIPTION:Is dit inderdaad de 23H2 upgrade voor Windows 11 ?Op 26 septemb
 er 2023 heeft Microsoft een cumulatieve update voor Windows 11 (KB5030310)
  vrijgegeven. Is dit de langverwachte 23H2 upgrade? Helemaal duidelijk is 
 dat niet. Hiermee werden in elk geval wel een aantal nieuwe functies aan W
 indows 11 toegevoegd waarvan verwacht werd dat ze onderdeel van deze upgra
 de zouden zijn. Een aantal waren direct actief\, een aantal andere waren d
 at niet en zijn later stuk voor stuk beschikbaar gemaakt via verdere updat
 es. Zo langzamerhand zijn ze allemaal actief geworden. Het loont in elk ge
 val de moeite om de meest belangrijke eens nader te gaan bekijken en te zi
 en wat Windows 11 vanaf nu allemaal te bieden heeft. https://hcc.nl/rss-ev
 ents/evenement/4237-windows11-update-2023h2
DTSTART:20240326T123000Z
DTEND:20240326T150000Z
LOCATION:De Twee Marken  (Trompplein 5\, 3951 CR Maarn)
SUMMARY:Windows11 Update 2023H2
URL:https://hcc.nl/rss-events/evenement/4237-windows11-update-2023h2
END:VEVENT
BEGIN:VEVENT
UID:20260423T051750UTC-929934VZDT@https://hcc.nl/
DTSTAMP:20260423T051750Z
DESCRIPTION:In de presentatie  'Handige Apps' bespreken we een aantal apps 
 (programma's) waarvan je in het dagelijks gebruik veel gemak van kan hebbe
 n.Het zijn apps die je niet zou mogen missen. Er zijn kleine apps  die één
  taak uit voeren en grotere apps die voor complexere taken zijn bedoeld.Er
  is voor iedereen wel iets bij. We bespreken als het in de tijd past een t
 waalftal apps en geven voorbeelden hoe dat er in de praktijk uitziet.\nPre
 sentator is Dick Kok\nZaal open 13.00 uur\nStart presentatie 13.30 uur. ht
 tps://hcc.nl/rss-events/evenement/4336-presentatie-gratis-handige-hulpjes-
 in-windows-10-en-11
DTSTART:20240326T120000Z
DTEND:20240326T150000Z
LOCATION:Huis van de Wijk Oostgaarde (De Linie 5\, 2905 AX Capelle aan den 
 IJssel)
SUMMARY:Presentatie: Gratis handige hulpjes in Windows 10 en 11
URL:https://hcc.nl/rss-events/evenement/4336-presentatie-gratis-handige-hul
 pjes-in-windows-10-en-11
END:VEVENT
BEGIN:VEVENT
UID:20260423T051750UTC-9300U6uwm5@https://hcc.nl/
DTSTAMP:20260423T051750Z
DESCRIPTION:Dinsdag 26 maart 20:00 tot 22:30\nZalencentrum De Witte KerkAgn
 es Huijnstraat 35914 PE Venlo\n\nVoor leden met interesse en passie voor O
 pen Source is op deze bijeenkomst ‘de’ gelegenheid om als Open Source werk
 groep samen te komen en elkaars kennis en handigheid op dit gebied te kunn
 en delen.\nOnder leiding van werkgroep coördinator Tjeerd Hamm ervaren we 
 samen de mooie voordelen en uitdagingen op het gebied van Open Source soft
 ware en daaraan gerelateerde hardware zoals de Raspberry PI\; Open Source 
 software is meestal gratis en dus legaal te downloaden\, de broncode is vr
 ij beschikbaar en bovendien meestal vrij te bewerken en/of kopiëren.\nVeel
  deelnemers nemen een notebook of hun Raspberry PI mee naar de bijeenkomst
  om het een en ander direct te kunnen uitproberen.Op de Open Source werkgr
 oep bijeenkomsten is een Wi-Fi internet verbinding aanwezig\, zodat Open S
 ource programma's\, updates en aanvullingen ter plekke kunnen worden gedow
 nload en (eventueel) met de hulp van een andere deelnemer kunnen worden ge
 ïnstalleerd.Verder is het een ideale gelegenheid om met andere leden bij t
 e praten\, ervaringen uit te wisselen en samen met plezier te ontdekken we
 lke mogelijkheden er allemaal zijn.\nDe Open Source werkgroep bijeenkomste
 n vinden vrijwel elke 4e en 5e (mits die bestaat) dinsdagavond van de maan
 d plaats o.l.v. Tjeerd Hamm en starten om 20:00 uur. https://hcc.nl/rss-ev
 ents/evenement/4364-hcc-nlb-open-source-werkgroep
DTSTART:20240326T190000Z
DTEND:20240326T220000Z
LOCATION:De Witte Kerk (Agnes Huijnstraat 3\, 5914 PE Venlo)
SUMMARY:HCC NLB - Open Source werkgroep
URL:https://hcc.nl/rss-events/evenement/4364-hcc-nlb-open-source-werkgroep
END:VEVENT
BEGIN:VEVENT
UID:20260423T051750UTC-9302fx7hxp@https://hcc.nl/
DTSTAMP:20260423T051750Z
DESCRIPTION:\nWe beginnen met de onderwerpen waar we afgelopen maand niet a
 an toegekomen zijn. Naast de plussen en minnen van Apple’s nieuwe dagboek 
 app besteden we met name aandacht aan de belangrijkste ervaringen met de n
 ieuwe Apple Vision Pro bril vs de veel goedkopere Meta Quest 3 bril.Als Ap
 ple inderdaad kort voor deze bijeenkomst ook een keynote event heeft gehou
 den over de nieuwe Macbook en iPads (o.a. grotere iPad Air en iPad Pro et 
 OLED scherm en M3 chip) met nieuwe Apple pencil dan besteden we daar ook z
 eker aandacht aan.En zoals altijd beantwoorden we met elkaar ook graag nog
  enkele Apple vragen.\n\nNB: svp van tevoren aanmelden op: HCC!apple - Onl
 ine Apple bijeenkomst nieuwe hardware en ervaringen Vision Pro en Dagboek 
 app Dinsdag 26 maart 20:00 tot 21:30 https://hcc.nl/rss-events/evenement/4
 454-hcc-apple-nieuwe-hardware-en-ervaringen-vision-pro-en-dagboek-app
DTSTART:20240326T190000Z
DTEND:20240326T203000Z
LOCATION:Online ()
SUMMARY:HCC!apple - nieuwe hardware en ervaringen Vision Pro en Dagboek app
URL:https://hcc.nl/rss-events/evenement/4454-hcc-apple-nieuwe-hardware-en-e
 rvaringen-vision-pro-en-dagboek-app
END:VEVENT
BEGIN:VEVENT
UID:20260423T051750UTC-9303moNh0u@https://hcc.nl/
DTSTAMP:20260423T051750Z
DESCRIPTION:We beginnen met de onderwerpen waar we afgelopen maand niet aan
  toegekomen zijn. Naast de plussen en minnen van Apple’s nieuwe dagboek ap
 p besteden we met name aandacht aan de belangrijkste ervaringen met de nie
 uwe Apple Vision Pro bril vs de veel goedkopere Meta Quest 3 bril.Als Appl
 e inderdaad kort voor deze bijeenkomst ook een keynote event heeft gehoude
 n over de nieuwe Macbook en iPads (o.a. grotere iPad Air en iPad Pro et OL
 ED scherm en M3 chip) met nieuwe Apple pencil dan besteden we daar ook zek
 er aandacht aan.En zoals altijd beantwoorden we met elkaar ook graag nog e
 nkele Apple vragen.\n \nNB: Je moet je wel aanmelden svp via deze link: \n
 HCC!apple - Online Apple bijeenkomst nieuwe hardware en ervaringen Vision 
 Pro en Dagboek app Dinsdag 26 maart 20:00 tot 21:30 https://hcc.nl/rss-eve
 nts/evenement/4553-hcc-apple-bijeenkomst-nieuwe-hardware-en-ervaringen-vis
 ion-pro-en-dagboek-app
DTSTART:20240326T190000Z
DTEND:20240326T203000Z
LOCATION:Online ()
SUMMARY:HCC!apple bijeenkomst - nieuwe hardware en ervaringen Vision Pro en
  Dagboek app
URL:https://hcc.nl/rss-events/evenement/4553-hcc-apple-bijeenkomst-nieuwe-h
 ardware-en-ervaringen-vision-pro-en-dagboek-app
END:VEVENT
END:VCALENDAR
