BEGIN:VCALENDAR
VERSION:2.0
PRODID:-//https://hcc.nl///NONSGML kigkonsult.se iCalcreator 2.10.15//
METHOD:PUBLISH
BEGIN:VEVENT
UID:20260423T182116UTC-029057waN4@https://hcc.nl/
DTSTAMP:20260423T182116Z
DESCRIPTION:Ben je ook geïnteresseerd in oude computers / software / elektr
 onica? NewBrain\, Amstrad\, Sinclair\, Tandy\, Bondwell\, Acorn\, etc\, et
 c\, Iedereen en elk merk is van harte welkom (Wat eleckronica betreft zijn
  wij dol op projecten met Arduino’s en Raspberry Pi’s of eigenlijk elk and
 er project ) Neem een oude computer\, soldeerbout\, of anders een paar goe
 de herinneringen uit de oude doos mee. We gaan er weer een gezellige dag v
 an maken! De koffie staat klaar. We zien je graag in Bilthoven.\nLocatie\n
 Gebouwtje naast de Zuiderkapel\nBoslaan 3\n3722 BA Bilthoven https://hcc.n
 l/rss-events/evenement/4371-hcc-retro-bijeenkomst
DTSTART:20240323T090000Z
DTEND:20240323T140000Z
LOCATION: ()
SUMMARY:HCC!retro bijeenkomst 
URL:https://hcc.nl/rss-events/evenement/4371-hcc-retro-bijeenkomst
END:VEVENT
BEGIN:VEVENT
UID:20260423T182116UTC-0292ztMG9E@https://hcc.nl/
DTSTAMP:20260423T182116Z
DESCRIPTION:We houden weer een online Pascal sessie.\nAanmelden is niet nod
 ig. Zie dit artikel voor meer informatie. https://hcc.nl/rss-events/evenem
 ent/4545-hcc-programmeren-pascal-sessie
DTSTART:20240323T180000Z
DTEND:20240323T210000Z
LOCATION:Online ()
SUMMARY:HCC!programmeren - Pascal sessie
URL:https://hcc.nl/rss-events/evenement/4545-hcc-programmeren-pascal-sessie
END:VEVENT
END:VCALENDAR
