BEGIN:VCALENDAR
VERSION:2.0
PRODID:-//https://hcc.nl///NONSGML kigkonsult.se iCalcreator 2.10.15//
METHOD:PUBLISH
BEGIN:VEVENT
UID:20260423T172134UTC-16154hfv7k@https://hcc.nl/
DTSTAMP:20260423T172134Z
DESCRIPTION:Onze inloop is bedoeld voor iedereen die praktische hulp en ond
 ersteuning nodig heeft bij het gebruik van uw digitale apparatuur\, zoals 
 desktop\, laptop\, tablet en smartphone.\nTe denken valt aan:\n- updates d
 ownloaden.- apps installeren.- accounts aanmaken op uw apparaten (breng da
 n wel uw gegevens mee).- e-mail problemen.- instellingen aanpassen.\nOnze 
  Android deskundigen zitten klaar om u met raad en daad terzijde te staan.
 \nVanaf deze maand zijn er ook deskundigen aanwezig van het Informatiepunt
  Digitale Overheid. Waar kun je terecht als je vragen hebt over hoe je web
 sites van de overheid kunt gebruiken? Wat kun je doen als je moeite hebt o
 m bijvoorbeeld een DigiD aan te vragen of een boete online te betalen?\nDe
 ze inloop is uitsluitend toegankelijk voor leden van FNV en HCC. https://h
 cc.nl/rss-events/evenement/4312-inloop-digitale-hulp
DTSTART:20240322T120000Z
DTEND:20240322T150000Z
LOCATION:FNV Regionaal Vakbondshuis (Pegasusweg 200\, 3067 KX Rotterdam)
SUMMARY:Inloop Digitale Hulp
URL:https://hcc.nl/rss-events/evenement/4312-inloop-digitale-hulp
END:VEVENT
BEGIN:VEVENT
UID:20260423T172134UTC-1635rcAMpm@https://hcc.nl/
DTSTAMP:20260423T172134Z
DESCRIPTION:We houden weer een online games programmeren sessie.\nAanmelden
  is niet nodig. Zie dit artikel voor meer informatie. https://hcc.nl/rss-e
 vents/evenement/4547-hcc-programmeren-games-programmeren-sessie
DTSTART:20240322T190000Z
DTEND:20240322T210000Z
LOCATION:Online ()
SUMMARY:hcc!programmeren - games programmeren sessie
URL:https://hcc.nl/rss-events/evenement/4547-hcc-programmeren-games-program
 meren-sessie
END:VEVENT
END:VCALENDAR
