BEGIN:VCALENDAR
VERSION:2.0
PRODID:-//https://hcc.nl///NONSGML kigkonsult.se iCalcreator 2.10.15//
METHOD:PUBLISH
BEGIN:VEVENT
UID:20260422T100255UTC-2291AEauIA@https://hcc.nl/
DTSTAMP:20260422T100255Z
DESCRIPTION:Onze inloop is bedoeld voor iedereen die praktische hulp en ond
 ersteuning nodig heeft bij het gebruik van uw tablet en smartphone.\nTe de
 nken valt aan:- apps installeren- accounts aanmaken op uw apparaten (breng
  dan uw inloggegevens mee)- E-mail problemen.- Instellingen aanpassenZowel
  voor Apple\, Android als Windows!\nOnze deskundigen zitten klaar om u met
  raad en daad terzijde te staan. https://hcc.nl/rss-events/evenement/2645-
 inloop-digitale-hulp
DTSTART:20240321T083000Z
DTEND:20240321T100000Z
LOCATION:Wijkcentrum Rozenobel (Dukatenplein 2\, 4205 GE Gorinchem)
SUMMARY:Inloop Digitale Hulp
URL:https://hcc.nl/rss-events/evenement/2645-inloop-digitale-hulp
END:VEVENT
BEGIN:VEVENT
UID:20260422T100255UTC-2293zUk7WS@https://hcc.nl/
DTSTAMP:20260422T100255Z
DESCRIPTION:Leden beoordelen de bijdragen van andere leden en helpen elkaar
  met tips https://hcc.nl/rss-events/evenement/3815-fotokring-helmond
DTSTART:20240321T183000Z
DTEND:20240321T210000Z
LOCATION:Wijkhuis de Westwijzer  (Cortenbachstraat 70\, 5707 TJ Helmond)
SUMMARY:Fotokring Helmond
URL:https://hcc.nl/rss-events/evenement/3815-fotokring-helmond
END:VEVENT
BEGIN:VEVENT
UID:20260422T100255UTC-2293COg7V6@https://hcc.nl/
DTSTAMP:20260422T100255Z
DESCRIPTION:Leden beoordelen de bijdragen van andere leden en helpen elkaar
  met tips https://hcc.nl/rss-events/evenement/3889-fotokring-helmond
DTSTART:20240321T183000Z
DTEND:20240321T210000Z
LOCATION:Wijkhuis de Westwijzer  (Cortenbachstraat 70\, 5707 TJ Helmond)
SUMMARY:Fotokring Helmond
URL:https://hcc.nl/rss-events/evenement/3889-fotokring-helmond
END:VEVENT
BEGIN:VEVENT
UID:20260422T100255UTC-22943sTv6F@https://hcc.nl/
DTSTAMP:20260422T100255Z
DESCRIPTION:Lezing over nader te bepalen onderwerp https://hcc.nl/rss-event
 s/evenement/4109-hcc-ijssellanden-lezing
DTSTART:20240321T183000Z
DTEND:20240321T210000Z
LOCATION: ()
SUMMARY:HCC!ijssellanden lezing
URL:https://hcc.nl/rss-events/evenement/4109-hcc-ijssellanden-lezing
END:VEVENT
BEGIN:VEVENT
UID:20260422T100255UTC-2294nladI0@https://hcc.nl/
DTSTAMP:20260422T100255Z
DESCRIPTION:Op 26 september 2023 heeft Microsoft een cumulatieve update voo
 r Windows 11 (KB5030310) vrijgegeven. Is dit de langverwachte 23H2 upgrade
 ? Helemaal duidelijk is dat niet. Hiermee werden in elk geval wel een aant
 al nieuwe functies aan Windows 11 toegevoegd waarvan verwacht werd dat ze 
 onderdeel van deze upgrade zouden zijn. Een aantal waren direct actief\, e
 en aantal andere waren dat niet en zijn later stuk voor stuk beschikbaar g
 emaakt via verdere updates. Zo langzamerhand zijn ze allemaal actief gewor
 den. Het loont in elk geval de moeite om de meest belangrijke eens nader t
 e gaan bekijken en te zien wat Windows 11 vanaf nu allemaal te bieden heef
 t. https://hcc.nl/rss-events/evenement/4273-windows11-update-2023h2
DTSTART:20240321T190000Z
DTEND:20240321T210000Z
LOCATION:NewTechPark (Vlijtseweg 148\, 7317 AK Apeldoorn)
SUMMARY:Windows11 Update 2023H2
URL:https://hcc.nl/rss-events/evenement/4273-windows11-update-2023h2
END:VEVENT
BEGIN:VEVENT
UID:20260422T100255UTC-2294R2KBa3@https://hcc.nl/
DTSTAMP:20260422T100255Z
DESCRIPTION:Leden beoordelen de bijdragen van andere leden en helpen elkaar
  met tips https://hcc.nl/rss-events/evenement/4387-fotokring-helmond
DTSTART:20240321T183000Z
DTEND:20240321T210000Z
LOCATION:Wijkhuis de Westwijzer  (Cortenbachstraat 70\, 5707 TJ Helmond)
SUMMARY:Fotokring Helmond
URL:https://hcc.nl/rss-events/evenement/4387-fotokring-helmond
END:VEVENT
BEGIN:VEVENT
UID:20260422T100255UTC-2295WjPnVZ@https://hcc.nl/
DTSTAMP:20260422T100255Z
DESCRIPTION:Hoe doe je onderzoek naar je familiehistorie?\n\nProgramma  Gen
 sDataPro\nHoe begin je je onderzoek\nWaar haal je je informatie vandaan\nD
 ubbele namen achternamen\nGrafsteen\nOnbekende Vader\nContact met anderen
 \nKranten\nCBG verzameling\n\nPresentator is Cor Blommers.\nZaal open: 19.
 15 uur\nStart presentatie: 19.30 uur https://hcc.nl/rss-events/evenement/4
 422-presentatie-genealogie
DTSTART:20240321T183000Z
DTEND:20240321T210000Z
LOCATION:Buurthuis Het Voorhof  (Herman Gorterhof 165\, 2624 XL Delft)
SUMMARY:Presentatie Genealogie
URL:https://hcc.nl/rss-events/evenement/4422-presentatie-genealogie
END:VEVENT
BEGIN:VEVENT
UID:20260422T100255UTC-2295znELdg@https://hcc.nl/
DTSTAMP:20260422T100255Z
DESCRIPTION:Onderstaand een hyperlink naar weer wat huiswerk om van gemaatv
 oerde 2D tekeningen een 3D print te maken met een ontwerpprogramma naar ke
 uze.\n\n\n\n\nDit keer is het de bedoeling om naar de bijeenkomst op 21 ma
 art mee te nemen je laptop\, gebruikte programmatuur\, stl files en vooral
  het printresultaat om je huiswerk met elkaar te kunnen bekijken.\nJos hee
 ft een naai-meetlint-houder getekend. Deze bestaat uit twee aparte tekenin
 gen\; de houder en de draaiknop. De draaiknop is de moeilijkste en zal op 
 de bijeenkomst van 21 maart zo nodig nader worden toegelicht. Foutjes in d
 e tekeningen dienen zelf fantasierijk te worden opgelost.\n\n \n\n\n\nOok 
 zal weer rondgevraagd worden wie van de leden vragen of opmerkingen heeft 
 betreffende wat dan ook over onze 3D hobby die we dan met elkaar kunnen be
 spreken of oplossen.\nHet huiswerk is opgeslagen in onze Google Drive: KLI
 K HIER https://hcc.nl/rss-events/evenement/4426-huiswerk-voor-3d-ers
DTSTART:20240321T183000Z
DTEND:20240321T210000Z
LOCATION:Buurthuis Het Voorhof  (Herman Gorterhof 165\, 2624 XL Delft)
SUMMARY:Huiswerk voor 3D-ers
URL:https://hcc.nl/rss-events/evenement/4426-huiswerk-voor-3d-ers
END:VEVENT
BEGIN:VEVENT
UID:20260422T100255UTC-2296naftHd@https://hcc.nl/
DTSTAMP:20260422T100255Z
DESCRIPTION:Vanavond:\nOp 26 september 2023 heeft Microsoft een cumulatieve
  update voor Windows 11vrijgegeven. Is dit de langverwachte 23H2 upgrade? 
 Helemaal duidelijk is datniet. Hiermee werden in elk geval wel een aantal 
 nieuwe functies aan Windows 11toegevoegd waarvan verwacht werd dat ze onde
 rdeel van deze upgrade zouden zijn. Eenaantal waren direct actief\, een aa
 ntal andere waren dat niet en zijn later stuk voor stukbeschikbaar gemaakt
  via verdere updates. Zo langzamerhand zijn ze allemaal actiefgeworden. He
 t loont in elk geval de moeite om de meest belangrijke eens nader te gaanb
 ekijken en te zien wat Windows 11 vanaf nu te bieden heeft. \n https://hcc
 .nl/rss-events/evenement/4456-windows11-update-2023h2
DTSTART:20240321T190000Z
DTEND:20240321T210000Z
LOCATION:NewTechPark (Vlijtseweg 148\, 7317 AK Apeldoorn)
SUMMARY:Windows11 Update 2023H2
URL:https://hcc.nl/rss-events/evenement/4456-windows11-update-2023h2
END:VEVENT
BEGIN:VEVENT
UID:20260422T100255UTC-2296hVvoxU@https://hcc.nl/
DTSTAMP:20260422T100255Z
DESCRIPTION:Alle werkgroepen zijn aanwezig. De meesten verzorgen maandelijk
 s de presentatie. De Borduurgroep of misschien liever de werkgroep Creatie
 ve Werkvormen bezet elke week zelfs een aparte zaal. https://hcc.nl/rss-ev
 ents/evenement/4486-hcc-apeldoorn-inloop-voor-alle-werkgroepen
DTSTART:20240321T180000Z
DTEND:20240321T213000Z
LOCATION:NewTechPark (Vlijtseweg 148\, 7317 AK Apeldoorn)
SUMMARY:HCC!apeldoorn - Inloop voor alle werkgroepen
URL:https://hcc.nl/rss-events/evenement/4486-hcc-apeldoorn-inloop-voor-alle
 -werkgroepen
END:VEVENT
BEGIN:VEVENT
UID:20260422T100255UTC-2297aJ3nDv@https://hcc.nl/
DTSTAMP:20260422T100255Z
DESCRIPTION:Welkom op de lezing van HCC!ijssellanden op de locatie Zwolle o
 p donderdagavond 21 maart van 19.30 - 22.00 u\nOnderwerp: Laat je niet tra
 cken!Het zal gaan over cookies en trackers\, met name ook in mail. Hoe je 
 je spam-mail kunt beperken en hoe je spam in de toekomst kunt voorkomen. H
 oe je gepersonaliseerde advertenties kunt tegen gaan.Dus als je wilt weten
  hoe je af komt van al die spam\, is dit een interessante avond. https://h
 cc.nl/rss-events/evenement/4541-hcc-ijssellanden-lezing-laat-je-niet-track
 en
DTSTART:20240321T183000Z
DTEND:20240321T210000Z
LOCATION: ()
SUMMARY:HCC!ijssellanden - Lezing: 'Laat je niet tracken'
URL:https://hcc.nl/rss-events/evenement/4541-hcc-ijssellanden-lezing-laat-j
 e-niet-tracken
END:VEVENT
BEGIN:VEVENT
UID:20260422T100255UTC-22970lUZOI@https://hcc.nl/
DTSTAMP:20260422T100255Z
DESCRIPTION:We houden weer een online Python sessie met de cursus voor begi
 nners.\nAanmelden is niet nodig. Zie dit artikel voor meer informatie. htt
 ps://hcc.nl/rss-events/evenement/4567-hcc-programmeren-python-sessie
DTSTART:20240321T180000Z
DTEND:20240321T220000Z
LOCATION:Online ()
SUMMARY:HCC!programmeren - Python sessie
URL:https://hcc.nl/rss-events/evenement/4567-hcc-programmeren-python-sessie
END:VEVENT
END:VCALENDAR
