BEGIN:VCALENDAR
VERSION:2.0
PRODID:-//https://hcc.nl///NONSGML kigkonsult.se iCalcreator 2.10.15//
METHOD:PUBLISH
BEGIN:VEVENT
UID:20260421T093116UTC-9842ztVL9n@https://hcc.nl/
DTSTAMP:20260421T093116Z
DESCRIPTION:Hulp bij computerproblemen https://hcc.nl/rss-events/evenement/
 3751-helpdesk
DTSTART:20240320T123000Z
DTEND:20240320T153000Z
LOCATION:De Geseldonk (Cederhoutstraat 44\, 5706 XC Helmond)
SUMMARY:Helpdesk
URL:https://hcc.nl/rss-events/evenement/3751-helpdesk
END:VEVENT
BEGIN:VEVENT
UID:20260421T093116UTC-9843vVlP0l@https://hcc.nl/
DTSTAMP:20260421T093116Z
DESCRIPTION:\nKan je niet aanwezig zijn op onze vliegmiddagen of is het te 
 ver weg? Neem dan deel aan ons online koffie-uurtje\, eens per maand op de
  woensdagavond. Gewoon vanuit je eigen huis online via de computer.\nWe pr
 aten je bij over het laatste nieuws\, tonen elkaars dronevideo/fotowerk of
  beantwoorden vragen.\nJe hoeft je niet aan te melden. Je kan direct deeln
 emen via deze link.deze link. https://hcc.nl/rss-events/evenement/3845-onl
 ine-koffie-uurtje
DTSTART:20240320T183000Z
DTEND:20240320T200000Z
LOCATION:Online ()
SUMMARY:Online koffie-uurtje
URL:https://hcc.nl/rss-events/evenement/3845-online-koffie-uurtje
END:VEVENT
BEGIN:VEVENT
UID:20260421T093116UTC-9844h9GUab@https://hcc.nl/
DTSTAMP:20260421T093116Z
DESCRIPTION:Onze inloop is bedoeld voor iedereen die praktische hulp en ond
 ersteuning nodig heeft bij het gebruik van uw digitale apparatuur\, zoals 
 desktop\, laptop\, tablet en smartphone.Te denken valt aan:opschonen van u
 w computerupdates downloadenapps installerenaccounts aanmaken op uw appara
 ten(breng dan wel uw gegevens mee)e-mail problemen.instellingen aanpassenO
 nze deskundigen zitten klaar om u met raad en daad terzijde te staan. http
 s://hcc.nl/rss-events/evenement/4210-inloop-digitale-hulp
DTSTART:20240320T130000Z
DTEND:20240320T153000Z
LOCATION:De Geseldonk (Cederhoutstraat 44\, 5706 XC Helmond)
SUMMARY:Inloop Digitale Hulp
URL:https://hcc.nl/rss-events/evenement/4210-inloop-digitale-hulp
END:VEVENT
BEGIN:VEVENT
UID:20260421T093116UTC-9846aEGuJj@https://hcc.nl/
DTSTAMP:20260421T093116Z
DESCRIPTION:Wo. 20 mrt.  Den Bosch. Vanaf 14:00u behandelt Kees Orij weer d
 iverse iPhone en iPad tips.  https://hcc.nl/rss-events/evenement/4450-hcc-
 apple-presentatie-door-kees-orij
DTSTART:20240320T130000Z
DTEND:20240320T150000Z
LOCATION:Sociaal Cultureel Centrum De Helftheuvel (Helftheuvelpassage 115\,
  5224 AC 's-Hertogenbosch)
SUMMARY:HCC!apple - Presentatie door Kees Orij
URL:https://hcc.nl/rss-events/evenement/4450-hcc-apple-presentatie-door-kee
 s-orij
END:VEVENT
BEGIN:VEVENT
UID:20260421T093116UTC-9847dW4Edg@https://hcc.nl/
DTSTAMP:20260421T093116Z
DESCRIPTION:We houden weer een online Liberty Basic sessie.\nAanmelden is n
 iet nodig. Zie dit artikel voor meer informatie. https://hcc.nl/rss-events
 /evenement/4510-hcc-programmeren-liberty-basic-sessie
DTSTART:20240320T190000Z
DTEND:20240320T220000Z
LOCATION:Online ()
SUMMARY:Hcc!programmeren - Liberty Basic sessie
URL:https://hcc.nl/rss-events/evenement/4510-hcc-programmeren-liberty-basic
 -sessie
END:VEVENT
BEGIN:VEVENT
UID:20260421T093116UTC-9847K0aIwo@https://hcc.nl/
DTSTAMP:20260421T093116Z
DESCRIPTION:Drag&drop optie in HA dashboards\nVanaf 19:00 voor de Beginners
 .\nVanaf 20:30 voor de gevorderde\nU kunt inloggen via https://wij.hcc.nl/
 domotica https://hcc.nl/rss-events/evenement/4563-webinar-homeassistant
DTSTART:20240320T180000Z
DTEND:20240320T210000Z
LOCATION:Online ()
SUMMARY:Webinar Homeassistant
URL:https://hcc.nl/rss-events/evenement/4563-webinar-homeassistant
END:VEVENT
END:VCALENDAR
