BEGIN:VCALENDAR
VERSION:2.0
PRODID:-//https://hcc.nl///NONSGML kigkonsult.se iCalcreator 2.10.15//
METHOD:PUBLISH
BEGIN:VEVENT
UID:20260421T114453UTC-7386vWe9DI@https://hcc.nl/
DTSTAMP:20260421T114453Z
DESCRIPTION:Onze inloop is bedoeld voor iedereen die praktische hulp en ond
 ersteuning nodig heeft bij het gebruik van uw digitale apparatuur\, zoals 
 desktop\, laptop\, tablet en smartphone.Te denken valt aan:opschonen van u
 w computerupdates downloadenapps installerenaccounts aanmaken op uw appara
 ten(breng dan wel uw gegevens mee)e-mail problemen.instellingen aanpassenO
 nze deskundigen zitten klaar om u met raad en daad terzijde te staan. http
 s://hcc.nl/rss-events/evenement/3421-digitale-inloop-leersum
DTSTART:20240318T130000Z
DTEND:20240318T143000Z
LOCATION:Bibliotheek Leersum  (Hoflaan 31\, 3956 ED Leersum)
SUMMARY:Digitale inloop Leersum
URL:https://hcc.nl/rss-events/evenement/3421-digitale-inloop-leersum
END:VEVENT
BEGIN:VEVENT
UID:20260421T114453UTC-7387fVvnVO@https://hcc.nl/
DTSTAMP:20260421T114453Z
DESCRIPTION:Derde maandag van de maand Gebruikersgroep Joomla! Heerenveen\n
 Met het gratis CMS Joomla is het maken van een website binnen bereik gekom
 en voor ieder die zich er in wil verdiepen. Joomla heeft veel mogelijkhede
 n zowel voor de beginnende gebruiker\, de gevorderde hobbyist als voor de 
 web professional\nMet Joomla is het maken van een website binnen bereik ge
 komen voor ieder die zich er in wil verdiepen. Joomla is een contentmanage
 ment systeem om websites te bouwen en te beheren en is gratis te downloade
 n van internet. Joomla heeft veel mogelijkheden voor zowel de beginnende g
 ebruiker\, de gevorderde hobbyist als voor de webprofessional. Het is een 
 inspirerende bezigheid om te ontdekken wat er allemaal mogelijk is met Joo
 mla. Joomla wordt onderhouden en ontwikkeld door 's werelds grootste open 
 source community.\nInteresse?Heb je belangstelling voor onze activiteiten 
 kom dan eens langs op de derde maandag (Werkgroep) van de maanden septembe
 r tot en met mei van 19.30 – 22.00 uur in MFA Aengwirden (zaal 2 “By de Fj
 ilden” op de 1e verdieping)\, It Hiem 3\, 8458 CA Tjalleberd. https://hcc.
 nl/rss-events/evenement/3721-gebruikersgroep-joomla-heerenveen
DTSTART:20240318T183000Z
DTEND:20240318T210000Z
LOCATION:MFA. Aengwirden (it Hiem 1-3\, 8458 CA Tjalleberd)
SUMMARY:Gebruikersgroep Joomla! Heerenveen
URL:https://hcc.nl/rss-events/evenement/3721-gebruikersgroep-joomla-heerenv
 een
END:VEVENT
BEGIN:VEVENT
UID:20260421T114453UTC-7388sRrcEl@https://hcc.nl/
DTSTAMP:20260421T114453Z
DESCRIPTION:Bij 'Hoe en wat veilig Google' gaat het over de manier hoe Goog
 le omgaat met je privégegevens. Dit is een onderwerp waar wel veel over ge
 zegd wordt maar vaak meer op gevoel dan geleid door de Google gebruiken en
  mogelijkheden. Daarom wat meer over de manier hoe Google omgaat met jou g
 egevens maar ook hoe je zelf de Google mogelijkheden kan gebruiken.  Natuu
 rlijk zullen ook de moderne mogelijkheden als Kunstmatige Intelligentie ( 
 AI ) besproken worden.\nDe presentatie wordt gegeven door Hans Niessen htt
 ps://hcc.nl/rss-events/evenement/4091-hoe-en-wat-veilig-google-plus-inloop
DTSTART:20240318T163000Z
DTEND:20240318T210000Z
LOCATION:Kerkelijk Centrum De Brug  (Schuilenburgerweg 2\, 3816 TB Amersfoo
 rt)
SUMMARY:Hoe en wat veilig Google plus inloop
URL:https://hcc.nl/rss-events/evenement/4091-hoe-en-wat-veilig-google-plus-
 inloop
END:VEVENT
BEGIN:VEVENT
UID:20260421T114453UTC-7389zM2tU9@https://hcc.nl/
DTSTAMP:20260421T114453Z
DESCRIPTION:In deze sessie zullen we kort de informatie van de eerste sessi
 e herhalen en een paar nieuwe sensoren proberen. Vervolgens zetten we een 
 tweede stap door de sensoren aan Home Assistant te koppelen.Home Assistant
  is gratis open source software dat vele dingen in je huis kan automatiser
 en\, het laat ook mooi historische data van je sensoren zien in een dashbo
 ard. Home Assistant draait binnenshuis op een PC of een Raspberry Pi.\nDe 
 nieuwe sensoren om te proberen:- Infrarood bewegingssensor (SR505)- Microw
 ave bewegingssensor (RCWL-0516)- Luchtdruk/Temperatuur/Luchtvochtigheid se
 nsor (BME280)- Licht (LUX) sensor � (BH1750)\nWas je er vorig sessie niet 
 bij\, geen probleem\, we doen dan een kort herhaling. Meld je wel even aan
  bij Ger Stok\, zodat er oefenmateriaal voor je aanwezig is.\nBenodigdhede
 n: Laptop met Windows en een micro USB-kabel.Heb je zelf al sensoren\, nee
 m ze gerust mee en we proberen ze aan te sluiten.\nPresentator is Erik Rou
 kens\nZaal open: 19.30 uur\nStart workshop:20.00 uur https://hcc.nl/rss-ev
 ents/evenement/4277-workshop-zelf-bouwen-van-sensoren
DTSTART:20240318T190000Z
DTEND:20240318T210000Z
LOCATION:Huis van de Wijk Oostgaarde (De Linie 5\, 2905 AX Capelle aan den 
 IJssel)
SUMMARY:Workshop zelf bouwen van sensoren
URL:https://hcc.nl/rss-events/evenement/4277-workshop-zelf-bouwen-van-senso
 ren
END:VEVENT
BEGIN:VEVENT
UID:20260421T114453UTC-7390hKGSp9@https://hcc.nl/
DTSTAMP:20260421T114453Z
DESCRIPTION:In deze sessie zullen we kort de informatie van de eerste sessi
 e herhalen en een paar nieuwe sensoren proberen. Vervolgens zetten we een 
 tweede stap door de sensoren aan Home Assistant te koppelen.Home Assistant
  is gratis open source software dat vele dingen in je huis kan automatiser
 en\, het laat ook mooi historische data van je sensoren zien in een dashbo
 ard. Home Assistant draait binnenshuis op een PC of een Raspberry Pi.\nDe 
 nieuwe sensoren om te proberen:- Infrarood bewegingssensor (SR505)- Microw
 ave bewegingssensor (RCWL-0516)- Luchtdruk/Temperatuur/Luchtvochtigheid se
 nsor (BME280)- Licht (LUX) sensor � (BH1750)\nWas je er vorig sessie niet 
 bij\, geen probleem\, we doen dan een kort herhaling. Meld je wel even aan
  bij Ger Stok\, zodat er oefenmateriaal voor je aanwezig is.\nBenodigdhede
 n: Laptop met Windows en een micro USB-kabel.Heb je zelf al sensoren\, nee
 m ze gerust mee en we proberen ze aan te sluiten.\nPresentator is Erik Rou
 kens\nZaal open: 19.30 uur\nStart workshop:20.00 uur https://hcc.nl/rss-ev
 ents/evenement/4283-workshop-zelf-bouwen-van-sensoren
DTSTART:20240318T190000Z
DTEND:20240318T210000Z
LOCATION:Zalencentrum De Veste (Ridder van Catsweg 300\, 2804 RS Gouda)
SUMMARY:Workshop zelf bouwen van sensoren
URL:https://hcc.nl/rss-events/evenement/4283-workshop-zelf-bouwen-van-senso
 ren
END:VEVENT
BEGIN:VEVENT
UID:20260421T114453UTC-7391McrMFi@https://hcc.nl/
DTSTAMP:20260421T114453Z
DESCRIPTION:Bijpraten over theorie en praktijk online vliegen https://hcc.n
 l/rss-events/evenement/4389-fs-zwetsavond
DTSTART:20240318T183000Z
DTEND:20240318T210000Z
LOCATION: ()
SUMMARY:FS zwetsavond
URL:https://hcc.nl/rss-events/evenement/4389-fs-zwetsavond
END:VEVENT
BEGIN:VEVENT
UID:20260421T114453UTC-7391JPklUt@https://hcc.nl/
DTSTAMP:20260421T114453Z
DESCRIPTION:Is dit inderdaad de 23H2 upgrade voor Windows 11 ?\nOp 26 septe
 mber 2023 heeft Microsoft een cumulatieve update voor Windows 11 (KB503031
 0) vrijgegeven. Is dit de langverwachte 23H2 upgrade? Helemaal duidelijk i
 s dat niet. Hiermee werden in elk geval wel een aantal nieuwe functies aan
  Windows 11 toegevoegd waarvan verwacht werd dat ze onderdeel van deze upg
 rade zouden zijn. Een aantal waren direct actief\, een aantal andere waren
  dat niet en zijn later stuk voor stuk beschikbaar gemaakt via verdere upd
 ates. Zo langzamerhand zijn ze allemaal actief geworden. Het loont in elk 
 geval de moeite om de meest belangrijke eens nader te gaan bekijken en te 
 zien wat Windows 11 vanaf nu allemaal te bieden heeft.\nDeze webinar wordt
  gepresenteerd door Joop Vosse en Tom Fransen.\nNB: svp aanmelden van tevo
 ren via: HCC!seniorenacademie - Windows11 Update 2023H2 Maandag 18 maart 1
 0:00 tot 12:00 https://hcc.nl/rss-events/evenement/4430-windows11-update-2
 023h2
DTSTART:20240318T090000Z
DTEND:20240318T110000Z
LOCATION:Online ()
SUMMARY:Windows11 Update 2023H2
URL:https://hcc.nl/rss-events/evenement/4430-windows11-update-2023h2
END:VEVENT
BEGIN:VEVENT
UID:20260421T114453UTC-7392VVmo7v@https://hcc.nl/
DTSTAMP:20260421T114453Z
DESCRIPTION:Will Hanselaar zal deze keer aanwezig zijn om de genealogen te 
 helpen met hun vragen.\nHij werkt op zijn Mac met Ancestor Tree Manager en
  Mac Family Tree\nVoor meer info klik hier. https://hcc.nl/rss-events/even
 ement/4512-hcc-genealogie-bijeenkomst
DTSTART:20240318T183000Z
DTEND:20240318T210000Z
LOCATION:Kerkelijk Centrum De Brug  (Schuilenburgerweg 2\, 3816 TB Amersfoo
 rt)
SUMMARY:HCC!genealogie - Bijeenkomst
URL:https://hcc.nl/rss-events/evenement/4512-hcc-genealogie-bijeenkomst
END:VEVENT
BEGIN:VEVENT
UID:20260421T114453UTC-7392aUoKKA@https://hcc.nl/
DTSTAMP:20260421T114453Z
DESCRIPTION:We houden weer een online Visual Basic sessie.\nAanmelden is ni
 et nodig. Zie dit artikel voor meer informatie. https://hcc.nl/rss-events/
 evenement/4520-hcc-programmeren-visual-basic-sessie
DTSTART:20240318T190000Z
DTEND:20240318T220000Z
LOCATION:Online ()
SUMMARY:HCC!programmeren - Visual Basic sessie
URL:https://hcc.nl/rss-events/evenement/4520-hcc-programmeren-visual-basic-
 sessie
END:VEVENT
END:VCALENDAR
