BEGIN:VCALENDAR
VERSION:2.0
PRODID:-//https://hcc.nl///NONSGML kigkonsult.se iCalcreator 2.10.15//
METHOD:PUBLISH
BEGIN:VEVENT
UID:20260421T074351UTC-9267RNa26R@https://hcc.nl/
DTSTAMP:20260421T074351Z
DESCRIPTION:\nBij het Aviodrome in Lelystad is er op 16 en 17 maart extra a
 andacht voor flightsimulatoren. Er is dan veel meer te zien dan normaal in
  het aviodrome. Er zijn veel commerciele bedrijven maar ook zijn er veschi
 llende clubs en verenigingen aanwezig. De HCC is er ook de landelijke en N
 oordHollendNoord zijn in het schiphol gebouw uit 1928 te vinden. Kom gerus
 t even langs we hebben verschillende simulatoren en eventueel mogelijk om 
 zelf even te vliegen in een simulator. Tot zaterdag od zondag. https://hcc
 .nl/rss-events/evenement/4549-flightsimulator-weekend-in-het-aviodrome
DTSTART:20240316T090000Z
DTEND:20240317T160000Z
LOCATION:Aviodrome (Pelikaanweg 50\, 8218 PG Lelystad)
SUMMARY:Flightsimulator weekend in het Aviodrome
URL:https://hcc.nl/rss-events/evenement/4549-flightsimulator-weekend-in-het
 -aviodrome
END:VEVENT
END:VCALENDAR
