BEGIN:VCALENDAR
VERSION:2.0
PRODID:-//https://hcc.nl///NONSGML kigkonsult.se iCalcreator 2.10.15//
METHOD:PUBLISH
BEGIN:VEVENT
UID:20260422T115255UTC-1478VtD2NG@https://hcc.nl/
DTSTAMP:20260422T115255Z
DESCRIPTION:Het programma is nog niet bekend\, maar er is\, als altijd\, ru
 imte voor vragen\, gesprekken en andere Open Source-zaken. https://hcc.nl/
 rss-events/evenement/3461-bijeenkomst-hcc-opensource
DTSTART:20240316T120000Z
DTEND:20240316T150000Z
LOCATION:Cultureel en Vergadercentrum H.F. Witte (Henri Dunantplein 4\, 373
 1 CL De Bilt)
SUMMARY:Bijeenkomst HCC!OpenSource 
URL:https://hcc.nl/rss-events/evenement/3461-bijeenkomst-hcc-opensource
END:VEVENT
BEGIN:VEVENT
UID:20260422T115255UTC-1480H6fPrE@https://hcc.nl/
DTSTAMP:20260422T115255Z
DESCRIPTION:Maak vrijblijvend eens kennis met de activiteiten van onze werk
 groepen en Bekijk wat HCC!zob u te bieden heeft https://hcc.nl/rss-events/
 evenement/3741-maandelijkse-inloop-fs-hw-linux-sr-zob
DTSTART:20240316T183000Z
DTEND:20240316T213000Z
LOCATION: ()
SUMMARY:Maandelijkse inloop FS/ HW/ Linux/ SR/zob
URL:https://hcc.nl/rss-events/evenement/3741-maandelijkse-inloop-fs-hw-linu
 x-sr-zob
END:VEVENT
BEGIN:VEVENT
UID:20260422T115255UTC-14805mis4k@https://hcc.nl/
DTSTAMP:20260422T115255Z
DESCRIPTION:\nWe gaan weer naar het vorig jaar vernieuwde paviljoen van Riv
 erside. Op verzoek van diverse leden starten we al in de ochtend en gaan d
 oor tot in de middag. Daar ontvangen we jullie graag voor het volgende pro
 gramma:\n10.30 uur welkom met koffie of thee\nAansluitend presentatie (ond
 erwerp volgt).\nca. 12.00 uur Tijd voor lunch (voor eigen rekening)\nDeze 
 middag kan er\, bij goed weer\, met eigen drones gevlogen worden op de ver
 schillende plekken rondom het gebouw: het grasveld\, het strandje\, bij de
  rivier\, enz. Leden die hun vliegervaring willen testen\, kunnen vliegoef
 eningen doen o.l.v. Rob Bruning. Leden die nog geen drone hebben\, kunnen 
 een eerste drone-ervaring opdoen met een van onze verenigingsdrones\, onde
 r onze begeleiding.\nKortom\, een gevarieerde dag met voldoende ruimte voo
 r het uitwisselen van ervaringen en bijkletsen.\nAanmelden is verplicht vi
 a de link HCC!drones - Dronebijeenkomst in Appeltern Zaterdag 16 maart 10:
 30 tot 17:00 (eerst inloggen) https://hcc.nl/rss-events/evenement/3942-dro
 nebijeenkomst-in-appeltern
DTSTART:20240316T093000Z
DTEND:20240316T160000Z
LOCATION:Riverside (Hamsestraat 2\, 6629 KT Appeltern)
SUMMARY:Dronebijeenkomst in Appeltern
URL:https://hcc.nl/rss-events/evenement/3942-dronebijeenkomst-in-appeltern
END:VEVENT
BEGIN:VEVENT
UID:20260422T115255UTC-14816btIuX@https://hcc.nl/
DTSTAMP:20260422T115255Z
DESCRIPTION:Themapresentatie Windows Update. De zaal gaat open om 13:00\, d
 e presentatie begint om 14:00. https://hcc.nl/rss-events/evenement/4289-th
 emapresentatie-windows-update
DTSTART:20240316T120000Z
DTEND:20240316T160000Z
LOCATION:Olympiagebouw (Olympiaweg 17\, 1816 MJ Alkmaar)
SUMMARY:Themapresentatie Windows Update
URL:https://hcc.nl/rss-events/evenement/4289-themapresentatie-windows-updat
 e
END:VEVENT
BEGIN:VEVENT
UID:20260422T115255UTC-1481cuXtnX@https://hcc.nl/
DTSTAMP:20260422T115255Z
DESCRIPTION:We houden weer een online Pascal sessie.\nAanmelden is niet nod
 ig. Zie dit artikel voor meer informatie. https://hcc.nl/rss-events/evenem
 ent/4522-hcc-programmeren-pascal-sessie
DTSTART:20240316T180000Z
DTEND:20240316T200000Z
LOCATION:Online ()
SUMMARY:HCC!programmeren -  Pascal sessie
URL:https://hcc.nl/rss-events/evenement/4522-hcc-programmeren-pascal-sessie
END:VEVENT
BEGIN:VEVENT
UID:20260422T115255UTC-1481ixHcNz@https://hcc.nl/
DTSTAMP:20260422T115255Z
DESCRIPTION:\nBij het Aviodrome in Lelystad is er op 16 en 17 maart extra a
 andacht voor flightsimulatoren. Er is dan veel meer te zien dan normaal in
  het aviodrome. Er zijn veel commerciele bedrijven maar ook zijn er veschi
 llende clubs en verenigingen aanwezig. De HCC is er ook de landelijke en N
 oordHollendNoord zijn in het schiphol gebouw uit 1928 te vinden. Kom gerus
 t even langs we hebben verschillende simulatoren en eventueel mogelijk om 
 zelf even te vliegen in een simulator. Tot zaterdag od zondag. https://hcc
 .nl/rss-events/evenement/4549-flightsimulator-weekend-in-het-aviodrome
DTSTART:20240316T090000Z
DTEND:20240317T160000Z
LOCATION:Aviodrome (Pelikaanweg 50\, 8218 PG Lelystad)
SUMMARY:Flightsimulator weekend in het Aviodrome
URL:https://hcc.nl/rss-events/evenement/4549-flightsimulator-weekend-in-het
 -aviodrome
END:VEVENT
END:VCALENDAR
