BEGIN:VCALENDAR
VERSION:2.0
PRODID:-//https://hcc.nl///NONSGML kigkonsult.se iCalcreator 2.10.15//
METHOD:PUBLISH
BEGIN:VEVENT
UID:20260419T234859UTC-952970Vls0@https://hcc.nl/
DTSTAMP:20260419T234859Z
DESCRIPTION:Is dit inderdaad de 23H2 upgrade voor Windows 11 ?Op 26 septemb
 er 2023 heeft Microsoft een cumulatieve update voor Windows 11 (KB5030310)
  vrijgegeven. Is dit de langverwachte 23H2 upgrade? Helemaal duidelijk is 
 dat niet. Hiermee werden in elk geval wel een aantal nieuwe functies aan W
 indows 11 toegevoegd waarvan verwacht werd dat ze onderdeel van deze upgra
 de zouden zijn. Een aantal waren direct actief\, een aantal andere waren d
 at niet en zijn later stuk voor stuk beschikbaar gemaakt via verdere updat
 es. Zo langzamerhand zijn ze allemaal actief geworden. Het loont in elk ge
 val de moeite om de meest belangrijke eens nader te gaan bekijken en te zi
 en wat Windows 11 vanaf nu allemaal te bieden heeft. https://hcc.nl/rss-ev
 ents/evenement/4235-windows11-update-2023h2
DTSTART:20240315T123000Z
DTEND:20240315T150000Z
LOCATION:Gemeenschapshuis 't Trefpunt (Pancratiusstraat 23\, 6151 CD Munste
 rgeleen)
SUMMARY:Windows11 Update 2023H2
URL:https://hcc.nl/rss-events/evenement/4235-windows11-update-2023h2
END:VEVENT
BEGIN:VEVENT
UID:20260419T234859UTC-9531uTO4Eu@https://hcc.nl/
DTSTAMP:20260419T234859Z
DESCRIPTION:GC De Kam\nOp de derde vrijdag van de maand bijeenkomst in de B
 russelse rand (Wezembeek-Oppem).\n\nHet algemene programma:\n\ninternet\, 
 lokaal netwerk\, connectiviteit\;\ninstallatie of configuratie van hard- e
 n software\nWindows PC/laptop\, ...\;\nLinux (Ubuntu\, Mint\, Fedora\, ...
 ) & Open Source\;\nTablet\, smartphone -- Android\, iOS\, ...\n\nElke geïn
 teresseerde computer- / tablet- / smartphone-gebruiker is welkom: om de sf
 eer te proeven\, om kennis te maken met onze leden en hun ICT-bezigheden\,
  om ervaringen uit te wisselen\, om nieuwe dingen te ontdekken en om oplos
 singen voor hard- en softwarevraagstukken te vinden. https://hcc.nl/rss-ev
 ents/evenement/4352-bijeenkomst-in-de-brusselse-rand-wezembeek-oppem
DTSTART:20240315T190000Z
DTEND:20240315T220000Z
LOCATION:Gemeenschapscentrum De Kam (Beekstraat 172\, 1970 WE Wezembeek-Opp
 em)
SUMMARY:Bijeenkomst in de Brusselse rand (Wezembeek-Oppem)
URL:https://hcc.nl/rss-events/evenement/4352-bijeenkomst-in-de-brusselse-ra
 nd-wezembeek-oppem
END:VEVENT
BEGIN:VEVENT
UID:20260419T234859UTC-95320ibhdR@https://hcc.nl/
DTSTAMP:20260419T234859Z
DESCRIPTION:We houden weer een online games programmeren sessie.\nAanmelden
  is niet nodig. Zie dit artikel voor meer informatie. https://hcc.nl/rss-e
 vents/evenement/4534-hcc-programmeren-games-programmeren-sessie
DTSTART:20240315T190000Z
DTEND:20240315T210000Z
LOCATION:Online ()
SUMMARY:HCC!programmeren - games programmeren sessie
URL:https://hcc.nl/rss-events/evenement/4534-hcc-programmeren-games-program
 meren-sessie
END:VEVENT
END:VCALENDAR
