BEGIN:VCALENDAR
VERSION:2.0
PRODID:-//https://hcc.nl///NONSGML kigkonsult.se iCalcreator 2.10.15//
METHOD:PUBLISH
BEGIN:VEVENT
UID:20260422T061852UTC-7541r6ru9T@https://hcc.nl/
DTSTAMP:20260422T061852Z
DESCRIPTION:Onze inloop is bedoeld voor iedereen die praktische hulp en ond
 ersteuning nodig heeft bij het gebruik van uw tablet en smartphone.Te denk
 en valt aan:- apps installeren- accounts aanmaken op uw apparaten (breng d
 an uw inloggegevens mee)- E-mail problemen.- Instellingen aanpassen\nZowel
  voor Apple\, Android als Windows!Onze deskundigen zitten klaar om u met r
 aad en daad terzijde te staan. https://hcc.nl/rss-events/evenement/2929-in
 loop-digitale-hulp
DTSTART:20240314T083000Z
DTEND:20240314T103000Z
LOCATION:Wijkcentrum Rozenobel (Dukatenplein 2\, 4205 GE Gorinchem)
SUMMARY:Inloop Digitale Hulp
URL:https://hcc.nl/rss-events/evenement/2929-inloop-digitale-hulp
END:VEVENT
BEGIN:VEVENT
UID:20260422T061852UTC-7542bZLvoU@https://hcc.nl/
DTSTAMP:20260422T061852Z
DESCRIPTION:Met elkaar bespreken we de theorie en praktijk van het filmen h
 ttps://hcc.nl/rss-events/evenement/4063-videobewerken
DTSTART:20240314T183000Z
DTEND:20240314T213000Z
LOCATION:Wijkhuis de Westwijzer  (Cortenbachstraat 70\, 5707 TJ Helmond)
SUMMARY:Videobewerken
URL:https://hcc.nl/rss-events/evenement/4063-videobewerken
END:VEVENT
BEGIN:VEVENT
UID:20260422T061852UTC-7543rm8lbr@https://hcc.nl/
DTSTAMP:20260422T061852Z
DESCRIPTION:Vanavond weer een bijeenkomst. https://hcc.nl/rss-events/evenem
 ent/4393-fotovideo
DTSTART:20240314T190000Z
DTEND:20240314T210000Z
LOCATION:NewTechPark (Vlijtseweg 148\, 7317 AK Apeldoorn)
SUMMARY:FotoVideo
URL:https://hcc.nl/rss-events/evenement/4393-fotovideo
END:VEVENT
BEGIN:VEVENT
UID:20260422T061852UTC-7543OFXxsf@https://hcc.nl/
DTSTAMP:20260422T061852Z
DESCRIPTION:Alle werkgroepen zijn aanwezig. De meesten verzorgen maandelijk
 s de presentatie. De Borduurgroep of misschien liever de werkgroep Creatie
 ve Werkvormen bezet elke week zelfs een aparte zaal. https://hcc.nl/rss-ev
 ents/evenement/4484-hcc-apeldoorn-inloop-voor-alle-werkgroepen
DTSTART:20240314T180000Z
DTEND:20240314T213000Z
LOCATION:NewTechPark (Vlijtseweg 148\, 7317 AK Apeldoorn)
SUMMARY:HCC!apeldoorn - Inloop voor alle werkgroepen
URL:https://hcc.nl/rss-events/evenement/4484-hcc-apeldoorn-inloop-voor-alle
 -werkgroepen
END:VEVENT
BEGIN:VEVENT
UID:20260422T061852UTC-7544uvDVt5@https://hcc.nl/
DTSTAMP:20260422T061852Z
DESCRIPTION:Wie kent ze niet onze Olympisch schaatskampioenen Thomas Krol e
 n vele jaren geleden Leo Visser.\nWat hebben deze mannen naast het schaats
 en gemeen?\nZe zijn of worden vlieger bij KLM\, maar een grote hobby is oo
 k het Virtuele vliegen\, dus achter een tafel met een computer vliegen met
  een Flightsimulator.\nZo is uw presentator ook een fervent Flightsimulato
 r vlieger. Over de hele wereld zijn er honderdduizenden mensen die regelma
 tig aan hun bureautje virtueel aan het vliegen zijn met diverse platforms.
 Je kunt lekker in je eentje vliegen\, maar het is ook mogelijk om met ande
 ren gezamenlijk een vlucht te maken.\nAl vanaf 1982 zijn er Flightsimulato
 r programma’s. In de presentatie die we donderdag 14 maart online geven\, 
 gaan we uitleggen welke ontwikkeling de Flightsimulator programma’s hebben
  doorgemaakt.\nNaast een presentatie laten we zien hoe momenteel een moder
 ne Flightsimulator eruit ziet.Als technisch alles goed werkt\, laten we ee
 n vluchtje zien van Groningen naar Leeuwarden.\nDe presentatie begint om 1
 9.30 uur.Vanaf 19.15 uur kunt u met onderstaan link Online komen.Link: wij
 .hcc.nl/HccnoordFS https://hcc.nl/rss-events/evenement/4506-virtueel-vlieg
 en-achter-je-bureau-met-je-flightsimulator
DTSTART:20240314T183000Z
DTEND:20240314T200000Z
LOCATION:Online ()
SUMMARY:Virtueel vliegen achter je bureau met je Flightsimulator
URL:https://hcc.nl/rss-events/evenement/4506-virtueel-vliegen-achter-je-bur
 eau-met-je-flightsimulator
END:VEVENT
BEGIN:VEVENT
UID:20260422T061852UTC-7544gWNhkr@https://hcc.nl/
DTSTAMP:20260422T061852Z
DESCRIPTION:Deze maand zijn er inloopavonden gepland.\nZo kunnen wij op dez
 e avonden:\n\nvragen over Linux behandelen\,\nuitleg geven over Linux\,\ne
 ventuele problemen oplossen.\ninstalleren van Linux op uw laptop\,\n\nU be
 nt welkom op de 2e en 4e donderdag avond van de maand\, https://hcc.nl/rss
 -events/evenement/4524-inloop-en-bijeenkomsten-linuxgroep-zevenaar
DTSTART:20240314T183000Z
DTEND:20240314T210000Z
LOCATION: ()
SUMMARY:Inloop en bijeenkomsten Linuxgroep Zevenaar
URL:https://hcc.nl/rss-events/evenement/4524-inloop-en-bijeenkomsten-linuxg
 roep-zevenaar
END:VEVENT
BEGIN:VEVENT
UID:20260422T061852UTC-7545huvZPe@https://hcc.nl/
DTSTAMP:20260422T061852Z
DESCRIPTION:We houden weer een online Python sessie met de cursus voor begi
 nners.\nAanmelden is niet nodig. Zie dit artikel voor meer informatie. htt
 ps://hcc.nl/rss-events/evenement/4536-hcc-programmeren-python-sessie
DTSTART:20240314T180000Z
DTEND:20240314T220000Z
LOCATION:Online ()
SUMMARY:HCC!programmeren - Python sessie
URL:https://hcc.nl/rss-events/evenement/4536-hcc-programmeren-python-sessie
END:VEVENT
END:VCALENDAR
