BEGIN:VCALENDAR
VERSION:2.0
PRODID:-//https://hcc.nl///NONSGML kigkonsult.se iCalcreator 2.10.15//
METHOD:PUBLISH
BEGIN:VEVENT
UID:20260420T194543UTC-8450OUOnra@https://hcc.nl/
DTSTAMP:20260420T194543Z
DESCRIPTION:Is dit inderdaad de 23H2 upgrade voor Windows 11 ?Op 26 septemb
 er 2023 heeft Microsoft een cumulatieve update voor Windows 11 (KB5030310)
 vrijgegeven. Is dit de langverwachte 23H2 upgrade? Helemaal duidelijk is d
 at niet. Hiermee werdenin elk geval wel een aantal nieuwe functies aan Win
 dows 11 toegevoegd waarvan verwacht werd dat zeonderdeel van deze upgrade 
 zouden zijn. Een aantal waren direct actief\, een aantal andere waren datn
 iet en zijn later stuk voor stuk beschikbaar gemaakt via verdere updates. 
 Zo langzamerhand zijn zeallemaal actief geworden. Het loont in elk geval d
 e moeite om de meest belangrijke eens nader tegaan bekijken en te zien wat
  Windows 11 vanaf nu allemaal te bieden heeft.\nDeze webinar wordt geprese
 nteerd door Henk Geesink.\n \nNB: Svp aanmelden van tevoren via: HCC!senio
 renacademie - Windows11 Update 23H2 Woensdag 13 maart 13:30 tot 15:00 http
 s://hcc.nl/rss-events/evenement/4217-windows-11-update-2023h2
DTSTART:20240313T123000Z
DTEND:20240313T140000Z
LOCATION:Online ()
SUMMARY:Windows 11 Update 2023H2
URL:https://hcc.nl/rss-events/evenement/4217-windows-11-update-2023h2
END:VEVENT
BEGIN:VEVENT
UID:20260420T194543UTC-8451zGM42e@https://hcc.nl/
DTSTAMP:20260420T194543Z
DESCRIPTION:Op 26 september 2023 heeft Microsoft een cumulatieve update voo
 r Windows 11 (KB5030310) vrijgegeven. Is dit de langverwachte 23H2 upgrade
 ? Helemaal duidelijk is dat niet. Hiermee werden in elk geval wel een aant
 al nieuwe functies aan Windows 11 toegevoegd waarvan verwacht werd dat ze 
 onderdeel van deze upgrade zouden zijn. Een aantal waren direct actief\, e
 en aantal andere waren dat niet en zijn later stuk voor stuk beschikbaar g
 emaakt via verdere updates. Zo langzamerhand zijn ze allemaal actief gewor
 den. Het loont in elk geval de moeite om de meest belangrijke eens nader t
 e gaan bekijken en te zien wat Windows 11 vanaf nu allemaal te bieden heef
 t. https://hcc.nl/rss-events/evenement/4269-windows11-update-2023h2
DTSTART:20240313T120000Z
DTEND:20240313T150000Z
LOCATION:Buurthuis Het Voorhof  (Herman Gorterhof 165\, 2624 XL Delft)
SUMMARY:Windows11 Update 2023H2
URL:https://hcc.nl/rss-events/evenement/4269-windows11-update-2023h2
END:VEVENT
BEGIN:VEVENT
UID:20260420T194543UTC-8452RPMcKP@https://hcc.nl/
DTSTAMP:20260420T194543Z
DESCRIPTION:We houden weer een online Liberty Basic sessie\, tegelijkertijd
  met een bijeenkomst in Amstelveen.\nAanmelden is niet nodig. Zie dit arti
 kel voor meer informatie. https://hcc.nl/rss-events/evenement/4418-hcc-pro
 grammeren-liberty-basic-sessie
DTSTART:20240313T190000Z
DTEND:20240313T220000Z
LOCATION:Online ()
SUMMARY:HCC!programmeren Liberty Basic sessie
URL:https://hcc.nl/rss-events/evenement/4418-hcc-programmeren-liberty-basic
 -sessie
END:VEVENT
BEGIN:VEVENT
UID:20260420T194543UTC-8453UUSifU@https://hcc.nl/
DTSTAMP:20260420T194543Z
DESCRIPTION:Els Schnijder\, adviseur van HCC!genealogie\, is aanwezig en he
 lpt u bij uw stamboomonderzoek.\nVoor meer info klik hier.\n https://hcc.n
 l/rss-events/evenement/4514-hcc-genealogie-bijeenkomst
DTSTART:20240313T183000Z
DTEND:20240313T210000Z
LOCATION:De Meent  (Orion 3\, 1188 AM Amstelveen)
SUMMARY:HCC!genealogie - Bijeenkomst
URL:https://hcc.nl/rss-events/evenement/4514-hcc-genealogie-bijeenkomst
END:VEVENT
END:VCALENDAR
