BEGIN:VCALENDAR
VERSION:2.0
PRODID:-//https://hcc.nl///NONSGML kigkonsult.se iCalcreator 2.10.15//
METHOD:PUBLISH
BEGIN:VEVENT
UID:20260419T173543UTC-4347IZtXNj@https://hcc.nl/
DTSTAMP:20260419T173543Z
DESCRIPTION:Onze inloop is bedoeld voor iedereen die praktische hulp en ond
 ersteuning nodig heeft bij het gebruik van uw tablet en smartphone.Te denk
 en valt aan:- apps installeren- accounts aanmaken op uw apparaten (breng d
 an uw inloggegevens mee)- E-mail problemen.- Instellingen aanpassenZowel v
 oor Apple\, Android als Windows!Onze deskundigen zitten klaar om u met raa
 d en daad terzijde te staan. https://hcc.nl/rss-events/evenement/750-inloo
 p-digitale-hulp
DTSTART:20240312T120000Z
DTEND:20240312T140000Z
LOCATION:Bibliotheek Leerdam (Meent 40\, 4141 AC Leerdam)
SUMMARY:Inloop digitale hulp
URL:https://hcc.nl/rss-events/evenement/750-inloop-digitale-hulp
END:VEVENT
BEGIN:VEVENT
UID:20260419T173543UTC-4350GO4Wh7@https://hcc.nl/
DTSTAMP:20260419T173543Z
DESCRIPTION:Onze inloop is bedoeld voor iedereen die praktische hulp en ond
 ersteuning nodig heeft bij het gebruik van uw digitale apparatuur\, zoals 
 desktop\, laptop\, tablet en smartphone.Te denken valt aan:• opschonen van
  uw computer• updates downloaden• apps installeren• accounts aanmaken op u
 w apparaten (breng dan wel uw gegevens mee)• e-mail problemen.• instelling
 en aanpassenOnze deskundigen zitten klaar om u met raad en daad terzijde t
 e staan. https://hcc.nl/rss-events/evenement/752-inloop-digitale-hulp
DTSTART:20240312T123000Z
DTEND:20240312T150000Z
LOCATION:Activiteitencentrum Orka  (Broekakkerseweg 1\, 5641 PC Eindhoven)
SUMMARY:Inloop digitale hulp
URL:https://hcc.nl/rss-events/evenement/752-inloop-digitale-hulp
END:VEVENT
BEGIN:VEVENT
UID:20260419T173543UTC-4351CWuXGK@https://hcc.nl/
DTSTAMP:20260419T173543Z
DESCRIPTION:Onze inloop is bedoeld voor iedereen die praktische hulp en ond
 ersteuning nodig heeft bij het gebruik van uw digitale apparatuur\, zoals 
 desktop\, laptop\, tablet en smartphone.Te denken valt aan:• opschonen van
  uw computer• updates downloaden• apps installeren• accounts aanmaken op u
 w apparaten(breng dan wel uw gegevens mee)• e-mail problemen.• instellinge
 n aanpassenOnze deskundigen zitten klaar om u met raad en daad terzijde te
  staan. https://hcc.nl/rss-events/evenement/1289-inloop-digitale-hulp
DTSTART:20240312T090000Z
DTEND:20240312T110000Z
LOCATION:Bibliotheek Hardinxveld-Giessendam (Pietersweer 34\, 3371 PN Hardi
 nxveld-Giessendam)
SUMMARY:Inloop digitale hulp
URL:https://hcc.nl/rss-events/evenement/1289-inloop-digitale-hulp
END:VEVENT
BEGIN:VEVENT
UID:20260419T173543UTC-43520t1Vm4@https://hcc.nl/
DTSTAMP:20260419T173543Z
DESCRIPTION:Onze inloop is bedoeld voor iedereen die praktische hulp en ond
 ersteuning nodig heeft bij het gebruik van uw tablet en smartphone.\nTe de
 nken valt aan:- apps installeren- accounts aanmaken op uw apparaten (breng
  dan uw inloggegevens mee)- e-mail problemen.- instellingen aanpassenZowel
  voor Apple\, Android als Windows!Onze deskundigen zitten klaar om u met r
 aad en daad terzijde te staan. https://hcc.nl/rss-events/evenement/1706-in
 loop-digitale-hulp
DTSTART:20240312T120000Z
DTEND:20240312T140000Z
LOCATION:Bibliotheek Leerdam (Meent 40\, 4141 AC Leerdam)
SUMMARY:Inloop digitale hulp
URL:https://hcc.nl/rss-events/evenement/1706-inloop-digitale-hulp
END:VEVENT
BEGIN:VEVENT
UID:20260419T173543UTC-4353ewM31s@https://hcc.nl/
DTSTAMP:20260419T173543Z
DESCRIPTION:Onze inloop is bedoeld voor iedereen die praktische hulp en ond
 ersteuning nodig heeft bij het gebruik van uw tablet en smartphone.Te denk
 en valt aan:- apps installeren- accounts aanmaken op uw apparaten (breng d
 an uw inloggegevens mee)- e-mail problemen.- instellingen aanpassenZowel v
 oor Apple\, Android als Windows!Onze deskundigen zitten klaar om u met raa
 d en daad terzijde te staan. https://hcc.nl/rss-events/evenement/2031-inlo
 op-digitale-hulp
DTSTART:20240312T120000Z
DTEND:20240312T140000Z
LOCATION:Bibliotheek Leerdam (Meent 40\, 4141 AC Leerdam)
SUMMARY:Inloop digitale hulp
URL:https://hcc.nl/rss-events/evenement/2031-inloop-digitale-hulp
END:VEVENT
BEGIN:VEVENT
UID:20260419T173543UTC-4354VfdPG7@https://hcc.nl/
DTSTAMP:20260419T173543Z
DESCRIPTION:Is dit inderdaad de 23H2 upgrade voor Windows 11 ?Op 26 septemb
 er 2023 heeft Microsoft een cumulatieve update voor Windows 11 (KB5030310)
  vrijgegeven. Is dit de langverwachte 23H2 upgrade? Helemaal duidelijk is 
 dat niet. Hiermee werden in elk geval wel een aantal nieuwe functies aan W
 indows 11 toegevoegd waarvan verwacht werd dat ze onderdeel van deze upgra
 de zouden zijn. Een aantal waren direct actief\, een aantal andere waren d
 at niet en zijn later stuk voor stuk beschikbaar gemaakt via verdere updat
 es. Zo langzamerhand zijn ze allemaal actief geworden. Het loont in elk ge
 val de moeite om de meest belangrijke eens nader te gaan bekijken en te zi
 en wat Windows 11 vanaf nu allemaal te bieden heeft. https://hcc.nl/rss-ev
 ents/evenement/4227-windows11-update-2023h2
DTSTART:20240312T123000Z
DTEND:20240312T150000Z
LOCATION:Wijkgebouw Bijdorp (Bijdorplaan 471\, 2713 SZ Zoetermeer)
SUMMARY:Windows11 Update 2023H2
URL:https://hcc.nl/rss-events/evenement/4227-windows11-update-2023h2
END:VEVENT
BEGIN:VEVENT
UID:20260419T173543UTC-4355TDG1UM@https://hcc.nl/
DTSTAMP:20260419T173543Z
DESCRIPTION:Op 26 september 2023 heeft Microsoft een cumulatieve update voo
 r Windows 11 (KB5030310) vrijgegeven. Is dit de langverwachte 23H2 upgrade
 ? Helemaal duidelijk is dat niet. Hiermee werden in elk geval wel een aant
 al nieuwe functies aan Windows 11 toegevoegd waarvan verwacht werd dat ze 
 onderdeel van deze upgrade zouden zijn. Een aantal waren direct actief\, e
 en aantal andere waren dat niet en zijn later stuk voor stuk beschikbaar g
 emaakt via verdere updates. Zo langzamerhand zijn ze allemaal actief gewor
 den. Het loont in elk geval de moeite om de meest belangrijke eens nader t
 e gaan bekijken en te zien wat Windows 11 vanaf nu allemaal te bieden heef
 t. https://hcc.nl/rss-events/evenement/4257-windows11-update-2023h2
DTSTART:20240312T090000Z
DTEND:20240312T110000Z
LOCATION:Activiteitencentrum Orka  (Broekakkerseweg 1\, 5641 PC Eindhoven)
SUMMARY:Windows11 Update 2023H2
URL:https://hcc.nl/rss-events/evenement/4257-windows11-update-2023h2
END:VEVENT
BEGIN:VEVENT
UID:20260419T173543UTC-43567L6ENv@https://hcc.nl/
DTSTAMP:20260419T173543Z
DESCRIPTION:Op 26 september 2023 heeft Microsoft een cumulatieve update voo
 r Windows 11 (KB5030310) vrijgegeven. Is dit de langverwachte 23H2 upgrade
 ? Helemaal duidelijk is dat niet. Hiermee werden in elk geval wel een aant
 al nieuwe functies aan Windows 11 toegevoegd waarvan verwacht werd dat ze 
 onderdeel van deze upgrade zouden zijn. Een aantal waren direct actief\, e
 en aantal andere waren dat niet en zijn later stuk voor stuk beschikbaar g
 emaakt via verdere updates. Zo langzamerhand zijn ze allemaal actief gewor
 den. Het loont in elk geval de moeite om de meest belangrijke eens nader t
 e gaan bekijken en te zien wat Windows 11 vanaf nu allemaal te bieden heef
 t. https://hcc.nl/rss-events/evenement/4271-windows11-update-2023h2
DTSTART:20240312T123000Z
DTEND:20240312T143000Z
LOCATION:Dorpshuis Badhoevedorp (Snelliuslaan 35\, 1171 CZ Badhoevedorp)
SUMMARY:Windows11 Update 2023H2
URL:https://hcc.nl/rss-events/evenement/4271-windows11-update-2023h2
END:VEVENT
BEGIN:VEVENT
UID:20260419T173543UTC-4357fHvRv0@https://hcc.nl/
DTSTAMP:20260419T173543Z
DESCRIPTION:Hoe doe je onderzoek naar je familiehistorie?\n\nProgramma  Gen
 sDataPro\nHoe begin je je onderzoek\nWaar haal je je informatie vandaan\nD
 ubbele namen achternamen\nGrafsteen\nOnbekende Vader\nContact met anderen
 \nKranten\nCBG verzameling\n\nPresentator is Cor Blommers.\nZaal open: 13.
 00 uur\nStart presentatie: 13.30 uur https://hcc.nl/rss-events/evenement/4
 334-presentatie-genealogie
DTSTART:20240312T120000Z
DTEND:20240312T150000Z
LOCATION:Speeltuin Pascal (Pascalweg 12\, 3076 JP Rotterdam)
SUMMARY:Presentatie Genealogie.
URL:https://hcc.nl/rss-events/evenement/4334-presentatie-genealogie
END:VEVENT
BEGIN:VEVENT
UID:20260419T173543UTC-4358sx6VJk@https://hcc.nl/
DTSTAMP:20260419T173543Z
DESCRIPTION:Georganiseerd door:\n\nHCC!west-brabant\n\nOntmoetingscentrum D
 e VlierenMgr. Nolensplein 14812 JC Breda\nInloop middag https://hcc.nl/rss
 -events/evenement/4344-inloop-middag-windows-apple-en-linux
DTSTART:20240312T120000Z
DTEND:20240312T160000Z
LOCATION:Ontmoetingscentrum De Vlieren (Mgr. Nolensplein 1\, 4812 JC Breda)
SUMMARY:Inloop middag Windows\, Apple en Linux
URL:https://hcc.nl/rss-events/evenement/4344-inloop-middag-windows-apple-en
 -linux
END:VEVENT
BEGIN:VEVENT
UID:20260419T173543UTC-4359xUVzV2@https://hcc.nl/
DTSTAMP:20260419T173543Z
DESCRIPTION:We houden weer een online algemene sessie.\nAanmelden is niet n
 odig. Zie dit artikel voor meer informatie. https://hcc.nl/rss-events/even
 ement/4424-hcc-programmeren-algemene-sessie
DTSTART:20240312T183000Z
DTEND:20240312T203000Z
LOCATION:Online ()
SUMMARY:HCC!programmeren - algemene sessie 
URL:https://hcc.nl/rss-events/evenement/4424-hcc-programmeren-algemene-sess
 ie
END:VEVENT
BEGIN:VEVENT
UID:20260419T173543UTC-4360gvgfkz@https://hcc.nl/
DTSTAMP:20260419T173543Z
DESCRIPTION:Nieuwsbrief over programma volgt.\nHeel belangrijk i.v.m. veran
 deren van locatie.\nVoor route kijk bij Nieuws- Bijeenkomsten en tabblad P
 rogramma Maart 2024\nDus kom! https://hcc.nl/rss-events/evenement/4538-hcc
 -zuid-drenthe-fysieke-bijeenkomst
DTSTART:20240312T133000Z
DTEND:20240312T150000Z
LOCATION: ()
SUMMARY:HCC!zuid-drenthe - Fysieke bijeenkomst
URL:https://hcc.nl/rss-events/evenement/4538-hcc-zuid-drenthe-fysieke-bijee
 nkomst
END:VEVENT
END:VCALENDAR
