BEGIN:VCALENDAR
VERSION:2.0
PRODID:-//https://hcc.nl///NONSGML kigkonsult.se iCalcreator 2.10.15//
METHOD:PUBLISH
BEGIN:VEVENT
UID:20260419T141234UTC-2166Cpouxk@https://hcc.nl/
DTSTAMP:20260419T141234Z
DESCRIPTION:We zijn digitaal steeds actiever\, zowel met pc\, tablet als sm
 artphone. Hierdoor neemt ook het risico toe dat we slachtoffer worden van 
 internetcriminaliteit. Hoefden we in het verleden “slechts” beducht te zij
 n voor het krijgen van een virus op de pc\, tegenwoordig hebben we ook te 
 maken met criminelen die op zeer geavanceerde manieren proberen ons via he
 t internet op te lichten. Deze vorm van criminaliteit noemen we cybercrime
 .\nNaast dat onze digitale privacy in het geding is\, zijn er nog heel wat
  andere gevaren waaraan we blootstaan wanneer we online gaan.\nHet volledi
 g afschermen van je privacy is heden ten dage een utopie geworden\, maar e
 r zijn maatregelen te nemen om de datahonger van ondernemingen te beteugel
 en. Dus reden genoeg om eens wat dieper in te gaan op een aantal veel voor
 komende veiligheidsrisico’s.\nEn vooral: Hoe kunt u zich daartegen beveili
 gen?\nHet is onmogelijk om helemaal compleet te zijn. Maar wanneer we de t
 ips en trucs ter harte nemen en we wat meer bewust omgaan met onze persoon
 lijke gegevens\, dan zijn we op internet een stuk anoniemer en zijn onze g
 egevens veel minder gedetailleerd en/of actueel.\nRob van Geuns zal ons he
 lpen hiermee en zal deze presentatie geven.\nZaal open : 19:30 uur\nStart 
 presentatie : 20:00 uur https://hcc.nl/rss-events/evenement/4340-presentat
 ie-cybersecurity-cybercrime
DTSTART:20240308T190000Z
DTEND:20240308T210000Z
LOCATION:Gemeenschapshuis 't Trefpunt (Pancratiusstraat 23\, 6151 CD Munste
 rgeleen)
SUMMARY:Presentatie Cybersecurity / Cybercrime
URL:https://hcc.nl/rss-events/evenement/4340-presentatie-cybersecurity-cybe
 rcrime
END:VEVENT
BEGIN:VEVENT
UID:20260419T141234UTC-2168bABkEv@https://hcc.nl/
DTSTAMP:20260419T141234Z
DESCRIPTION:We houden weer een online games programmeren sessie.\nAanmelden
  is niet nodig. Zie dit artikel voor meer informatie. https://hcc.nl/rss-e
 vents/evenement/4404-hcc-programmeren-games-programmeren-sessie
DTSTART:20240308T190000Z
DTEND:20240308T220000Z
LOCATION:Online ()
SUMMARY:HCC!programmeren - games programmeren sessie
URL:https://hcc.nl/rss-events/evenement/4404-hcc-programmeren-games-program
 meren-sessie
END:VEVENT
BEGIN:VEVENT
UID:20260419T141234UTC-2169CBAJN8@https://hcc.nl/
DTSTAMP:20260419T141234Z
DESCRIPTION:Linux\, een besturingssysteem als alternatief voor Windows 11.D
 e presentatie wordt weer verzorgd door studenten van het TECHNOVA COLLEGE 
 https://hcc.nl/rss-events/evenement/4452-linux
DTSTART:20240308T123000Z
DTEND:20240308T143000Z
LOCATION:Het Kernhuis (Parkrand 60\, 6714 GN Ede)
SUMMARY:Linux
URL:https://hcc.nl/rss-events/evenement/4452-linux
END:VEVENT
END:VCALENDAR
