BEGIN:VCALENDAR
VERSION:2.0
PRODID:-//https://hcc.nl///NONSGML kigkonsult.se iCalcreator 2.10.15//
METHOD:PUBLISH
BEGIN:VEVENT
UID:20260419T181010UTC-8890CLGelv@https://hcc.nl/
DTSTAMP:20260419T181010Z
DESCRIPTION:Onze inloop is bedoeld voor iedereen die praktische hulp en ond
 ersteuning nodig heeft bij het gebruik van uw tablet en smartphone.\nTe de
 nken valt aan:- apps installeren- accounts aanmaken op uw apparaten (breng
  dan uw inloggegevens mee)- E-mail problemen.- Instellingen aanpassenZowel
  voor Apple\, Android als Windows!\nOnze deskundigen zitten klaar om u met
  raad en daad terzijde te staan. https://hcc.nl/rss-events/evenement/2643-
 inloop-digitale-hulp
DTSTART:20240307T083000Z
DTEND:20240307T100000Z
LOCATION:Wijkcentrum Rozenobel (Dukatenplein 2\, 4205 GE Gorinchem)
SUMMARY:Inloop Digitale Hulp
URL:https://hcc.nl/rss-events/evenement/2643-inloop-digitale-hulp
END:VEVENT
BEGIN:VEVENT
UID:20260419T181010UTC-8892Ua7tMH@https://hcc.nl/
DTSTAMP:20260419T181010Z
DESCRIPTION:Speciale inloopbijeenkomst. We gaan elkaar enkele computerprogr
 amma's laten zien\, die misschien ook handig zijn voor anderen. Neem uw fa
 voriete programma mee om te laten zien. Zie ook het verhaal in de inleidin
 g.\n  https://hcc.nl/rss-events/evenement/4107-hcc-ijssellanden-inloop-met
 -werkgroepen
DTSTART:20240307T183000Z
DTEND:20240307T210000Z
LOCATION: ()
SUMMARY:HCC!ijssellanden inloop met werkgroepen
URL:https://hcc.nl/rss-events/evenement/4107-hcc-ijssellanden-inloop-met-we
 rkgroepen
END:VEVENT
BEGIN:VEVENT
UID:20260419T181010UTC-8892rCHZob@https://hcc.nl/
DTSTAMP:20260419T181010Z
DESCRIPTION:Is dit inderdaad de 23H2 upgrade voor Windows 11 ?Op 26 septemb
 er 2023 heeft Microsoft een cumulatieve update voor Windows 11 (KB5030310)
  vrijgegeven. Is dit de langverwachte 23H2 upgrade? Helemaal duidelijk is 
 dat niet. Hiermee werden in elk geval wel een aantal nieuwe functies aan W
 indows 11 toegevoegd waarvan verwacht werd dat ze onderdeel van deze upgra
 de zouden zijn. Een aantal waren direct actief\, een aantal andere waren d
 at niet en zijn later stuk voor stuk beschikbaar gemaakt via verdere updat
 es. Zo langzamerhand zijn ze allemaal actief geworden. Het loont in elk ge
 val de moeite om de meest belangrijke eens nader te gaan bekijken en te zi
 en wat Windows 11 vanaf nu allemaal te bieden heeft. https://hcc.nl/rss-ev
 ents/evenement/4231-windows11-update-2023h2
DTSTART:20240307T090000Z
DTEND:20240307T110000Z
LOCATION:Kruiskerk (Mesdagplein 4\, 3443 CD Woerden)
SUMMARY:Windows11 Update 2023H2
URL:https://hcc.nl/rss-events/evenement/4231-windows11-update-2023h2
END:VEVENT
BEGIN:VEVENT
UID:20260419T181010UTC-8893mPOpMR@https://hcc.nl/
DTSTAMP:20260419T181010Z
DESCRIPTION:We houden weer een online Python sessie met de cursus voor begi
 nners.\nAanmelden is niet nodig. Zie dit artikel voor meer informatie. htt
 ps://hcc.nl/rss-events/evenement/4406-hcc-programmeren-python-sessie
DTSTART:20240307T180000Z
DTEND:20240307T220000Z
LOCATION:Online ()
SUMMARY:HCC!programmeren - Python sessie
URL:https://hcc.nl/rss-events/evenement/4406-hcc-programmeren-python-sessie
END:VEVENT
BEGIN:VEVENT
UID:20260419T181010UTC-8894egnUKv@https://hcc.nl/
DTSTAMP:20260419T181010Z
DESCRIPTION:Vanavond een voordracht van de heer Harry Diks over zijn zoekto
 cht naar zijn voorgeslacht met alle voetangels en valkuilen en briljante i
 deeen/vondsten.' Het wordt een heel ander verhaal dan de vorige maand\, ma
 ar zeker ook zo boeiend en leerzaam!\n Tip: ga naar   https://apeldoorn.hc
 c.nl/downloads/genealogie-suite   en kijk daar naar de laatste vermelding 
 in de lijst van genealogische documenten voor een bijdrage van Jan Ham ove
 r 'zoeken op internet'. https://hcc.nl/rss-events/evenement/4428-genealogi
 e
DTSTART:20240307T183000Z
DTEND:20240307T210000Z
LOCATION:NewTechPark (Vlijtseweg 148\, 7317 AK Apeldoorn)
SUMMARY:Genealogie
URL:https://hcc.nl/rss-events/evenement/4428-genealogie
END:VEVENT
END:VCALENDAR
