BEGIN:VCALENDAR
VERSION:2.0
PRODID:-//https://hcc.nl///NONSGML kigkonsult.se iCalcreator 2.10.15//
METHOD:PUBLISH
BEGIN:VEVENT
UID:20260420T132755UTC-9963Extt4M@https://hcc.nl/
DTSTAMP:20260420T132755Z
DESCRIPTION:Programmeren met uw (klein) kinderen: Steeds meer kinderen vind
 en het leuk om te programmeren. Ze maken hun eigen animaties\, verhalen\, 
 muziek en spelletjes. Programmeren bevordert het creatief\, gestructureerd
  en logisch denken\, ruimtelijk inzicht en probleemoplossend vermogen.\nPr
 ogrammeren is eigenlijk niets anders dan aangeven wat er na elkaar moet ge
 beuren.  https://hcc.nl/rss-events/evenement/4029-presentatie-maandelijkse
 -lezing
DTSTART:20240306T190000Z
DTEND:20240306T210000Z
LOCATION: ()
SUMMARY:Presentatie maandelijkse lezing
URL:https://hcc.nl/rss-events/evenement/4029-presentatie-maandelijkse-lezin
 g
END:VEVENT
BEGIN:VEVENT
UID:20260420T132755UTC-9964Evm23c@https://hcc.nl/
DTSTAMP:20260420T132755Z
DESCRIPTION:Een van de oudste behoeften van de PC is om tegen de computer t
 e kunnen praten. Geen gedoe met muis en toetsenbord\, maar gewoon praten t
 egen een computer die je dan nog verstaat ook. Maar kan dit nu ook echt?Ie
 dereen heeft vast weleens de behoefte gehad eens flink tegen zijn computer
  te schreeuwen. Maar het gekke is dat dit tegenwoordig niet alleen kan\, m
 aar dat die computer het nog verstaat ook. Spraakherkenning is daarbij de 
 achterliggende techniek die maakt dat een computer (maar ook een smartphon
 e\, andere slimme apparaten of zelfs de routeplanner in de auto --- we bep
 erken ons hier echter tot Windows!) de menselijke stem verstaat en omzet i
 n geschreven tekst of een uit te voeren actie. https://hcc.nl/rss-events/e
 venement/4241-spraakherkenning-in-windows
DTSTART:20240306T130000Z
DTEND:20240306T150000Z
LOCATION:De Schans (Troelstradreef 160\, 5237 DE 's-Hertogenbosch)
SUMMARY:Spraakherkenning in Windows
URL:https://hcc.nl/rss-events/evenement/4241-spraakherkenning-in-windows
END:VEVENT
BEGIN:VEVENT
UID:20260420T132755UTC-9965Vu4Kk3@https://hcc.nl/
DTSTAMP:20260420T132755Z
DESCRIPTION:Iedereen heeft wel eens de behoefte of de neiging om tegen een 
 apparaat te praten. Of dat nu een stofzuiger\, TV\, koffiezetapparaat of w
 asmachine is.In de meeste gevallen blijft dat zonder resultaat. De communi
 catie met dit soort apparaten verloopt namelijk door middel van knopjes\, 
 schakelaars of aanraakschermpjes etc.Maar wist je dat je tegen computers v
 andaag de dag wél kun praten\, en dat je dan ook verstaan wordt?\nAls je d
 aar meer over wil weten\, kom dan op woensdag 6 maart naar de bijeenkomst 
 van de HCC Seniorenacademie in Ede.Plaats: Het Kernhuis\, Parkrand 60Tijd:
  13:30 uur\n https://hcc.nl/rss-events/evenement/4259-spraakbesturing
DTSTART:20240306T123000Z
DTEND:20240306T143000Z
LOCATION:Het Kernhuis (Parkrand 60\, 6714 GN Ede)
SUMMARY:Spraakbesturing
URL:https://hcc.nl/rss-events/evenement/4259-spraakbesturing
END:VEVENT
BEGIN:VEVENT
UID:20260420T132755UTC-9965XL9wBx@https://hcc.nl/
DTSTAMP:20260420T132755Z
DESCRIPTION:Woensdag 6 maart 20:00 tot 23:00\nOnline\nWe houden weer een on
 line Liberty Basic sessie.\nAanmelden is niet nodig. Zie dit artikel voor 
 meer informatie. https://hcc.nl/rss-events/evenement/4348-online-liberty-b
 asic-sessie
DTSTART:20240306T190000Z
DTEND:20240306T220000Z
LOCATION:Online ()
SUMMARY:Online Liberty Basic sessie
URL:https://hcc.nl/rss-events/evenement/4348-online-liberty-basic-sessie
END:VEVENT
BEGIN:VEVENT
UID:20260420T132755UTC-9966SUan3b@https://hcc.nl/
DTSTAMP:20260420T132755Z
DESCRIPTION:Heeft u een vraag over of een probleem met uw Android apparaat?
  Onze deskundigen zitten klaar om u te helpen.\n\nInstellingen aanpassen\n
 Downloaden van apps\nUpdaten van Apps\nInstellen van e-mail\nEn nog veel m
 eer!\n https://hcc.nl/rss-events/evenement/4432-inloop-android-hulp
DTSTART:20240306T090000Z
DTEND:20240306T110000Z
LOCATION:Bibliotheek Gorinchem (Groenmarkt 1\, 4201 EE Gorinchem)
SUMMARY:Inloop Android hulp
URL:https://hcc.nl/rss-events/evenement/4432-inloop-android-hulp
END:VEVENT
END:VCALENDAR
