BEGIN:VCALENDAR
VERSION:2.0
PRODID:-//https://hcc.nl///NONSGML kigkonsult.se iCalcreator 2.10.15//
METHOD:PUBLISH
BEGIN:VEVENT
UID:20260424T170723UTC-0113VVSub8@https://hcc.nl/
DTSTAMP:20260424T170723Z
DESCRIPTION:Vrijdag\, 03 maart 2023\, 20:00 - 22:00 uur\n   \nWe houden wee
 r een online bijeenkomst over Games programmeren.\nAanmelden is niet nodig
 . Zie de voorpagina voor meer informatie. https://hcc.nl/rss-events/evenem
 ent/164-online-games-programmeren-sessie
DTSTART:20230303T190000Z
DTEND:20230303T210000Z
LOCATION: ()
SUMMARY:Online games programmeren sessie
URL:https://hcc.nl/rss-events/evenement/164-online-games-programmeren-sessi
 e
END:VEVENT
END:VCALENDAR
