BEGIN:VCALENDAR
VERSION:2.0
PRODID:-//https://hcc.nl///NONSGML kigkonsult.se iCalcreator 2.10.15//
METHOD:PUBLISH
BEGIN:VEVENT
UID:20260424T093313UTC-47097P7E2j@https://hcc.nl/
DTSTAMP:20260424T093313Z
DESCRIPTION:Je bent nu welkom in de nieuwe locatie NewTechPark\nAls je hier
  dinsdagavond voor 15.00 uur een mailtje stuurt kun je tussen 19.00 en 20.
 00 uur inloggen met Jitsi voor vragen\, of ter kennismaking met hcc!3D.\nD
 at kan dan op: https://wij.hcc.nl/3D(Alleen toegang als je zichtbaar bent 
 met voor- en achternaam. ) https://hcc.nl/rss-events/evenement/95-hybride-
 bijeenkomst
DTSTART:20230228T180000Z
DTEND:20230228T210000Z
LOCATION:NewTechPark (Vlijtseweg 148\, 7317 AK Apeldoorn)
SUMMARY:Hybride bijeenkomst
URL:https://hcc.nl/rss-events/evenement/95-hybride-bijeenkomst
END:VEVENT
BEGIN:VEVENT
UID:20260424T093313UTC-4710XVBNOE@https://hcc.nl/
DTSTAMP:20260424T093313Z
DESCRIPTION:Er is ook een 3D printer aanwezig. Vragen\, voorbeelden\, werki
 ng en testen\; het kan allemaal aan bod komen op deze avond https://hcc.nl
 /rss-events/evenement/97-inloopavond-zierikzee
DTSTART:20230228T190000Z
DTEND:20230228T210000Z
LOCATION:Scouting Jan Bakker Groep (Van Veenlaan 1\, 4301 NN Zierikzee)
SUMMARY: Inloopavond Zierikzee
URL:https://hcc.nl/rss-events/evenement/97-inloopavond-zierikzee
END:VEVENT
BEGIN:VEVENT
UID:20260424T093313UTC-47111AfLaM@https://hcc.nl/
DTSTAMP:20260424T093313Z
DESCRIPTION:Dinsdag\, 28 februari 2023 van 20:00 tot 22:30\nContact : HCC!N
 LB\n\nVoor leden met interesse en passie voor Open Source software is op d
 eze bijeenkomst ‘de’ gelegenheid om als Open Source werkgroep samen te kom
 en en elkaars kennis en handigheid op dit gebied te kunnen delen.Onder lei
 ding van werkgroep coördinator Tjeerd Hamm ervaren we samen de mooie voord
 elen en uitdagingen op het gebied van Open Source software en daaraan gere
 lateerde hardware zoals de Raspberry PI\; Open Source software is meestal 
 gratis en dus legaal te downloaden\, de broncode is vrij beschikbaar en bo
 vendien meestal vrij te bewerken en/of kopiëren. Veel deelnemers nemen een
  notebook of hun Raspberry PI mee naar de bijeenkomst om het een en ander 
 direct te kunnen uitproberen.Op de Open Source werkgroep bijeenkomsten is 
 een Wi-Fi internet verbinding aanwezig\, zodat Open Source programma's\, u
 pdates en aanvullingen ter plekke kunnen worden gedownload en (eventueel) 
 met de hulp van een andere deelnemer kunnen worden geïnstalleerd.Verder is
  het een ideale gelegenheid om met andere leden bij te praten\, ervaringen
  uit te wisselen en samen met plezier te ontdekken welke mogelijkheden er 
 allemaal zijn.De Open Source werkgroep bijeenkomsten vinden vrijwel elke 4
 e en 5e (mits die bestaat) dinsdagavond van de maand plaats o.l.v. Tjeerd 
 Hamm en starten om 20:00 uur. https://hcc.nl/rss-events/evenement/156-open
 -source-werkgroep-bijeenkomst
DTSTART:20230228T190000Z
DTEND:20230228T213000Z
LOCATION:Zalencentrum De Witte Kerk (Agnes Huijnstraat 3\, 5914 PE Venlo)
SUMMARY:Open Source werkgroep bijeenkomst
URL:https://hcc.nl/rss-events/evenement/156-open-source-werkgroep-bijeenkom
 st
END:VEVENT
BEGIN:VEVENT
UID:20260424T093313UTC-4713d12bwv@https://hcc.nl/
DTSTAMP:20260424T093313Z
DESCRIPTION:Dinsdag\, 28 februari 2023\, 10:00 - 12:00\n \nOnze inloop is b
 edoeld voor iedereen die praktische hulp en ondersteuning nodig heeft bij 
 het gebruik van tablet en smartphone.Te denken valt aan:- apps installeren
 - accounts aanmaken op uw apparaten (breng dan uw inloggegevens mee)- E-ma
 il problemen.- Instellingen aanpassen\n  https://hcc.nl/rss-events/eveneme
 nt/173-inloop-digitale-hulp
DTSTART:20230228T090000Z
DTEND:20230228T110000Z
LOCATION:Bibliotheek AanZet (Pietersweer 34\, 3371 PN Hardinxveld-Giessenda
 m)
SUMMARY:Inloop digitale hulp
URL:https://hcc.nl/rss-events/evenement/173-inloop-digitale-hulp
END:VEVENT
BEGIN:VEVENT
UID:20260424T093313UTC-4714Hpm9GL@https://hcc.nl/
DTSTAMP:20260424T093313Z
DESCRIPTION:Dinsdag\, 28 februari 2023 van 20:00 tot 22:30 uur\nContact : H
 CC!NLB\n\nVoor leden met interesse en passie voor Open Source software is 
 op deze bijeenkomst ‘de’ gelegenheid om als Open Source werkgroep samen te
  komen en elkaars kennis en handigheid op dit gebied te kunnen delen.Onder
  leiding van werkgroep coördinator Tjeerd Hamm ervaren we samen de mooie v
 oordelen en uitdagingen op het gebied van Open Source software en daaraan 
 gerelateerde hardware zoals de Raspberry PI\; Open Source software is mees
 tal gratis en dus legaal te downloaden\, de broncode is vrij beschikbaar e
 n bovendien meestal vrij te bewerken en/of kopiëren. Veel deelnemers nemen
  een notebook of hun Raspberry PI mee naar de bijeenkomst om het een en an
 der direct te kunnen uitproberen.Op de Open Source werkgroep bijeenkomsten
  is een Wi-Fi internet verbinding aanwezig\, zodat Open Source programma's
 \, updates en aanvullingen ter plekke kunnen worden gedownload en (eventue
 el) met de hulp van een andere deelnemer kunnen worden geïnstalleerd.Verde
 r is het een ideale gelegenheid om met andere leden bij te praten\, ervari
 ngen uit te wisselen en samen met plezier te ontdekken welke mogelijkheden
  er allemaal zijn.De Open Source werkgroep bijeenkomsten vinden vrijwel el
 ke 4e en 5e (mits die bestaat) dinsdagavond van de maand plaats o.l.v. Tje
 erd Hamm en starten om 20:00 uur. https://hcc.nl/rss-events/evenement/176-
 open-source-werkgroep-bijeenkomst
DTSTART:20230228T190000Z
DTEND:20230228T213000Z
LOCATION:De Witte Kerk (Agnes Huijnstraat 3\, 5914 PE Venlo)
SUMMARY:Open Source werkgroep bijeenkomst
URL:https://hcc.nl/rss-events/evenement/176-open-source-werkgroep-bijeenkom
 st
END:VEVENT
END:VCALENDAR
