BEGIN:VCALENDAR
VERSION:2.0
PRODID:-//https://hcc.nl///NONSGML kigkonsult.se iCalcreator 2.10.15//
METHOD:PUBLISH
BEGIN:VEVENT
UID:20260423T230329UTC-0748TMju6z@https://hcc.nl/
DTSTAMP:20260423T230329Z
DESCRIPTION:De Noord-Hollandse Modelspoordagen worden in 2023 alweer voor d
 e elfde keer georganiseerd door vier Noord-Hollandse modelbouwverenigingen
  die elk een modulebaan tentoonstellen\, aangevuld met een aantal gastbane
 n o.a. HCC!m\, demo's en een grote ruilbeurs. Het evenement is zo langzame
 rhand een begrip geworden in Noord-Holland en ver daarbuiten.\nOp zaterdag
  25 februari en zondag 26 februari 2023 is de HCC!trainsim te gast bij onz
 e collega's van de HCC!modelbaanautomatisering bij dit evenement.\nOpening
 stijd: 10.00 - 16.00 uur.\nWil je meer informatie over dit evenement\, bek
 ijk dan de website van de organisatie:http://www.noordhollandsemodelspoord
 agen.nl/ https://hcc.nl/rss-events/evenement/79-noord-hollandse-modelspoor
 dagen-alkmaar
DTSTART:20230226T090000Z
DTEND:20230226T150000Z
LOCATION:OGS Willem Blaeu (Robonsbosweg 11\, 1816 MK Alkmaar)
SUMMARY:Noord-Hollandse Modelspoordagen Alkmaar
URL:https://hcc.nl/rss-events/evenement/79-noord-hollandse-modelspoordagen-
 alkmaar
END:VEVENT
END:VCALENDAR
