BEGIN:VCALENDAR
VERSION:2.0
PRODID:-//https://hcc.nl///NONSGML kigkonsult.se iCalcreator 2.10.15//
METHOD:PUBLISH
BEGIN:VEVENT
UID:20260423T212650UTC-2948Sn02v6@https://hcc.nl/
DTSTAMP:20260423T212650Z
DESCRIPTION:De Noord-Hollandse Modelspoordagen worden in 2023 alweer voor d
 e elfde keer georganiseerd door vier Noord-Hollandse modelbouwverenigingen
  die elk een modulebaan tentoonstellen\, aangevuld met een aantal gastbane
 n o.a. HCC!m\, demo's en een grote ruilbeurs. Het evenement is zo langzame
 rhand een begrip geworden in Noord-Holland en ver daarbuiten.\nOp zaterdag
  25 februari en zondag 26 februari 2023 is de HCC!trainsim te gast bij onz
 e collega's van de HCC!modelbaanautomatisering bij dit evenement.\nOpening
 stijd: 10.00 - 16.00 uur.\nWil je meer informatie over dit evenement\, bek
 ijk dan de website van de organisatie:http://www.noordhollandsemodelspoord
 agen.nl/ https://hcc.nl/rss-events/evenement/77-noord-hollandse-modelspoor
 dagen-alkmaar
DTSTART:20230225T090000Z
DTEND:20230225T150000Z
LOCATION:OGS Willem Blaeu (Robonsbosweg 11\, 1816 MK Alkmaar)
SUMMARY:Noord-Hollandse Modelspoordagen Alkmaar
URL:https://hcc.nl/rss-events/evenement/77-noord-hollandse-modelspoordagen-
 alkmaar
END:VEVENT
BEGIN:VEVENT
UID:20260423T212650UTC-2949RjSGnZ@https://hcc.nl/
DTSTAMP:20260423T212650Z
DESCRIPTION:We houden weer een online bijeenkomst over Pascal.\nAanmelden i
 s niet nodig.\nZie voor meer informatie https://programmeren.hcc.nl https:
 //hcc.nl/rss-events/evenement/81-online-pascal-sessie
DTSTART:20230225T180000Z
DTEND:20230225T200000Z
LOCATION: ()
SUMMARY:Online Pascal sessie
URL:https://hcc.nl/rss-events/evenement/81-online-pascal-sessie
END:VEVENT
END:VCALENDAR
