BEGIN:VCALENDAR
VERSION:2.0
PRODID:-//https://hcc.nl///NONSGML kigkonsult.se iCalcreator 2.10.15//
METHOD:PUBLISH
BEGIN:VEVENT
UID:20260424T004718UTC-3951AU57dK@https://hcc.nl/
DTSTAMP:20260424T004718Z
DESCRIPTION:We houden weer een online bijeenkomst over Games programmeren.A
 anmelden is niet nodig. Zie voor meer informatie https://programmeren.hcc.
 nl https://hcc.nl/rss-events/evenement/75-online-games-programmeren-sessie
DTSTART:20230224T190000Z
DTEND:20230224T210000Z
LOCATION: ()
SUMMARY:Online Games programmeren sessie
URL:https://hcc.nl/rss-events/evenement/75-online-games-programmeren-sessie
END:VEVENT
END:VCALENDAR
