BEGIN:VCALENDAR
VERSION:2.0
PRODID:-//https://hcc.nl///NONSGML kigkonsult.se iCalcreator 2.10.15//
METHOD:PUBLISH
BEGIN:VEVENT
UID:20260423T182105UTC-457662lfVA@https://hcc.nl/
DTSTAMP:20260423T182105Z
DESCRIPTION: https://hcc.nl/rss-events/evenement/10-jitsi-overleg-hobbynet
DTSTART:20230216T110000Z
DTEND:20230216T120000Z
LOCATION:Bit Ede (Galileïlaan 19\, 6716 BP Ede)
SUMMARY:Jitsi overleg Hobbynet
URL:https://hcc.nl/rss-events/evenement/10-jitsi-overleg-hobbynet
END:VEVENT
END:VCALENDAR
