BEGIN:VCALENDAR
VERSION:2.0
PRODID:-//https://hcc.nl///NONSGML kigkonsult.se iCalcreator 2.10.15//
METHOD:PUBLISH
BEGIN:VEVENT
UID:20260426T021407UTC-0881u8pa5s@https://hcc.nl/
DTSTAMP:20260426T021407Z
DESCRIPTION:Wij verwelkomen u op onze locatie in Soest\,\nRuim van opzet\, 
 met voldoende ruimte om modelspoorbanen op te zetten en workshops en lezin
 gen te houden.\nDeze locatie wordt op door de weekse dagen gebruikt door d
 e EHBO afd. Soest is goed bereikbaar zowel met auto als met NS-spoor (± 10
  min. lopen) achter het pand is een ruime gratis parkeerterrein via de zij
 kant loopt u naar de hoofdingang.\nNaast workshops en demonstraties worden
  er ook lezingen gegeven.\nLezing en workshop: nog niet bekend.  https://h
 cc.nl/component/rseventspro/evenement/9943-ledenbijeenkomst-in-soest?Itemi
 d=101
DTSTART:20261017T080000Z
DTEND:20261017T130000Z
LOCATION:HCC!m Soest (Molenstraat 8\, 3764 TG Soest)
SUMMARY:Ledenbijeenkomst in Soest
URL:https://hcc.nl/component/rseventspro/evenement/9943-ledenbijeenkomst-in
 -soest?Itemid=101
END:VEVENT
BEGIN:VEVENT
UID:20260426T021407UTC-0882Vr2a9K@https://hcc.nl/
DTSTAMP:20260426T021407Z
DESCRIPTION:Commodore\, Amiga\, MSX en Atari dag https://hcc.nl/component/r
 seventspro/evenement/10756-clubdag?Itemid=101
DTSTART:20261017T080000Z
DTEND:20261017T140000Z
LOCATION:Wijkcentrum  't Schuurtje (Zwanenkamp 1301\, 3607 NZ Maarssen)
SUMMARY:Clubdag
URL:https://hcc.nl/component/rseventspro/evenement/10756-clubdag?Itemid=101
END:VEVENT
END:VCALENDAR
