BEGIN:VCALENDAR
VERSION:2.0
PRODID:-//https://hcc.nl///NONSGML kigkonsult.se iCalcreator 2.10.15//
METHOD:PUBLISH
BEGIN:VEVENT
UID:20260426T021417UTC-0404hxjNpF@https://hcc.nl/
DTSTAMP:20260426T021417Z
DESCRIPTION:Nadere info volgt nog https://hcc.nl/component/rseventspro/even
 ement/10120-hcc-kennisdag?Itemid=101
DTSTART:20261003T080000Z
DTEND:20261003T140000Z
LOCATION:Expo Houten (Meidoornkade 24\, 3992 AE Houten)
SUMMARY:HCC!kennisdag
URL:https://hcc.nl/component/rseventspro/evenement/10120-hcc-kennisdag?Item
 id=101
END:VEVENT
END:VCALENDAR
